BEGIN:VCALENDAR
VERSION:2.0
PRODID:-//Fordham Now - ECPv6.15.20//NONSGML v1.0//EN
CALSCALE:GREGORIAN
METHOD:PUBLISH
X-WR-CALNAME:Fordham Now
X-ORIGINAL-URL:https://newsuat.fordham.edu
X-WR-CALDESC:Events for Fordham Now
REFRESH-INTERVAL;VALUE=DURATION:PT1H
X-Robots-Tag:noindex
X-PUBLISHED-TTL:PT1H
BEGIN:VTIMEZONE
TZID:America/New_York
BEGIN:DAYLIGHT
TZOFFSETFROM:-0500
TZOFFSETTO:-0400
TZNAME:EDT
DTSTART:20220313T070000
END:DAYLIGHT
BEGIN:STANDARD
TZOFFSETFROM:-0400
TZOFFSETTO:-0500
TZNAME:EST
DTSTART:20221106T060000
END:STANDARD
BEGIN:DAYLIGHT
TZOFFSETFROM:-0500
TZOFFSETTO:-0400
TZNAME:EDT
DTSTART:20230312T070000
END:DAYLIGHT
BEGIN:STANDARD
TZOFFSETFROM:-0400
TZOFFSETTO:-0500
TZNAME:EST
DTSTART:20231105T060000
END:STANDARD
BEGIN:DAYLIGHT
TZOFFSETFROM:-0500
TZOFFSETTO:-0400
TZNAME:EDT
DTSTART:20240310T070000
END:DAYLIGHT
BEGIN:STANDARD
TZOFFSETFROM:-0400
TZOFFSETTO:-0500
TZNAME:EST
DTSTART:20241103T060000
END:STANDARD
END:VTIMEZONE
BEGIN:VEVENT
DTSTART;TZID=America/New_York:20230328T190000
DTEND;TZID=America/New_York:20230328T220000
DTSTAMP:20260420T011702
CREATED:20230203T165813Z
LAST-MODIFIED:20230203T165813Z
UID:10004962-1680030000-1680040800@newsuat.fordham.edu
SUMMARY:Sancocho Outing with MOSAIC
DESCRIPTION:Join MOSAIC in attending Sancocho by Christin Eve Cato\, FCRH ’09. \nA family tension\, simmering between two Puerto Rican sisters\, finally comes to a boil. Forced to confront the reality of their father’s rapidly declining health\, Renata and Caridad clash over cultural divides\, unearth old wounds\, and reveal long-buried secrets. As Caridad’s sancocho bubbles on the stove\, will the two sisters reconcile their past resentments to face their uncertain futures\, together? \nHope to see you all there!
URL:https://newsuat.fordham.edu/event/sancocho-outing-with-mosaic/
LOCATION:WP Theater\, 2162 Broadway\, 4th Floor\, New York\, NY\, 10024\, United States
CATEGORIES:Cultural
ORGANIZER;CN="Taylor Palmer":MAILTO:tpalmer7@fordham.edu
END:VEVENT
END:VCALENDAR