BEGIN:VCALENDAR
VERSION:2.0
PRODID:-//Fordham Now - ECPv6.15.20//NONSGML v1.0//EN
CALSCALE:GREGORIAN
METHOD:PUBLISH
X-ORIGINAL-URL:https://newsuat.fordham.edu
X-WR-CALDESC:Events for Fordham Now
REFRESH-INTERVAL;VALUE=DURATION:PT1H
X-Robots-Tag:noindex
X-PUBLISHED-TTL:PT1H
BEGIN:VTIMEZONE
TZID:America/New_York
BEGIN:DAYLIGHT
TZOFFSETFROM:-0500
TZOFFSETTO:-0400
TZNAME:EDT
DTSTART:20180311T070000
END:DAYLIGHT
BEGIN:STANDARD
TZOFFSETFROM:-0400
TZOFFSETTO:-0500
TZNAME:EST
DTSTART:20181104T060000
END:STANDARD
BEGIN:DAYLIGHT
TZOFFSETFROM:-0500
TZOFFSETTO:-0400
TZNAME:EDT
DTSTART:20190310T070000
END:DAYLIGHT
BEGIN:STANDARD
TZOFFSETFROM:-0400
TZOFFSETTO:-0500
TZNAME:EST
DTSTART:20191103T060000
END:STANDARD
BEGIN:DAYLIGHT
TZOFFSETFROM:-0500
TZOFFSETTO:-0400
TZNAME:EDT
DTSTART:20200308T070000
END:DAYLIGHT
BEGIN:STANDARD
TZOFFSETFROM:-0400
TZOFFSETTO:-0500
TZNAME:EST
DTSTART:20201101T060000
END:STANDARD
END:VTIMEZONE
BEGIN:VEVENT
DTSTART;TZID=America/New_York:20190516T180000
DTEND;TZID=America/New_York:20190516T200000
DTSTAMP:20260425T160030
CREATED:20190402T123532Z
LAST-MODIFIED:20190402T123532Z
UID:10007023-1558029600-1558036800@newsuat.fordham.edu
SUMMARY:Alumni Chapter of Washington\, D.C.: Spring Third Thursday Happy Hour
DESCRIPTION:Join the Alumni Chapter of Washington\, D.C.\, for a spring happy hour in the city’s beautiful wharf on the southwest waterfront! \nThis event will feature a cash bar; appetizers will be provided by the alumni chapter. \nPlease RSVP by Tuesday\, May 14\, so we know how many appetizers to order.
URL:https://newsuat.fordham.edu/event/alumni-chapter-of-washington-d-c-spring-third-thursday-happy-hour/
LOCATION:Whiskey Charlie\, 975 7th Street SW\, Washington\, DC\, 20024\, United States
CATEGORIES:Receptions,Social
ORGANIZER;CN="Alumni Chapter of Washington%2C D.C.":MAILTO:fordham.club.dc@gmail.com
END:VEVENT
END:VCALENDAR