BEGIN:VCALENDAR
VERSION:2.0
PRODID:-//Fordham Now - ECPv6.15.20//NONSGML v1.0//EN
CALSCALE:GREGORIAN
METHOD:PUBLISH
X-ORIGINAL-URL:https://newsuat.fordham.edu
X-WR-CALDESC:Events for Fordham Now
REFRESH-INTERVAL;VALUE=DURATION:PT1H
X-Robots-Tag:noindex
X-PUBLISHED-TTL:PT1H
BEGIN:VTIMEZONE
TZID:America/New_York
BEGIN:DAYLIGHT
TZOFFSETFROM:-0500
TZOFFSETTO:-0400
TZNAME:EDT
DTSTART:20150308T070000
END:DAYLIGHT
BEGIN:STANDARD
TZOFFSETFROM:-0400
TZOFFSETTO:-0500
TZNAME:EST
DTSTART:20151101T060000
END:STANDARD
BEGIN:DAYLIGHT
TZOFFSETFROM:-0500
TZOFFSETTO:-0400
TZNAME:EDT
DTSTART:20160313T070000
END:DAYLIGHT
BEGIN:STANDARD
TZOFFSETFROM:-0400
TZOFFSETTO:-0500
TZNAME:EST
DTSTART:20161106T060000
END:STANDARD
BEGIN:DAYLIGHT
TZOFFSETFROM:-0500
TZOFFSETTO:-0400
TZNAME:EDT
DTSTART:20170312T070000
END:DAYLIGHT
BEGIN:STANDARD
TZOFFSETFROM:-0400
TZOFFSETTO:-0500
TZNAME:EST
DTSTART:20171105T060000
END:STANDARD
BEGIN:DAYLIGHT
TZOFFSETFROM:-0500
TZOFFSETTO:-0400
TZNAME:EDT
DTSTART:20180311T070000
END:DAYLIGHT
BEGIN:STANDARD
TZOFFSETFROM:-0400
TZOFFSETTO:-0500
TZNAME:EST
DTSTART:20181104T060000
END:STANDARD
END:VTIMEZONE
BEGIN:VEVENT
DTSTART;TZID=America/New_York:20170621T180000
DTEND;TZID=America/New_York:20170621T190000
DTSTAMP:20260423T111853
CREATED:20170613T181136Z
LAST-MODIFIED:20170613T181136Z
UID:10006014-1498068000-1498071600@newsuat.fordham.edu
SUMMARY:7 Practical Tips for Digital and Social Marketing Success
DESCRIPTION:Social media options and choices are changing rapidly with new entrants and new functionality hitting the market every week. “7 Practical Tips for Digital and Social Marketing Success” will review the social media landscape and showcase best practices\, critical trends and winning strategies for channels such as Facebook\, Twitter\, LinkedIn\, Snapchat\, Instagram\, messaging apps and live-streaming video platforms. \nThe free event will be hosted by Robin Colner\, founder and director of Fordham’s Digital & Social Media Marketing Professional Certificate Program\, which is housed in PCS. During the event\, Colner will also share her top digital marketing tips for small businesses. \nCo-sponsored by the School of Professional and Continuing Studies (PCS) and the New York State Small Business Development Center.
URL:https://newsuat.fordham.edu/event/7-practical-tips-for-digital-and-social-marketing-success/
LOCATION:Westchester Room 228\, 400 Westchester Avenue\, West Harrison\, NY\, 10604\, United States
GEO:41.0291999;-73.7287287
X-APPLE-STRUCTURED-LOCATION;VALUE=URI;X-ADDRESS=Westchester Room 228 400 Westchester Avenue West Harrison NY 10604 United States;X-APPLE-RADIUS=500;X-TITLE=400 Westchester Avenue:geo:-73.7287287,41.0291999
END:VEVENT
BEGIN:VEVENT
DTSTART;TZID=America/New_York:20161023T140000
DTEND;TZID=America/New_York:20161023T153000
DTSTAMP:20260423T111853
CREATED:20161013T153243Z
LAST-MODIFIED:20161013T153243Z
UID:10005772-1477231200-1477236600@newsuat.fordham.edu
SUMMARY:Social Justice Organizing Tapestry: From Police Reform to Worker's Rights
DESCRIPTION:The term “organizing” has inspired new momentum as people search for ways to pursue social justice against many forms of institutionalized oppression – Black Lives Matter\, reproductive rights\, LGBTQ rights among others. \nAlthough organizing has always been a part of strategies for change\, the tactics and outcomes are often not addressed or formalized within the context of a campaign. \nPlease join us for a panel presentation of different social justice campaign models\, each employing different tactics and varying levels of success and/or implementation outcomes. Our discussion will also highlight these organizing initiatives as an art form\, (ex. The “Hip Hop Movement” in Cuba) open to us all as extensions of our commitment\, creativity and self-reflection about our role in society. \nHosted by Fordham School of Professional and Continuing Studies – Westchester
URL:https://newsuat.fordham.edu/event/social-justice-organizing-tapestry-from-police-reform-to-workers-rights/
LOCATION:Westchester Room 228\, 400 Westchester Avenue\, West Harrison\, NY\, 10604\, United States
ATTACH;FMTTYPE=image/jpeg:https://newsuat.fordham.edu/wp-content/uploads/2016/10/A-Social-Justice-Organizing-Tapestry-From-Police-Reform-to-Worker’s-Rights.jpg
ORGANIZER;CN="Nicole Bryan":MAILTO:nbryan4@fordham.edu
GEO:41.0291999;-73.7287287
X-APPLE-STRUCTURED-LOCATION;VALUE=URI;X-ADDRESS=Westchester Room 228 400 Westchester Avenue West Harrison NY 10604 United States;X-APPLE-RADIUS=500;X-TITLE=400 Westchester Avenue:geo:-73.7287287,41.0291999
END:VEVENT
BEGIN:VEVENT
DTSTART;TZID=America/New_York:20160917T093000
DTEND;TZID=America/New_York:20160917T130000
DTSTAMP:20260423T111853
CREATED:20160912T153133Z
LAST-MODIFIED:20160912T153133Z
UID:10005732-1474104600-1474117200@newsuat.fordham.edu
SUMMARY:Social Media Marketing I: An Introduction to Platforms\, Tactics\, and Tools - Session #1
DESCRIPTION:Part of the PCS Fall 2016 Digital and Social Media Professional Certificate Program.\nThe social media revolution has transformed the buying process and changed the way consumers discover and choose products and services.  For more information\, visit this site.
URL:https://newsuat.fordham.edu/event/social-media-marketing-i-an-introduction-to-platforms-tactics-and-tools-session-1/
LOCATION:Westchester Room 228\, 400 Westchester Avenue\, West Harrison\, NY\, 10604\, United States
GEO:41.0291999;-73.7287287
X-APPLE-STRUCTURED-LOCATION;VALUE=URI;X-ADDRESS=Westchester Room 228 400 Westchester Avenue West Harrison NY 10604 United States;X-APPLE-RADIUS=500;X-TITLE=400 Westchester Avenue:geo:-73.7287287,41.0291999
END:VEVENT
BEGIN:VEVENT
DTSTART;TZID=America/New_York:20160914T180000
DTEND;TZID=America/New_York:20160914T190000
DTSTAMP:20260423T111853
CREATED:20160912T152035Z
LAST-MODIFIED:20160912T152035Z
UID:10005726-1473876000-1473879600@newsuat.fordham.edu
SUMMARY:PCS Student Workshop "Academic Integrity-Safeguarding Against Plagiarism"
DESCRIPTION:This workshop will help students understand what academic integrity entails\, and how they can avoid the pitfalls of plagiarism.  Not only will we discuss these concepts\, but we will practice proper quotation\, documentation\, and paraphrasing exercises to put theory into practice.
URL:https://newsuat.fordham.edu/event/pcs-student-workshop-academic-integrity-safeguarding-against-plagiarism/
LOCATION:Westchester Room 228\, 400 Westchester Avenue\, West Harrison\, NY\, 10604\, United States
GEO:41.0291999;-73.7287287
X-APPLE-STRUCTURED-LOCATION;VALUE=URI;X-ADDRESS=Westchester Room 228 400 Westchester Avenue West Harrison NY 10604 United States;X-APPLE-RADIUS=500;X-TITLE=400 Westchester Avenue:geo:-73.7287287,41.0291999
END:VEVENT
BEGIN:VEVENT
DTSTART;TZID=America/New_York:20160309T113000
DTEND;TZID=America/New_York:20160309T160000
DTSTAMP:20260423T111853
CREATED:20160308T201330Z
LAST-MODIFIED:20160308T201330Z
UID:10005441-1457523000-1457539200@newsuat.fordham.edu
SUMMARY:Conference: Practice Across the Lifespan: Intergenerational Work in Action
DESCRIPTION:Fordham’s Ravazzin Center on Aging and Children FIRST will co-host a series of lectures and break out sessions that will focus on merging national policy and best practices for children and the elderly.
URL:https://newsuat.fordham.edu/event/conference-practice-across-the-lifespan-intergenerational-work-in-action/
LOCATION:Westchester Room 228\, 400 Westchester Avenue\, West Harrison\, NY\, 10604\, United States
GEO:41.0291999;-73.7287287
X-APPLE-STRUCTURED-LOCATION;VALUE=URI;X-ADDRESS=Westchester Room 228 400 Westchester Avenue West Harrison NY 10604 United States;X-APPLE-RADIUS=500;X-TITLE=400 Westchester Avenue:geo:-73.7287287,41.0291999
END:VEVENT
END:VCALENDAR