BEGIN:VCALENDAR
VERSION:2.0
PRODID:-//Fordham Now - ECPv6.15.20//NONSGML v1.0//EN
CALSCALE:GREGORIAN
METHOD:PUBLISH
X-WR-CALNAME:Fordham Now
X-ORIGINAL-URL:https://newsuat.fordham.edu
X-WR-CALDESC:Events for Fordham Now
REFRESH-INTERVAL;VALUE=DURATION:PT1H
X-Robots-Tag:noindex
X-PUBLISHED-TTL:PT1H
BEGIN:VTIMEZONE
TZID:America/New_York
BEGIN:DAYLIGHT
TZOFFSETFROM:-0500
TZOFFSETTO:-0400
TZNAME:EDT
DTSTART:20180311T070000
END:DAYLIGHT
BEGIN:STANDARD
TZOFFSETFROM:-0400
TZOFFSETTO:-0500
TZNAME:EST
DTSTART:20181104T060000
END:STANDARD
BEGIN:DAYLIGHT
TZOFFSETFROM:-0500
TZOFFSETTO:-0400
TZNAME:EDT
DTSTART:20190310T070000
END:DAYLIGHT
BEGIN:STANDARD
TZOFFSETFROM:-0400
TZOFFSETTO:-0500
TZNAME:EST
DTSTART:20191103T060000
END:STANDARD
BEGIN:DAYLIGHT
TZOFFSETFROM:-0500
TZOFFSETTO:-0400
TZNAME:EDT
DTSTART:20200308T070000
END:DAYLIGHT
BEGIN:STANDARD
TZOFFSETFROM:-0400
TZOFFSETTO:-0500
TZNAME:EST
DTSTART:20201101T060000
END:STANDARD
END:VTIMEZONE
BEGIN:VEVENT
DTSTART;TZID=America/New_York:20190219T173000
DTEND;TZID=America/New_York:20190219T173000
DTSTAMP:20260425T223012
CREATED:20190116T210148Z
LAST-MODIFIED:20190116T210148Z
UID:10006857-1550597400-1550597400@newsuat.fordham.edu
SUMMARY:RESCHEDULED: Alumni Chapter of Albany: Re-Inaugural Happy Hour
DESCRIPTION:Please join your fellow Fordham alumni for a re-inaugural happy hour at Wellington’s. We are looking forward to rebuilding our Fordham Family in Albany and the larger region. Family and friends are welcome to join. \nThere will be a cash bar and the Office of Alumni Relations will provide appetizers. \nRSVP by Tuesday\, February 5\, 2019. \nThis event has been rescheduled from its original date of February 12\, 2019\, to February 19\, 2019.
URL:https://newsuat.fordham.edu/event/alumni-chapter-of-albany-re-inaugural-happy-hour/
LOCATION:Wellington’s\, 144 State Street\, Albany\, NY\, 12207\, United States
CATEGORIES:Social
ORGANIZER;CN="Alumni Chapter of Albany":MAILTO:catherine.helmer@gmail.com
END:VEVENT
END:VCALENDAR