BEGIN:VCALENDAR
VERSION:2.0
PRODID:-//Fordham Now - ECPv6.15.20//NONSGML v1.0//EN
CALSCALE:GREGORIAN
METHOD:PUBLISH
X-WR-CALNAME:Fordham Now
X-ORIGINAL-URL:https://newsuat.fordham.edu
X-WR-CALDESC:Events for Fordham Now
REFRESH-INTERVAL;VALUE=DURATION:PT1H
X-Robots-Tag:noindex
X-PUBLISHED-TTL:PT1H
BEGIN:VTIMEZONE
TZID:America/Los_Angeles
BEGIN:DAYLIGHT
TZOFFSETFROM:-0800
TZOFFSETTO:-0700
TZNAME:PDT
DTSTART:20220313T100000
END:DAYLIGHT
BEGIN:STANDARD
TZOFFSETFROM:-0700
TZOFFSETTO:-0800
TZNAME:PST
DTSTART:20221106T090000
END:STANDARD
BEGIN:DAYLIGHT
TZOFFSETFROM:-0800
TZOFFSETTO:-0700
TZNAME:PDT
DTSTART:20230312T100000
END:DAYLIGHT
BEGIN:STANDARD
TZOFFSETFROM:-0700
TZOFFSETTO:-0800
TZNAME:PST
DTSTART:20231105T090000
END:STANDARD
BEGIN:DAYLIGHT
TZOFFSETFROM:-0800
TZOFFSETTO:-0700
TZNAME:PDT
DTSTART:20240310T100000
END:DAYLIGHT
BEGIN:STANDARD
TZOFFSETFROM:-0700
TZOFFSETTO:-0800
TZNAME:PST
DTSTART:20241103T090000
END:STANDARD
END:VTIMEZONE
BEGIN:VEVENT
DTSTART;TZID=America/Los_Angeles:20230511T180000
DTEND;TZID=America/Los_Angeles:20230511T200000
DTSTAMP:20260421T222518
CREATED:20230417T152727Z
LAST-MODIFIED:20230417T152727Z
UID:10005094-1683828000-1683835200@newsuat.fordham.edu
SUMMARY:Alumni Chapter of San Diego: 2023 Spring Happy Hour
DESCRIPTION:Fordham Alumni of San Diego: Our spring 2023 happy hour has arrived! Please join us for beverages\, snacks\, and good times as we celebrate our local community of Rams! For those who haven’t been\, Viewpoint Brewing is situated in a beautiful location in Del Mar\, offering spectacular views\, innovative food\, and an eclectic mix of beers. \nThis event cost includes a selection of appetizers. A cash bar and full-service restaurant will be available\, and there is plenty of free parking. Hope to see you there! \nPlease consider making a gift of $25 or more to support Cura Personalis | For Every Fordham Student.
URL:https://newsuat.fordham.edu/event/alumni-chapter-of-san-diego-2023-spring-happy-hour/
LOCATION:Viewpoint Brewing Co.\, 2201 San Dieguito Drive\, Suite D\, Del Mar\, CA\, 92014\, United States
CATEGORIES:Social
ORGANIZER;CN="Ryan Gotschall":MAILTO:gotschall@fordham.edu
END:VEVENT
END:VCALENDAR