BEGIN:VCALENDAR
VERSION:2.0
PRODID:-//Fordham Now - ECPv6.15.20//NONSGML v1.0//EN
CALSCALE:GREGORIAN
METHOD:PUBLISH
X-WR-CALNAME:Fordham Now
X-ORIGINAL-URL:https://newsuat.fordham.edu
X-WR-CALDESC:Events for Fordham Now
REFRESH-INTERVAL;VALUE=DURATION:PT1H
X-Robots-Tag:noindex
X-PUBLISHED-TTL:PT1H
BEGIN:VTIMEZONE
TZID:America/New_York
BEGIN:DAYLIGHT
TZOFFSETFROM:-0500
TZOFFSETTO:-0400
TZNAME:EDT
DTSTART:20190310T070000
END:DAYLIGHT
BEGIN:STANDARD
TZOFFSETFROM:-0400
TZOFFSETTO:-0500
TZNAME:EST
DTSTART:20191103T060000
END:STANDARD
BEGIN:DAYLIGHT
TZOFFSETFROM:-0500
TZOFFSETTO:-0400
TZNAME:EDT
DTSTART:20200308T070000
END:DAYLIGHT
BEGIN:STANDARD
TZOFFSETFROM:-0400
TZOFFSETTO:-0500
TZNAME:EST
DTSTART:20201101T060000
END:STANDARD
BEGIN:DAYLIGHT
TZOFFSETFROM:-0500
TZOFFSETTO:-0400
TZNAME:EDT
DTSTART:20210314T070000
END:DAYLIGHT
BEGIN:STANDARD
TZOFFSETFROM:-0400
TZOFFSETTO:-0500
TZNAME:EST
DTSTART:20211107T060000
END:STANDARD
END:VTIMEZONE
BEGIN:VEVENT
DTSTART;TZID=America/New_York:20200419T160000
DTEND;TZID=America/New_York:20200419T200000
DTSTAMP:20260424T225506
CREATED:20200312T171749Z
LAST-MODIFIED:20200312T171749Z
UID:10003951-1587312000-1587326400@newsuat.fordham.edu
SUMMARY:POSTPONED: Alumni Chapter of Boston: 2020 Boston Time Out Market Outing
DESCRIPTION:Join fellow Rams during Patriots’ Day Weekend at the Time Out Market in the Fenway area. \nThis is a great opportunity to catch up with old Fordham friends and meet local alumni while enjoying some of Boston’s best food and drinks! \nThe event costs $30 per person and includes a selection of appetizers. There will be a cash bar available.
URL:https://newsuat.fordham.edu/event/postponed-alumni-chapter-of-boston-2020-boston-time-out-market-outing/
LOCATION:Time Out Market Boston\, 401 Park Drive\, Boston\, MA\, 02215\, United States
CATEGORIES:Receptions,Social
ORGANIZER;CN="Siobhan Coleman":MAILTO:siobhanc63@gmail.com
END:VEVENT
END:VCALENDAR