BEGIN:VCALENDAR
VERSION:2.0
PRODID:-//Fordham Now - ECPv6.15.20//NONSGML v1.0//EN
CALSCALE:GREGORIAN
METHOD:PUBLISH
X-ORIGINAL-URL:https://newsuat.fordham.edu
X-WR-CALDESC:Events for Fordham Now
REFRESH-INTERVAL;VALUE=DURATION:PT1H
X-Robots-Tag:noindex
X-PUBLISHED-TTL:PT1H
BEGIN:VTIMEZONE
TZID:America/New_York
BEGIN:DAYLIGHT
TZOFFSETFROM:-0500
TZOFFSETTO:-0400
TZNAME:EDT
DTSTART:20180311T070000
END:DAYLIGHT
BEGIN:STANDARD
TZOFFSETFROM:-0400
TZOFFSETTO:-0500
TZNAME:EST
DTSTART:20181104T060000
END:STANDARD
BEGIN:DAYLIGHT
TZOFFSETFROM:-0500
TZOFFSETTO:-0400
TZNAME:EDT
DTSTART:20190310T070000
END:DAYLIGHT
BEGIN:STANDARD
TZOFFSETFROM:-0400
TZOFFSETTO:-0500
TZNAME:EST
DTSTART:20191103T060000
END:STANDARD
BEGIN:DAYLIGHT
TZOFFSETFROM:-0500
TZOFFSETTO:-0400
TZNAME:EDT
DTSTART:20200308T070000
END:DAYLIGHT
BEGIN:STANDARD
TZOFFSETFROM:-0400
TZOFFSETTO:-0500
TZNAME:EST
DTSTART:20201101T060000
END:STANDARD
END:VTIMEZONE
BEGIN:VEVENT
DTSTART;TZID=America/New_York:20190216T133000
DTEND;TZID=America/New_York:20190216T133000
DTSTAMP:20260424T063924
CREATED:20190122T144017Z
LAST-MODIFIED:20190122T144017Z
UID:10006858-1550323800-1550323800@newsuat.fordham.edu
SUMMARY:Alumni Chapter of Hartford: Men's Basketball Game Watch
DESCRIPTION:Join the Alumni Chapter of Hartford to watch our Fordham Rams take on the University of Rhode Island Rams in men’s basketball. Appetizers will be available thanks to the Office of Alumni Relations\, and there will be a cash bar. \nRSVP by Friday\, February 8\, 2019.
URL:https://newsuat.fordham.edu/event/alumni-chapter-of-hartford-mens-basketball-game-watch/
LOCATION:The Tavern Downtown\, 201 Ann Uccello Street\, Hartford\, CT\, 06103\, United States
CATEGORIES:Athletics,Social
ORGANIZER;CN="Alumni Chapter of Hartford":MAILTO:fordhamalumsct@gmail.com
END:VEVENT
END:VCALENDAR