BEGIN:VCALENDAR
VERSION:2.0
PRODID:-//Fordham Now - ECPv6.15.20//NONSGML v1.0//EN
CALSCALE:GREGORIAN
METHOD:PUBLISH
X-WR-CALNAME:Fordham Now
X-ORIGINAL-URL:https://newsuat.fordham.edu
X-WR-CALDESC:Events for Fordham Now
REFRESH-INTERVAL;VALUE=DURATION:PT1H
X-Robots-Tag:noindex
X-PUBLISHED-TTL:PT1H
BEGIN:VTIMEZONE
TZID:America/New_York
BEGIN:DAYLIGHT
TZOFFSETFROM:-0500
TZOFFSETTO:-0400
TZNAME:EDT
DTSTART:20200308T070000
END:DAYLIGHT
BEGIN:STANDARD
TZOFFSETFROM:-0400
TZOFFSETTO:-0500
TZNAME:EST
DTSTART:20201101T060000
END:STANDARD
BEGIN:DAYLIGHT
TZOFFSETFROM:-0500
TZOFFSETTO:-0400
TZNAME:EDT
DTSTART:20210314T070000
END:DAYLIGHT
BEGIN:STANDARD
TZOFFSETFROM:-0400
TZOFFSETTO:-0500
TZNAME:EST
DTSTART:20211107T060000
END:STANDARD
BEGIN:DAYLIGHT
TZOFFSETFROM:-0500
TZOFFSETTO:-0400
TZNAME:EDT
DTSTART:20220313T070000
END:DAYLIGHT
BEGIN:STANDARD
TZOFFSETFROM:-0400
TZOFFSETTO:-0500
TZNAME:EST
DTSTART:20221106T060000
END:STANDARD
END:VTIMEZONE
BEGIN:VEVENT
DTSTART;TZID=America/New_York:20211027T183000
DTEND;TZID=America/New_York:20211027T203000
DTSTAMP:20260423T164551
CREATED:20210909T175818Z
LAST-MODIFIED:20210909T175818Z
UID:10004409-1635359400-1635366600@newsuat.fordham.edu
SUMMARY:2021 London Presidential Reception
DESCRIPTION:Brunella Mennillo\, PAR\, and Andrea Mennillo\, PAR; the Fordham Alumni Chapter of the U.K.; and Joseph M. McShane\, S.J.\, president of Fordham University\, cordially invite you to a complimentary reception for alumni\, family\, and friends. We hope you’ll join us in wishing Father McShane a fond farewell as he prepares to step down as president at the end of this academic year. \nSpace is limited and advance registration is required. RSVP by October 20. \nAs the cost of this reception is being generously covered by our hosts Brunella and Andrea Mennillo\, please consider making a gift of $25 or more to support Fordham.
URL:https://newsuat.fordham.edu/event/2021-london-presidential-reception/
LOCATION:The Carlton Club\, 69 Saint James's Street\, London SW1A 1PJ\, United Kingdom
CATEGORIES:Receptions,Social
ORGANIZER;CN="Office of Alumni Relations":MAILTO:alumnioffice@fordham.edu
END:VEVENT
END:VCALENDAR