BEGIN:VCALENDAR
VERSION:2.0
PRODID:-//Fordham Now - ECPv6.15.20//NONSGML v1.0//EN
CALSCALE:GREGORIAN
METHOD:PUBLISH
X-ORIGINAL-URL:https://newsuat.fordham.edu
X-WR-CALDESC:Events for Fordham Now
REFRESH-INTERVAL;VALUE=DURATION:PT1H
X-Robots-Tag:noindex
X-PUBLISHED-TTL:PT1H
BEGIN:VTIMEZONE
TZID:America/New_York
BEGIN:DAYLIGHT
TZOFFSETFROM:-0500
TZOFFSETTO:-0400
TZNAME:EDT
DTSTART:20200308T070000
END:DAYLIGHT
BEGIN:STANDARD
TZOFFSETFROM:-0400
TZOFFSETTO:-0500
TZNAME:EST
DTSTART:20201101T060000
END:STANDARD
BEGIN:DAYLIGHT
TZOFFSETFROM:-0500
TZOFFSETTO:-0400
TZNAME:EDT
DTSTART:20210314T070000
END:DAYLIGHT
BEGIN:STANDARD
TZOFFSETFROM:-0400
TZOFFSETTO:-0500
TZNAME:EST
DTSTART:20211107T060000
END:STANDARD
BEGIN:DAYLIGHT
TZOFFSETFROM:-0500
TZOFFSETTO:-0400
TZNAME:EDT
DTSTART:20220313T070000
END:DAYLIGHT
BEGIN:STANDARD
TZOFFSETFROM:-0400
TZOFFSETTO:-0500
TZNAME:EST
DTSTART:20221106T060000
END:STANDARD
END:VTIMEZONE
BEGIN:VEVENT
DTSTART;TZID=America/New_York:20211106T153000
DTEND;TZID=America/New_York:20211106T173000
DTSTAMP:20260423T090121
CREATED:20211101T161144Z
LAST-MODIFIED:20211101T161144Z
UID:10004497-1636212600-1636219800@newsuat.fordham.edu
SUMMARY:Alumni Chapter of Washington D.C.: Post-Football Game Gathering
DESCRIPTION:Join us for craft beer and appetizers after Fordham takes on Georgetown in an afternoon football game! \nWe will have two tables reserved for food and fellowship at The Berliner in Georgetown immediately following the game. Game tickets must be purchased separately. \nTickets are $25 for alumni\, family\, and friends. RSVP by November 5. Space is limited and advance registration is required. We hope to see you there!
URL:https://newsuat.fordham.edu/event/alumni-chapter-of-washington-d-c-post-football-game-gathering/
LOCATION:The Berliner\, 3401 Water Street NW\, Washington\, DC\, MD\, 20007\, United States
CATEGORIES:Social
ORGANIZER;CN="Alumni Chapter of Washington%2C D.C.":MAILTO:fordham.club.dc@gmail.com
END:VEVENT
END:VCALENDAR