BEGIN:VCALENDAR
VERSION:2.0
PRODID:-//Fordham Now - ECPv6.15.20//NONSGML v1.0//EN
CALSCALE:GREGORIAN
METHOD:PUBLISH
X-ORIGINAL-URL:https://newsuat.fordham.edu
X-WR-CALDESC:Events for Fordham Now
REFRESH-INTERVAL;VALUE=DURATION:PT1H
X-Robots-Tag:noindex
X-PUBLISHED-TTL:PT1H
BEGIN:VTIMEZONE
TZID:America/New_York
BEGIN:DAYLIGHT
TZOFFSETFROM:-0500
TZOFFSETTO:-0400
TZNAME:EDT
DTSTART:20170312T070000
END:DAYLIGHT
BEGIN:STANDARD
TZOFFSETFROM:-0400
TZOFFSETTO:-0500
TZNAME:EST
DTSTART:20171105T060000
END:STANDARD
BEGIN:DAYLIGHT
TZOFFSETFROM:-0500
TZOFFSETTO:-0400
TZNAME:EDT
DTSTART:20180311T070000
END:DAYLIGHT
BEGIN:STANDARD
TZOFFSETFROM:-0400
TZOFFSETTO:-0500
TZNAME:EST
DTSTART:20181104T060000
END:STANDARD
BEGIN:DAYLIGHT
TZOFFSETFROM:-0500
TZOFFSETTO:-0400
TZNAME:EDT
DTSTART:20190310T070000
END:DAYLIGHT
BEGIN:STANDARD
TZOFFSETFROM:-0400
TZOFFSETTO:-0500
TZNAME:EST
DTSTART:20191103T060000
END:STANDARD
END:VTIMEZONE
BEGIN:VEVENT
DTSTART;TZID=America/New_York:20181110T170000
DTEND;TZID=America/New_York:20181110T170000
DTSTAMP:20260424T114145
CREATED:20181003T130506Z
LAST-MODIFIED:20181003T130506Z
UID:10006600-1541869200-1541869200@newsuat.fordham.edu
SUMMARY:Alumni Chapter of Houston: Pregame Happy Hour
DESCRIPTION:Join fellow Houston alumni and Ram fans for a pregame happy hour before Fordham men’s basketball takes on the HBU Huskies. Meet us at the ’401 in Bellaire at 5 p.m. for drinks and light bites before we head over to Houston Baptist University (HBU). \nThe game starts at 7 p.m.\, and the Sharp Gym is roughly a 10-minute drive from the ’401. Game tickets may be purchased at the door (cash only) or online via the HBU Ticket Office beginning October 8.
URL:https://newsuat.fordham.edu/event/alumni-chapter-of-houston-pregame-happy-hour/
LOCATION:The ‘401\, 6700 Ferris Street #150\, Bellaire\, TX\, 77401\, United States
CATEGORIES:Athletics,Social
ORGANIZER;CN="Jean Beagle":MAILTO:fordhamalumnihouston@gmail.com
END:VEVENT
END:VCALENDAR