BEGIN:VCALENDAR
VERSION:2.0
PRODID:-//Fordham Now - ECPv6.15.20//NONSGML v1.0//EN
CALSCALE:GREGORIAN
METHOD:PUBLISH
X-WR-CALNAME:Fordham Now
X-ORIGINAL-URL:https://newsuat.fordham.edu
X-WR-CALDESC:Events for Fordham Now
REFRESH-INTERVAL;VALUE=DURATION:PT1H
X-Robots-Tag:noindex
X-PUBLISHED-TTL:PT1H
BEGIN:VTIMEZONE
TZID:America/New_York
BEGIN:DAYLIGHT
TZOFFSETFROM:-0500
TZOFFSETTO:-0400
TZNAME:EDT
DTSTART:20180311T070000
END:DAYLIGHT
BEGIN:STANDARD
TZOFFSETFROM:-0400
TZOFFSETTO:-0500
TZNAME:EST
DTSTART:20181104T060000
END:STANDARD
BEGIN:DAYLIGHT
TZOFFSETFROM:-0500
TZOFFSETTO:-0400
TZNAME:EDT
DTSTART:20190310T070000
END:DAYLIGHT
BEGIN:STANDARD
TZOFFSETFROM:-0400
TZOFFSETTO:-0500
TZNAME:EST
DTSTART:20191103T060000
END:STANDARD
BEGIN:DAYLIGHT
TZOFFSETFROM:-0500
TZOFFSETTO:-0400
TZNAME:EDT
DTSTART:20200308T070000
END:DAYLIGHT
BEGIN:STANDARD
TZOFFSETFROM:-0400
TZOFFSETTO:-0500
TZNAME:EST
DTSTART:20201101T060000
END:STANDARD
END:VTIMEZONE
BEGIN:VEVENT
DTSTART;TZID=America/New_York:20190930T183000
DTEND;TZID=America/New_York:20190930T200000
DTSTAMP:20260425T092642
CREATED:20190827T195906Z
LAST-MODIFIED:20190827T195906Z
UID:10007157-1569868200-1569873600@newsuat.fordham.edu
SUMMARY:Alumni Chapter of Fairfield County: End-of-Summer Happy Hour
DESCRIPTION:Join fellow Fairfield-area alumni for an end-of-summer happy hour. Reconnect with Rams and enjoy appetizers\, drinks\, and memories! \nThis event costs $5 per person and includes a selection of appetizer platters. There will be a cash bar available. \nHope to see you there!
URL:https://newsuat.fordham.edu/event/alumni-chapter-of-fairfield-county-end-of-summer-happy-hour/
LOCATION:Sunset Grille\, 52 Calf Pasture Beach Road\, Norwalk\, CT\, 06855\, United States
CATEGORIES:Social
ORGANIZER;CN="Alumni Chapter of Fairfield":MAILTO:hdmurphy@mayalaw.com
END:VEVENT
END:VCALENDAR