BEGIN:VCALENDAR
VERSION:2.0
PRODID:-//Fordham Now - ECPv6.15.20//NONSGML v1.0//EN
CALSCALE:GREGORIAN
METHOD:PUBLISH
X-ORIGINAL-URL:https://newsuat.fordham.edu
X-WR-CALDESC:Events for Fordham Now
REFRESH-INTERVAL;VALUE=DURATION:PT1H
X-Robots-Tag:noindex
X-PUBLISHED-TTL:PT1H
BEGIN:VTIMEZONE
TZID:America/New_York
BEGIN:DAYLIGHT
TZOFFSETFROM:-0500
TZOFFSETTO:-0400
TZNAME:EDT
DTSTART:20180311T070000
END:DAYLIGHT
BEGIN:STANDARD
TZOFFSETFROM:-0400
TZOFFSETTO:-0500
TZNAME:EST
DTSTART:20181104T060000
END:STANDARD
BEGIN:DAYLIGHT
TZOFFSETFROM:-0500
TZOFFSETTO:-0400
TZNAME:EDT
DTSTART:20190310T070000
END:DAYLIGHT
BEGIN:STANDARD
TZOFFSETFROM:-0400
TZOFFSETTO:-0500
TZNAME:EST
DTSTART:20191103T060000
END:STANDARD
BEGIN:DAYLIGHT
TZOFFSETFROM:-0500
TZOFFSETTO:-0400
TZNAME:EDT
DTSTART:20200308T070000
END:DAYLIGHT
BEGIN:STANDARD
TZOFFSETFROM:-0400
TZOFFSETTO:-0500
TZNAME:EST
DTSTART:20201101T060000
END:STANDARD
END:VTIMEZONE
BEGIN:VEVENT
DTSTART;TZID=America/New_York:20190412T100000
DTEND;TZID=America/New_York:20190412T133000
DTSTAMP:20260420T114013
CREATED:20181207T135729Z
LAST-MODIFIED:20181207T135729Z
UID:10006736-1555063200-1555075800@newsuat.fordham.edu
SUMMARY:Walking Tour of Classical New York
DESCRIPTION:Join Fordham’s own Matthew McGowan\, chair of the Department of Classics\, as he guides us on a walk of classical New York. The Fordham University Press recently published Classical New York\, a book edited by Professor McGowan\, so suffice it to say that he’s an expert! The tour will give us a firsthand look at some of the publication’s material. \nWe’ll begin our tour at St. Peter’s Church\, the oldest Catholic parish in New York. We’ll then proceed to St. Paul’s Chapel of Trinity Church\, and we’ll complete our tour at Trinity Church itself. \nPlease Note: The entire tour will be approximately 0.5 miles on mostly flat ground. This event will happen rain or shine! If it does rain\, just remember that we’ll be inside of churches for most of the walk. \nAfter our guided tour\, we’ll head to lunch at a restaurant near Trinity Church. Professor McGowan will share additional insights with us as well as answer any remaining questions. Lunch is also a great opportunity to get to know some of your fellow Rams! \nTickets for the entire event are $60 per person. \nA reminder email with additional information will be sent to you one week prior to the event. \nDon’t miss this special day exploring some of New York’s most iconic churches!
URL:https://newsuat.fordham.edu/event/walking-tour-of-classical-new-york/
LOCATION:St. Peter’s Church\, Our Lady of the Rosary\, 22 Barclay Street\, New York\, NY\, 10007\, United States
CATEGORIES:Cultural,Social,Tours
ATTACH;FMTTYPE=image/jpeg:https://newsuat.fordham.edu/wp-content/uploads/2018/12/Trinity-Church.jpg
ORGANIZER;CN="Shannon Quinn":MAILTO:hirrel@fordham.edu
END:VEVENT
END:VCALENDAR