BEGIN:VCALENDAR
VERSION:2.0
PRODID:-//Fordham Now - ECPv6.15.20//NONSGML v1.0//EN
CALSCALE:GREGORIAN
METHOD:PUBLISH
X-ORIGINAL-URL:https://newsuat.fordham.edu
X-WR-CALDESC:Events for Fordham Now
REFRESH-INTERVAL;VALUE=DURATION:PT1H
X-Robots-Tag:noindex
X-PUBLISHED-TTL:PT1H
BEGIN:VTIMEZONE
TZID:America/New_York
BEGIN:DAYLIGHT
TZOFFSETFROM:-0500
TZOFFSETTO:-0400
TZNAME:EDT
DTSTART:20210314T070000
END:DAYLIGHT
BEGIN:STANDARD
TZOFFSETFROM:-0400
TZOFFSETTO:-0500
TZNAME:EST
DTSTART:20211107T060000
END:STANDARD
BEGIN:DAYLIGHT
TZOFFSETFROM:-0500
TZOFFSETTO:-0400
TZNAME:EDT
DTSTART:20220313T070000
END:DAYLIGHT
BEGIN:STANDARD
TZOFFSETFROM:-0400
TZOFFSETTO:-0500
TZNAME:EST
DTSTART:20221106T060000
END:STANDARD
BEGIN:DAYLIGHT
TZOFFSETFROM:-0500
TZOFFSETTO:-0400
TZNAME:EDT
DTSTART:20230312T070000
END:DAYLIGHT
BEGIN:STANDARD
TZOFFSETFROM:-0400
TZOFFSETTO:-0500
TZNAME:EST
DTSTART:20231105T060000
END:STANDARD
END:VTIMEZONE
BEGIN:VEVENT
DTSTART;TZID=America/New_York:20220324T190000
DTEND;TZID=America/New_York:20220324T220000
DTSTAMP:20260425T062411
CREATED:20220307T164459Z
LAST-MODIFIED:20220307T164459Z
UID:10004673-1648148400-1648159200@newsuat.fordham.edu
SUMMARY:Rainbow Rams Broadway Event
DESCRIPTION:Join the Rainbow Rams for a night on Broadway at the upcoming revival of Take Me Out! What would happen if a major league baseball player came out as gay? This Tony Award-winning play explores that question\, among other ideals related to race\, masculinity\, and sports. \nTickets are $25 through March 21\, and then they will increase to $30 through March 24. Limited seats are available\, so register now!
URL:https://newsuat.fordham.edu/event/rainbow-rams-broadway-event/
LOCATION:Second Stage Theater\, 240 West 44th Street (between Broadway and 8th Avenue)\, New York\, NY\, 10036\, United States
CATEGORIES:Social
ORGANIZER;CN="Taylor Palmer":MAILTO:tpalmer7@fordham.edu
END:VEVENT
END:VCALENDAR