BEGIN:VCALENDAR
VERSION:2.0
PRODID:-//Fordham Now - ECPv6.15.20//NONSGML v1.0//EN
CALSCALE:GREGORIAN
METHOD:PUBLISH
X-WR-CALNAME:Fordham Now
X-ORIGINAL-URL:https://newsuat.fordham.edu
X-WR-CALDESC:Events for Fordham Now
REFRESH-INTERVAL;VALUE=DURATION:PT1H
X-Robots-Tag:noindex
X-PUBLISHED-TTL:PT1H
BEGIN:VTIMEZONE
TZID:America/New_York
BEGIN:DAYLIGHT
TZOFFSETFROM:-0500
TZOFFSETTO:-0400
TZNAME:EDT
DTSTART:20170312T070000
END:DAYLIGHT
BEGIN:STANDARD
TZOFFSETFROM:-0400
TZOFFSETTO:-0500
TZNAME:EST
DTSTART:20171105T060000
END:STANDARD
BEGIN:DAYLIGHT
TZOFFSETFROM:-0500
TZOFFSETTO:-0400
TZNAME:EDT
DTSTART:20180311T070000
END:DAYLIGHT
BEGIN:STANDARD
TZOFFSETFROM:-0400
TZOFFSETTO:-0500
TZNAME:EST
DTSTART:20181104T060000
END:STANDARD
BEGIN:DAYLIGHT
TZOFFSETFROM:-0500
TZOFFSETTO:-0400
TZNAME:EDT
DTSTART:20190310T070000
END:DAYLIGHT
BEGIN:STANDARD
TZOFFSETFROM:-0400
TZOFFSETTO:-0500
TZNAME:EST
DTSTART:20191103T060000
END:STANDARD
END:VTIMEZONE
BEGIN:VEVENT
DTSTART;TZID=America/New_York:20181025T160000
DTEND;TZID=America/New_York:20181025T173000
DTSTAMP:20260422T064503
CREATED:20181009T134659Z
LAST-MODIFIED:20181009T134659Z
UID:10006618-1540483200-1540488600@newsuat.fordham.edu
SUMMARY:An Afternoon Talk with Author and Hip-Hop Artist Gaël Faye
DESCRIPTION:French-Rwandan author Gaël Faye published his widely-acclaimed debut novel\, Small Country\, in France in 2016. Since then\, the book has been published in 30 languages\, including English\, and is now available in the United States. After bring featured in The New York Times upon his book’s official release in early July\, Gaël Faye will be at Fordham University at Lincoln Center to discuss this first novel and talk further about his relationship to writing\, in the context of fiction as well as music. \nThis free event\, open to the public\, is presented thanks to the generous support of the Department of Modern Languages and Literatures\, the Department of African and African-American Studies\, the Program in Comparative Literature\, and the Institute of Humanitarian Affairs\, as well as the Dean’s Office at Lincoln Center. We are also thankful to Cultural Services of the French Embassy for partnering with Fordham University to make Gaël Faye’s visit possible. \nRSVPs and further information can be directed to Dr. Audrey Evrard (aevrard@fordham.edu).
URL:https://newsuat.fordham.edu/event/an-afternoon-talk-with-author-and-hip-hop-artist-gael-faye/
LOCATION:School of Law 4-07
CATEGORIES:Lectures
ORGANIZER;CN="Audrey Evrard":MAILTO:aevrard@fordham.edu
END:VEVENT
END:VCALENDAR