BEGIN:VCALENDAR
VERSION:2.0
PRODID:-//Fordham Now - ECPv6.15.20//NONSGML v1.0//EN
CALSCALE:GREGORIAN
METHOD:PUBLISH
X-ORIGINAL-URL:https://newsuat.fordham.edu
X-WR-CALDESC:Events for Fordham Now
REFRESH-INTERVAL;VALUE=DURATION:PT1H
X-Robots-Tag:noindex
X-PUBLISHED-TTL:PT1H
BEGIN:VTIMEZONE
TZID:America/New_York
BEGIN:DAYLIGHT
TZOFFSETFROM:-0500
TZOFFSETTO:-0400
TZNAME:EDT
DTSTART:20200308T070000
END:DAYLIGHT
BEGIN:STANDARD
TZOFFSETFROM:-0400
TZOFFSETTO:-0500
TZNAME:EST
DTSTART:20201101T060000
END:STANDARD
BEGIN:DAYLIGHT
TZOFFSETFROM:-0500
TZOFFSETTO:-0400
TZNAME:EDT
DTSTART:20210314T070000
END:DAYLIGHT
BEGIN:STANDARD
TZOFFSETFROM:-0400
TZOFFSETTO:-0500
TZNAME:EST
DTSTART:20211107T060000
END:STANDARD
BEGIN:DAYLIGHT
TZOFFSETFROM:-0500
TZOFFSETTO:-0400
TZNAME:EDT
DTSTART:20220313T070000
END:DAYLIGHT
BEGIN:STANDARD
TZOFFSETFROM:-0400
TZOFFSETTO:-0500
TZNAME:EST
DTSTART:20221106T060000
END:STANDARD
END:VTIMEZONE
BEGIN:VEVENT
DTSTART;TZID=America/New_York:20210525T160000
DTEND;TZID=America/New_York:20210525T180000
DTSTAMP:20260423T223842
CREATED:20210514T160104Z
LAST-MODIFIED:20210514T160104Z
UID:10004360-1621958400-1621965600@newsuat.fordham.edu
SUMMARY:Commencement: Gabelli School of Business (master’s and doctoral candidates)\, In-person Ceremony
DESCRIPTION:
URL:https://newsuat.fordham.edu/event/commencement-gabelli-school-of-business-masters-and-doctoral-candidates-in-person-ceremony/
LOCATION:Rose Hill Campus & Livestream\, United States
END:VEVENT
BEGIN:VEVENT
DTSTART;TZID=America/New_York:20210524T100000
DTEND;TZID=America/New_York:20210524T120000
DTSTAMP:20260423T223842
CREATED:20210514T155811Z
LAST-MODIFIED:20210514T155811Z
UID:10004358-1621850400-1621857600@newsuat.fordham.edu
SUMMARY:Commencement: School of Law\, In-person Ceremony (Also Livestreamed)
DESCRIPTION:
URL:https://newsuat.fordham.edu/event/commencement-school-of-law-in-person-ceremony-also-livestreamed/
LOCATION:Rose Hill Campus & Livestream\, United States
CATEGORIES:Receptions
END:VEVENT
BEGIN:VEVENT
DTSTART;TZID=America/New_York:20210523T150000
DTEND;TZID=America/New_York:20210523T170000
DTSTAMP:20260423T223842
CREATED:20210514T154933Z
LAST-MODIFIED:20210514T154933Z
UID:10004357-1621782000-1621789200@newsuat.fordham.edu
SUMMARY:Commencement: Graduate School of Education\, In-Person Ceremony (Also Livestreamed)
DESCRIPTION:
URL:https://newsuat.fordham.edu/event/commencement-graduate-school-of-education-in-person-ceremony-also-livestreamed/
LOCATION:Rose Hill Campus & Livestream\, United States
CATEGORIES:Receptions
END:VEVENT
BEGIN:VEVENT
DTSTART;TZID=America/New_York:20210523T100000
DTEND;TZID=America/New_York:20210523T120000
DTSTAMP:20260423T223842
CREATED:20210514T154646Z
LAST-MODIFIED:20210514T154646Z
UID:10004355-1621764000-1621771200@newsuat.fordham.edu
SUMMARY:Commencement: School of Professional and Continuing Studies\, In-Person Ceremony (Also Livestreamed)
DESCRIPTION:
URL:https://newsuat.fordham.edu/event/commencement-school-of-professional-and-continuing-studies-in-person-ceremony-also-livestreamed/
LOCATION:Rose Hill Campus & Livestream\, United States
END:VEVENT
BEGIN:VEVENT
DTSTART;TZID=America/New_York:20210520T090000
DTEND;TZID=America/New_York:20210520T110000
DTSTAMP:20260423T223842
CREATED:20210514T152502Z
LAST-MODIFIED:20210514T152502Z
UID:10004347-1621501200-1621508400@newsuat.fordham.edu
SUMMARY:Commencement: Fordham College at Rose Hill\, In-Person School Ceremony (Also Livestreamed)
DESCRIPTION:
URL:https://newsuat.fordham.edu/event/commencement-fordham-college-at-rose-hill-in-person-school-ceremony-also-livestreamed-3/
LOCATION:Rose Hill Campus & Livestream\, United States
CATEGORIES:Receptions
END:VEVENT
BEGIN:VEVENT
DTSTART;TZID=America/New_York:20210519T140000
DTEND;TZID=America/New_York:20210519T160000
DTSTAMP:20260423T223842
CREATED:20210514T152249Z
LAST-MODIFIED:20210514T152249Z
UID:10004346-1621432800-1621440000@newsuat.fordham.edu
SUMMARY:Commencement: Gabelli School of Business (Lincoln Center and Rose Hill students bachelor candidates)\, In-Person School Ceremony (Also Livestreamed)
DESCRIPTION:
URL:https://newsuat.fordham.edu/event/commencement-gabelli-school-of-business-lincoln-center-and-rose-hill-students-bachelor-candidates-in-person-school-ceremony-also-livestreamed/
LOCATION:Rose Hill Campus & Livestream\, United States
CATEGORIES:Receptions
END:VEVENT
BEGIN:VEVENT
DTSTART;TZID=America/New_York:20210519T090000
DTEND;TZID=America/New_York:20210519T110000
DTSTAMP:20260423T223842
CREATED:20210514T152145Z
LAST-MODIFIED:20210514T152145Z
UID:10004345-1621414800-1621422000@newsuat.fordham.edu
SUMMARY:Commencement: Fordham College at Rose Hill\, In-Person School Ceremony (Also Livestreamed)
DESCRIPTION:
URL:https://newsuat.fordham.edu/event/commencement-fordham-college-at-rose-hill-in-person-school-ceremony-also-livestreamed-2/
LOCATION:Rose Hill Campus & Livestream\, United States
CATEGORIES:Receptions
END:VEVENT
BEGIN:VEVENT
DTSTART;TZID=America/New_York:20210518T140000
DTEND;TZID=America/New_York:20210518T160000
DTSTAMP:20260423T223842
CREATED:20210514T151912Z
LAST-MODIFIED:20210514T151912Z
UID:10004344-1621346400-1621353600@newsuat.fordham.edu
SUMMARY:Commencement: Fordham College at Lincoln Center\, In-Person School Ceremony (Also Livestreamed)
DESCRIPTION:
URL:https://newsuat.fordham.edu/event/commencement-fordham-college-at-lincoln-center-in-person-school-ceremony-also-livestreamed-2/
LOCATION:Rose Hill Campus & Livestream\, United States
CATEGORIES:Receptions
END:VEVENT
BEGIN:VEVENT
DTSTART;TZID=America/New_York:20210518T090000
DTEND;TZID=America/New_York:20210518T110000
DTSTAMP:20260423T223842
CREATED:20210514T151426Z
LAST-MODIFIED:20210514T151426Z
UID:10004343-1621328400-1621335600@newsuat.fordham.edu
SUMMARY:Commencement: Gabelli School of Business (RH bachelor candidates only)\, In-Person School Ceremony (Also Livestreamed)
DESCRIPTION:
URL:https://newsuat.fordham.edu/event/commencement-gabelli-school-of-business-rh-bachelor-candidates-only-in-person-school-ceremony-also-livestreamed/
LOCATION:Rose Hill Campus & Livestream\, United States
CATEGORIES:Receptions
END:VEVENT
BEGIN:VEVENT
DTSTART;TZID=America/New_York:20210517T140000
DTEND;TZID=America/New_York:20210517T160000
DTSTAMP:20260423T223842
CREATED:20210514T151203Z
LAST-MODIFIED:20210514T151203Z
UID:10004342-1621260000-1621267200@newsuat.fordham.edu
SUMMARY:Commencement: Fordham College at Lincoln Center\, In-Person School Ceremony (Also Livestreamed)
DESCRIPTION:
URL:https://newsuat.fordham.edu/event/commencement-fordham-college-at-lincoln-center-in-person-school-ceremony-also-livestreamed/
LOCATION:Rose Hill Campus & Livestream\, United States
CATEGORIES:Receptions
END:VEVENT
BEGIN:VEVENT
DTSTART;TZID=America/New_York:20210517T090000
DTEND;TZID=America/New_York:20210517T110000
DTSTAMP:20260423T223842
CREATED:20210514T150202Z
LAST-MODIFIED:20210514T150202Z
UID:10004341-1621242000-1621249200@newsuat.fordham.edu
SUMMARY:Commencement: Fordham College at Rose Hill\, In-Person School Ceremony (Also Livestreamed)
DESCRIPTION:
URL:https://newsuat.fordham.edu/event/commencement-fordham-college-at-rose-hill-in-person-school-ceremony-also-livestreamed/
LOCATION:Rose Hill Campus & Livestream\, United States
CATEGORIES:Receptions
END:VEVENT
END:VCALENDAR