BEGIN:VCALENDAR
VERSION:2.0
PRODID:-//Fordham Now - ECPv6.15.20//NONSGML v1.0//EN
CALSCALE:GREGORIAN
METHOD:PUBLISH
X-ORIGINAL-URL:https://newsuat.fordham.edu
X-WR-CALDESC:Events for Fordham Now
REFRESH-INTERVAL;VALUE=DURATION:PT1H
X-Robots-Tag:noindex
X-PUBLISHED-TTL:PT1H
BEGIN:VTIMEZONE
TZID:America/Los_Angeles
BEGIN:DAYLIGHT
TZOFFSETFROM:-0800
TZOFFSETTO:-0700
TZNAME:PDT
DTSTART:20220313T100000
END:DAYLIGHT
BEGIN:STANDARD
TZOFFSETFROM:-0700
TZOFFSETTO:-0800
TZNAME:PST
DTSTART:20221106T090000
END:STANDARD
BEGIN:DAYLIGHT
TZOFFSETFROM:-0800
TZOFFSETTO:-0700
TZNAME:PDT
DTSTART:20230312T100000
END:DAYLIGHT
BEGIN:STANDARD
TZOFFSETFROM:-0700
TZOFFSETTO:-0800
TZNAME:PST
DTSTART:20231105T090000
END:STANDARD
BEGIN:DAYLIGHT
TZOFFSETFROM:-0800
TZOFFSETTO:-0700
TZNAME:PDT
DTSTART:20240310T100000
END:DAYLIGHT
BEGIN:STANDARD
TZOFFSETFROM:-0700
TZOFFSETTO:-0800
TZNAME:PST
DTSTART:20241103T090000
END:STANDARD
END:VTIMEZONE
BEGIN:VEVENT
DTSTART;TZID=America/Los_Angeles:20230126T183000
DTEND;TZID=America/Los_Angeles:20230126T203000
DTSTAMP:20260421T014244
CREATED:20221219T212715Z
LAST-MODIFIED:20221219T212715Z
UID:10004906-1674757800-1674765000@newsuat.fordham.edu
SUMMARY:2023 Seattle Regional Reception
DESCRIPTION:The Fordham Alumni Chapter of Seattle and the Office of Alumni Relations cordially invite you to a reception for alumni\, parents\, and friends. \nThe event costs $25 per person and includes heavy hors d’oeuvres\, beer\, and wine. Register by January 15 to take advantage of early bird pricing. After January 15\, the cost is $30 per person. \nPlease consider making a gift of $25 or more to support Cura Personalis | For Every Fordham Student.
URL:https://newsuat.fordham.edu/event/2023-seattle-regional-reception/
LOCATION:Renaissance Seattle Hotel\, 515 Madison Street\, Seattle\, WA\, 98104\, United States
CATEGORIES:Networking and Career,Receptions,Social
ORGANIZER;CN="Office of Alumni Relations":MAILTO:alumnioffice@fordham.edu
END:VEVENT
END:VCALENDAR