BEGIN:VCALENDAR
VERSION:2.0
PRODID:-//Fordham Now - ECPv6.15.20//NONSGML v1.0//EN
CALSCALE:GREGORIAN
METHOD:PUBLISH
X-ORIGINAL-URL:https://newsuat.fordham.edu
X-WR-CALDESC:Events for Fordham Now
REFRESH-INTERVAL;VALUE=DURATION:PT1H
X-Robots-Tag:noindex
X-PUBLISHED-TTL:PT1H
BEGIN:VTIMEZONE
TZID:America/New_York
BEGIN:DAYLIGHT
TZOFFSETFROM:-0500
TZOFFSETTO:-0400
TZNAME:EDT
DTSTART:20220313T070000
END:DAYLIGHT
BEGIN:STANDARD
TZOFFSETFROM:-0400
TZOFFSETTO:-0500
TZNAME:EST
DTSTART:20221106T060000
END:STANDARD
BEGIN:DAYLIGHT
TZOFFSETFROM:-0500
TZOFFSETTO:-0400
TZNAME:EDT
DTSTART:20230312T070000
END:DAYLIGHT
BEGIN:STANDARD
TZOFFSETFROM:-0400
TZOFFSETTO:-0500
TZNAME:EST
DTSTART:20231105T060000
END:STANDARD
BEGIN:DAYLIGHT
TZOFFSETFROM:-0500
TZOFFSETTO:-0400
TZNAME:EDT
DTSTART:20240310T070000
END:DAYLIGHT
BEGIN:STANDARD
TZOFFSETFROM:-0400
TZOFFSETTO:-0500
TZNAME:EST
DTSTART:20241103T060000
END:STANDARD
END:VTIMEZONE
BEGIN:VEVENT
DTSTART;TZID=America/New_York:20230414T161500
DTEND;TZID=America/New_York:20230414T183000
DTSTAMP:20260420T005448
CREATED:20230404T193107Z
LAST-MODIFIED:20230404T193107Z
UID:10005083-1681488900-1681497000@newsuat.fordham.edu
SUMMARY:Forever Learning Month 2023: Technologies of Past and Present Tour in Red Hook
DESCRIPTION:Join us as we tour a New York neighborhood with a rich industrial history—now home to organizations working with creative technologies. The tour of Red Hook\, Brooklyn\, will be led by Justin Rivers\, FCRH ’01\, chief experience officer of Untapped New York\, and will end up at Pioneer Works for a private\, after-hours viewing of the mixed reality experience on view\, Medusa. \nDirected by scientist and artist Yoyo Munk\, Medusa is an ambitious project developed by media collective Tin Drum in collaboration with architect Sou Fujimoto. Bridging art\, science\, music\, and technology\, it comprises a unique and evolving mixed-reality experience that envelops visitors in a new realm of physicality\, visuality\, and sound. Pioneer Works is an artist- and scientist-led nonprofit cultural center in Red Hook\, Brooklyn\, that fosters innovative thinking through the visual and performing arts\, technology\, music\, and science.
URL:https://newsuat.fordham.edu/event/forever-learning-month-2023-technologies-of-past-and-present-tour-in-red-hook/
LOCATION:Red Hook
CATEGORIES:Cultural,Tours
END:VEVENT
END:VCALENDAR