BEGIN:VCALENDAR
VERSION:2.0
PRODID:-//Fordham Now - ECPv6.15.20//NONSGML v1.0//EN
CALSCALE:GREGORIAN
METHOD:PUBLISH
X-ORIGINAL-URL:https://newsuat.fordham.edu
X-WR-CALDESC:Events for Fordham Now
REFRESH-INTERVAL;VALUE=DURATION:PT1H
X-Robots-Tag:noindex
X-PUBLISHED-TTL:PT1H
BEGIN:VTIMEZONE
TZID:America/New_York
BEGIN:DAYLIGHT
TZOFFSETFROM:-0500
TZOFFSETTO:-0400
TZNAME:EDT
DTSTART:20180311T070000
END:DAYLIGHT
BEGIN:STANDARD
TZOFFSETFROM:-0400
TZOFFSETTO:-0500
TZNAME:EST
DTSTART:20181104T060000
END:STANDARD
BEGIN:DAYLIGHT
TZOFFSETFROM:-0500
TZOFFSETTO:-0400
TZNAME:EDT
DTSTART:20190310T070000
END:DAYLIGHT
BEGIN:STANDARD
TZOFFSETFROM:-0400
TZOFFSETTO:-0500
TZNAME:EST
DTSTART:20191103T060000
END:STANDARD
BEGIN:DAYLIGHT
TZOFFSETFROM:-0500
TZOFFSETTO:-0400
TZNAME:EDT
DTSTART:20200308T070000
END:DAYLIGHT
BEGIN:STANDARD
TZOFFSETFROM:-0400
TZOFFSETTO:-0500
TZNAME:EST
DTSTART:20201101T060000
END:STANDARD
END:VTIMEZONE
BEGIN:VEVENT
DTSTART;TZID=America/New_York:20190404T183000
DTEND;TZID=America/New_York:20190404T203000
DTSTAMP:20260425T173620
CREATED:20190325T151723Z
LAST-MODIFIED:20190325T151723Z
UID:10006998-1554402600-1554409800@newsuat.fordham.edu
SUMMARY:Student Government and Programming Kick Off Event
DESCRIPTION:Join us at the Public House NYC\, conveniently located in Midtown East\, for the Student Government & Programming Alumni Chapter Kick Off Event! The mission of the newly founded SGP Alumni Chapter is to foster a strong and continuing relationship between CAB\, CSA\, RHA\, and USG. We welcome all alumni from the big four organizations\, as well as friends of the community to attend the event! \nReconnect with classmates and meet fellow #FordhamSGP Alumni! \nWe look forward to seeing you all there!
URL:https://newsuat.fordham.edu/event/student-government-and-programming-kick-off-event/
LOCATION:Public House NYC\, 140 East 41st Street\, New York\, NY\, 10017\, United States
CATEGORIES:Receptions,Social
ATTACH;FMTTYPE=image/png:https://newsuat.fordham.edu/wp-content/uploads/2019/03/Fordham-University-SGP-Event.png
ORGANIZER;CN="Taylor Palmer":MAILTO:tpalmer7@fordham.edu
END:VEVENT
END:VCALENDAR