BEGIN:VCALENDAR
VERSION:2.0
PRODID:-//Fordham Now - ECPv6.15.20//NONSGML v1.0//EN
CALSCALE:GREGORIAN
METHOD:PUBLISH
X-ORIGINAL-URL:https://newsuat.fordham.edu
X-WR-CALDESC:Events for Fordham Now
REFRESH-INTERVAL;VALUE=DURATION:PT1H
X-Robots-Tag:noindex
X-PUBLISHED-TTL:PT1H
BEGIN:VTIMEZONE
TZID:America/New_York
BEGIN:DAYLIGHT
TZOFFSETFROM:-0500
TZOFFSETTO:-0400
TZNAME:EDT
DTSTART:20170312T070000
END:DAYLIGHT
BEGIN:STANDARD
TZOFFSETFROM:-0400
TZOFFSETTO:-0500
TZNAME:EST
DTSTART:20171105T060000
END:STANDARD
BEGIN:DAYLIGHT
TZOFFSETFROM:-0500
TZOFFSETTO:-0400
TZNAME:EDT
DTSTART:20180311T070000
END:DAYLIGHT
BEGIN:STANDARD
TZOFFSETFROM:-0400
TZOFFSETTO:-0500
TZNAME:EST
DTSTART:20181104T060000
END:STANDARD
BEGIN:DAYLIGHT
TZOFFSETFROM:-0500
TZOFFSETTO:-0400
TZNAME:EDT
DTSTART:20190310T070000
END:DAYLIGHT
BEGIN:STANDARD
TZOFFSETFROM:-0400
TZOFFSETTO:-0500
TZNAME:EST
DTSTART:20191103T060000
END:STANDARD
BEGIN:DAYLIGHT
TZOFFSETFROM:-0500
TZOFFSETTO:-0400
TZNAME:EDT
DTSTART:20200308T070000
END:DAYLIGHT
BEGIN:STANDARD
TZOFFSETFROM:-0400
TZOFFSETTO:-0500
TZNAME:EST
DTSTART:20201101T060000
END:STANDARD
END:VTIMEZONE
BEGIN:VEVENT
DTSTART;TZID=America/New_York:20191121T124000
DTEND;TZID=America/New_York:20191121T132000
DTSTAMP:20260424T221421
CREATED:20191022T140621Z
LAST-MODIFIED:20191022T140621Z
UID:10007312-1574340000-1574342400@newsuat.fordham.edu
SUMMARY:GSS Professional Development Workshop: The Use of EMDR and Trauma Treatment
DESCRIPTION:EMDR is a set of standardized protocols that incorporates many different treatment approaches. To date\, EMDR therapy has helped millions of people of all ages who are dealing with trauma. This training will provide an overview of this treatment. \nSpeaker Bio:\nDana Marlowe\, Ph.D.\, is a clinical professor at Fordham University’s Graduate School of Social Service and the director of academic excellence and teaching innovation. She teaches many different courses at Fordham\, including electives in evidence-based practice and core concepts in child and adolescent trauma. \n** All Professional Development Workshops will be recorded and made available to current GSS students through the GSS youtube channel**
URL:https://newsuat.fordham.edu/event/gss-professional-development-workshop-the-use-of-emdr-and-trauma-treatment/
LOCATION:Westchester Campus Room 224\, 400 Westchester Avenue\, West Harrison\, NY\, 10604\, United States
CATEGORIES:Lectures,Networking and Career
ATTACH;FMTTYPE=image/png:https://newsuat.fordham.edu/wp-content/uploads/2019/10/Professional-Development-Workshop-The-Use-of-EMDR-and-Trauma-Treatment.png
ORGANIZER;CN="Graduate School of Social Service - Westchester Campus":MAILTO:ktoro2@fordham.edu
END:VEVENT
BEGIN:VEVENT
DTSTART;TZID=America/New_York:20191114T124000
DTEND;TZID=America/New_York:20191114T132000
DTSTAMP:20260424T221421
CREATED:20191022T133740Z
LAST-MODIFIED:20191022T133740Z
UID:10007311-1573735200-1573737600@newsuat.fordham.edu
SUMMARY:GSS Professional Development Workshop: Spiritual Perspectives on Grief and Loss
DESCRIPTION:Social workers often work with clients who have suffered losses in their lives. Join Joan Cavanagh\, Ph.D.\, for this week’s professional development workshop to look at some of the impacts\, both positive and negative\, that religious and spiritual traditions have on the ways people negotiate losses in their lives. \nSpeaker Bio:\nJoan P. Cavanagh\, Ph.D.\, is the director of campus ministry for the Westchester campus\, and the director of spiritual and pastoral ministries at Fordham University. Before coming to Fordham in 1997\, Cavanagh trained as a hospital chaplain and spent four years as one in several major NYC hospitals. Her training earned her advanced standing with the Association for Clinical Pastoral Education. She also received bereavement training at Calvary Hospital. \n**This WILL NOT be made available via recording per request of the presenter**
URL:https://newsuat.fordham.edu/event/gss-professional-development-workshop-spiritual-perspectives-on-grief-and-loss/
LOCATION:Westchester Campus Room 224\, 400 Westchester Avenue\, West Harrison\, NY\, 10604\, United States
CATEGORIES:Lectures,Networking and Career,Spiritual and Religious Events
ORGANIZER;CN="Graduate School of Social Service - Westchester Campus":MAILTO:ktoro2@fordham.edu
END:VEVENT
BEGIN:VEVENT
DTSTART;TZID=America/New_York:20191029T124000
DTEND;TZID=America/New_York:20191029T132000
DTSTAMP:20260424T221421
CREATED:20191021T211238Z
LAST-MODIFIED:20191021T211238Z
UID:10007306-1572352800-1572355200@newsuat.fordham.edu
SUMMARY:GSS Professional Development Workshop: Merging Business with Social Work
DESCRIPTION:Join us for a discussion with GSS alumnus Sanford Schwartz on how he combined business and social work practice with a Q&A to follow. \nSpeaker Bio:\nGSS alumnus Sanford Schwartz\, Ph.D.\, L.M.S.W.\, graduated from GSS in 2005 and carried out a career in family wealth and estate management. Schwartz merged his academic and clinical social work experience with his knowledge of business and wealth transfers. \n**All professional development workshops will be recorded and made available to current GSS students through the GSS YouTube channel**
URL:https://newsuat.fordham.edu/event/gss-professional-development-workshop-merging-business-with-social-work/
LOCATION:Westchester Campus Room 224\, 400 Westchester Avenue\, West Harrison\, NY\, 10604\, United States
CATEGORIES:Lectures,Networking and Career
ATTACH;FMTTYPE=image/png:https://newsuat.fordham.edu/wp-content/uploads/2019/10/Professional-Development-Workshop-Merging-Business-with-Social-Work.png
ORGANIZER;CN="Graduate School of Social Service - Westchester Campus":MAILTO:ktoro2@fordham.edu
END:VEVENT
BEGIN:VEVENT
DTSTART;TZID=America/New_York:20180425T133000
DTEND;TZID=America/New_York:20180425T163000
DTSTAMP:20260424T221421
CREATED:20180419T194402Z
LAST-MODIFIED:20180419T194402Z
UID:10006439-1524663000-1524673800@newsuat.fordham.edu
SUMMARY:Professional Licensing Course: N.Y.S. Identification and Reporting of Child Abuse and Maltreatment
DESCRIPTION:This professional licensing course: on New York state identification and reporting of child abuse and maltreatment course is being offered to Fordham students for $25. The course covers important information professionals who are mandated to report suspected child abuse and neglect need to know\, including: \n\nDefinitions of abuse and neglect\nEmotional indicators of abuse and neglect\nHow to report suspected cases\nThe family court system and its relationship to investigations of abuse and neglect\nBehavioral indicators of abuse and neglect\nFamily dynamics in abusing and neglecting families\nThe child protective services system investigation\n\nRegistration is limited to 45 people. \nNo phone registrations will be accepted. Email JoAnne McMahon at ajomcmahon@fordham.edu for the registration form and to ask any questions you may have. \nPlease mail your registration form and a check made payable to Fordham University to:\nChildren FIRST\, Fordham University\n400 Westchester Avenue Room G07\nWest Harrison\, NY 10604. \nConfirmation will be sent via email upon receipt of registration form. \nThis course is required for any professional who is or who plans to be licensed by the New York State Department of Education. All those who attend and arrive on time will receive the New York State Education Department Certification of Completion form.
URL:https://newsuat.fordham.edu/event/professional-licensing-course-n-y-s-identification-reporting-child-abuse-maltreatment/
LOCATION:Westchester Campus Room 224\, 400 Westchester Avenue\, West Harrison\, NY\, 10604\, United States
CATEGORIES:Lectures
ATTACH;FMTTYPE=image/png:https://newsuat.fordham.edu/wp-content/uploads/2018/04/Campus-Image-1.png
ORGANIZER;CN="Children and Families Institute":MAILTO:ajomcmahon@fordham.edu
END:VEVENT
END:VCALENDAR