BEGIN:VCALENDAR
VERSION:2.0
PRODID:-//Fordham Now - ECPv6.15.20//NONSGML v1.0//EN
CALSCALE:GREGORIAN
METHOD:PUBLISH
X-WR-CALNAME:Fordham Now
X-ORIGINAL-URL:https://newsuat.fordham.edu
X-WR-CALDESC:Events for Fordham Now
REFRESH-INTERVAL;VALUE=DURATION:PT1H
X-Robots-Tag:noindex
X-PUBLISHED-TTL:PT1H
BEGIN:VTIMEZONE
TZID:America/New_York
BEGIN:DAYLIGHT
TZOFFSETFROM:-0500
TZOFFSETTO:-0400
TZNAME:EDT
DTSTART:20170312T070000
END:DAYLIGHT
BEGIN:STANDARD
TZOFFSETFROM:-0400
TZOFFSETTO:-0500
TZNAME:EST
DTSTART:20171105T060000
END:STANDARD
BEGIN:DAYLIGHT
TZOFFSETFROM:-0500
TZOFFSETTO:-0400
TZNAME:EDT
DTSTART:20180311T070000
END:DAYLIGHT
BEGIN:STANDARD
TZOFFSETFROM:-0400
TZOFFSETTO:-0500
TZNAME:EST
DTSTART:20181104T060000
END:STANDARD
BEGIN:DAYLIGHT
TZOFFSETFROM:-0500
TZOFFSETTO:-0400
TZNAME:EDT
DTSTART:20190310T070000
END:DAYLIGHT
BEGIN:STANDARD
TZOFFSETFROM:-0400
TZOFFSETTO:-0500
TZNAME:EST
DTSTART:20191103T060000
END:STANDARD
BEGIN:DAYLIGHT
TZOFFSETFROM:-0500
TZOFFSETTO:-0400
TZNAME:EDT
DTSTART:20200308T070000
END:DAYLIGHT
BEGIN:STANDARD
TZOFFSETFROM:-0400
TZOFFSETTO:-0500
TZNAME:EST
DTSTART:20201101T060000
END:STANDARD
BEGIN:DAYLIGHT
TZOFFSETFROM:-0500
TZOFFSETTO:-0400
TZNAME:EDT
DTSTART:20210314T070000
END:DAYLIGHT
BEGIN:STANDARD
TZOFFSETFROM:-0400
TZOFFSETTO:-0500
TZNAME:EST
DTSTART:20211107T060000
END:STANDARD
BEGIN:DAYLIGHT
TZOFFSETFROM:-0500
TZOFFSETTO:-0400
TZNAME:EDT
DTSTART:20220313T070000
END:DAYLIGHT
BEGIN:STANDARD
TZOFFSETFROM:-0400
TZOFFSETTO:-0500
TZNAME:EST
DTSTART:20221106T060000
END:STANDARD
END:VTIMEZONE
BEGIN:VEVENT
DTSTART;TZID=America/New_York:20210930T183000
DTEND;TZID=America/New_York:20210930T203000
DTSTAMP:20260423T165900
CREATED:20210913T140844Z
LAST-MODIFIED:20210913T140844Z
UID:10004410-1633026600-1633033800@newsuat.fordham.edu
SUMMARY:MOSAIC Fall Reception
DESCRIPTION:Join us at the Princeton Club for the Multicultural Organization Supporting Alumni Initiatives and Community’s (MOSAIC) annual reception. The event will take place on the rooftop terrace and adjoining inside event space at the Princeton Club of New York. \nRegister before September 20 to get the early bird price of $15\, which includes lite bites and an open bar. Starting on September 21\, the ticket price will be $25 \nThe Princeton Club of New York is following the Key of NYC policy guidelines. This means that all members and guests will be required to provide proof of vaccination before entering the Club premises. \nA photo or hard copy of any CDC vaccination card is acceptable\, as are the state’s Excelsior Pass app and the NYC COVID Safe app. A photo or hard copy of an official vaccination record of a vaccine administered outside the United States for one of the following vaccines is also acceptable: AstraZeneca/SK Bioscience\, Serum Institute of India/ COVISHIELD and Vaxzevris\, Sinopharm\, or Sinovac. \nWe look forward to seeing you there!
URL:https://newsuat.fordham.edu/event/mosaic-fall-reception-3/
LOCATION:Princeton Club of New York\, 15 W. 43rd St.\, 4th floor\, New York\, NY\, 10036\, United States
CATEGORIES:Networking and Career,Receptions,Social
ORGANIZER;CN="Taylor Palmer":MAILTO:tpalmer7@fordham.edu
END:VEVENT
BEGIN:VEVENT
DTSTART;TZID=America/New_York:20200317T100000
DTEND;TZID=America/New_York:20200317T153000
DTSTAMP:20260423T165900
CREATED:20200106T161950Z
LAST-MODIFIED:20200106T161950Z
UID:10003828-1584439200-1584459000@newsuat.fordham.edu
SUMMARY:CANCELED: 2020 St. Patrick’s Day Brunch
DESCRIPTION:**Please note: The St. Patrick’s Day brunch is postponed. No decision has been made on the parade itself. \nAttendees are invited to join us for the St. Patrick’s Day parade and brunch. If you join us for brunch\, we will walk over to the parade location together. If you join us for the parade only\, please meet us at our lineup location at approximately 12:30 p.m. \nPlease note: we are currently awaiting official timing and location information from the St. Patrick’s Day parade committee. Page will be updated ASAP. \nA pre–parade brunch will be hosted at 10 a.m. at the Princeton Club. This event costs $45 per adult and $20 per child. \nDuring brunch\, we will hear from a special guest speaker\, as well as Joseph M. McShane\, S.J.\, president of Fordham University. \nPlease note that registration is required for both the brunch and the parade. The brunch requires payment\, and the parade is free. \nMichael Griffin\, associate vice president for alumni relations\, and the Office of Alumni Relations invite you to march with Fordham in the 259th Annual New York City St. Patrick’ Day Parade. \nWhen you arrive at our lineup location\, please look out for the big Fordham balloons! \nMarchers are required to abide by the official St. Patrick’s Day marching rules and dress code. \nThe dress code for the parade is comfortable business attire. All Fordham participants must wear a Fordham sash to march with Fordham University. Sashes will be distributed at both the brunch and at Fordham’s lineup location. Fordham baseball caps will also be distributed. Sashes will be collected by Fordham staff at the end of the parade and re–used for future marching\, but the baseball caps are yours to keep. \nRules for the parade: \n1. Green hats\, beads\, and other costume dress are not permitted in the reviewing stands. \n2. No animals or mascots will be permitted along the parade route or in the stands. \n3. There is absolutely no consumption of alcohol permitted. This is not just our rule\, it’s New York City law. Additionally\, people displaying public drunkenness will be removed from the parade route by the NYPD. \n4. Safety is our utmost concern. Please remember that all backpacks and large bags are subject to search by NYPD. \nCan’t make it to the parade? Follow along\, as the parade is televised live to millions of households nationwide for four hours by host station WNBC Channel Four. The broadcast is webcast live on the parade’s website at nycstpatricksparade.org and WNBC Channel Four website at wnbc.com.
URL:https://newsuat.fordham.edu/event/2020-st-patricks-day-brunch-and-parade/
LOCATION:Princeton Club of New York\, 15 W. 43rd St.\, 4th floor\, New York\, NY\, 10036\, United States
CATEGORIES:Cultural
ORGANIZER;CN="Office of Alumni Relations":MAILTO:alumnioffice@fordham.edu
END:VEVENT
BEGIN:VEVENT
DTSTART;TZID=America/New_York:20190724T183000
DTEND;TZID=America/New_York:20190724T210000
DTSTAMP:20260423T165900
CREATED:20190627T185422Z
LAST-MODIFIED:20190627T185422Z
UID:10007108-1563993000-1564002000@newsuat.fordham.edu
SUMMARY:Road to Reunion: Jubilee Kickoff
DESCRIPTION:Join your fellow Rams at the Princeton Club of New York to kick off your reunion year! Enjoy drink specials and games on the terrace while learning about your upcoming Jubilee—you can even sign up for your class’ Jubilee Committee. The evening is open to all alumni celebrating their reunion next June at Rose Hill (from classes ending in 0 and 5)\, including all Golden Rams.
URL:https://newsuat.fordham.edu/event/road-to-reunion-jubilee-kickoff/
LOCATION:Princeton Club of New York\, 15 W. 43rd St.\, 4th floor\, New York\, NY\, 10036\, United States
CATEGORIES:Receptions,Reunions,Social
ATTACH;FMTTYPE=image/jpeg:https://newsuat.fordham.edu/wp-content/uploads/2019/06/J20-Ram-Logo.jpg
ORGANIZER;CN="Michaela Shank":MAILTO:mshank@fordham.edu
END:VEVENT
BEGIN:VEVENT
DTSTART;TZID=America/New_York:20181105T183000
DTEND;TZID=America/New_York:20181105T203000
DTSTAMP:20260423T165900
CREATED:20180920T161734Z
LAST-MODIFIED:20180920T161734Z
UID:10006568-1541442600-1541449800@newsuat.fordham.edu
SUMMARY:2018 Fall Executive Leadership Series
DESCRIPTION:Join the Fordham University President’s Council and fellow young alumni for an exclusive evening of roundtable discussion and collaboration at the Princeton Club of New York. Discussions will cover a variety of disciplines and focus on topics critical to both career and life success. \nThe President’s Council is comprised of some of Fordham’s most accomplished alumni. \nThe event will conclude with an open networking session\, allowing young alumni the opportunity to spend additional time interacting with the mentors. Admission is $25 and includes hors d’oeuvres and an open bar. Take advantage of this exclusive professional development opportunity. \nInterested in reduced admission to this event and others? Join or learn more about the Young Alumni President’s Club. \nBusiness attire is required for this event. 
URL:https://newsuat.fordham.edu/event/2018-fall-executive-leadership-series/
LOCATION:Princeton Club of New York\, 15 W. 43rd St.\, 4th floor\, New York\, NY\, 10036\, United States
CATEGORIES:Networking and Career
ATTACH;FMTTYPE=image/png:https://newsuat.fordham.edu/wp-content/uploads/2018/09/Alumni-Calendar-Image-Template-1.png
ORGANIZER;CN="Matt Burns":MAILTO:mburns2@fordham.edu
END:VEVENT
BEGIN:VEVENT
DTSTART;TZID=America/New_York:20180808T183000
DTEND;TZID=America/New_York:20180808T210000
DTSTAMP:20260423T165900
CREATED:20180724T203930Z
LAST-MODIFIED:20180724T203930Z
UID:10006497-1533753000-1533762000@newsuat.fordham.edu
SUMMARY:Jubilee 2019 | Road to Reunion Kick-Off Event
DESCRIPTION:Join your fellow Rams at the Princeton Club of New York to kick off your reunion year! Enjoy drink specials and games on the terrace while learning about your upcoming Jubilee. You can also learn more about joining your class’s Jubilee Committee. \nThe evening is open to all Bensalem\, Fordham College at Rose Hill\, undergraduate Gabelli School of Business\, Thomas More College\, and Undergraduate School of Education alumni who graduated in a year ending in 4 or 9. We also invite all Marymount alumnae and all Golden Rams to join us!
URL:https://newsuat.fordham.edu/event/jubilee-2019-road-to-reunion-kick-off-event/
LOCATION:Princeton Club of New York\, 15 W. 43rd St.\, 4th floor\, New York\, NY\, 10036\, United States
CATEGORIES:Reunions
ATTACH;FMTTYPE=image/jpeg:https://newsuat.fordham.edu/wp-content/uploads/2018/07/J19-Calendar-Banner-1.jpg
ORGANIZER;CN="Michaela Shank":MAILTO:mshank@fordham.edu
END:VEVENT
END:VCALENDAR