BEGIN:VCALENDAR
VERSION:2.0
PRODID:-//Fordham Now - ECPv6.15.20//NONSGML v1.0//EN
CALSCALE:GREGORIAN
METHOD:PUBLISH
X-ORIGINAL-URL:https://newsuat.fordham.edu
X-WR-CALDESC:Events for Fordham Now
REFRESH-INTERVAL;VALUE=DURATION:PT1H
X-Robots-Tag:noindex
X-PUBLISHED-TTL:PT1H
BEGIN:VTIMEZONE
TZID:America/New_York
BEGIN:DAYLIGHT
TZOFFSETFROM:-0500
TZOFFSETTO:-0400
TZNAME:EDT
DTSTART:20160313T070000
END:DAYLIGHT
BEGIN:STANDARD
TZOFFSETFROM:-0400
TZOFFSETTO:-0500
TZNAME:EST
DTSTART:20161106T060000
END:STANDARD
BEGIN:DAYLIGHT
TZOFFSETFROM:-0500
TZOFFSETTO:-0400
TZNAME:EDT
DTSTART:20170312T070000
END:DAYLIGHT
BEGIN:STANDARD
TZOFFSETFROM:-0400
TZOFFSETTO:-0500
TZNAME:EST
DTSTART:20171105T060000
END:STANDARD
BEGIN:DAYLIGHT
TZOFFSETFROM:-0500
TZOFFSETTO:-0400
TZNAME:EDT
DTSTART:20180311T070000
END:DAYLIGHT
BEGIN:STANDARD
TZOFFSETFROM:-0400
TZOFFSETTO:-0500
TZNAME:EST
DTSTART:20181104T060000
END:STANDARD
END:VTIMEZONE
BEGIN:VEVENT
DTSTART;TZID=America/New_York:20171210T110000
DTEND;TZID=America/New_York:20171210T110000
DTSTAMP:20260425T223116
CREATED:20171206T203021Z
LAST-MODIFIED:20171206T203021Z
UID:10006200-1512903600-1512903600@newsuat.fordham.edu
SUMMARY:Alumni Chapter of Miami: 2017 Holiday Brunch
DESCRIPTION:Celebrate the holiday season in South Beach with the Fordham Alumni Chapter of Miami! Gather with fellow alumni over brunch\, reminisce about your time at Rose Hill and Lincoln Center\, and share this special season with your fellow Rams. Merriment and good cheer will be had by all! \nThis event costs $55 per person for food and beverage (not including tip). \nPlease consider making a gift of $25 or more in support of Fordham financial aid.
URL:https://newsuat.fordham.edu/event/alumni-chapter-miami-2017-holiday-brunch/
LOCATION:Prime Fish\, 100 Collins Ave\, Miami Beach\, FL\, 33139\, United States
CATEGORIES:Receptions
ORGANIZER;CN="Kevin Morro":MAILTO:kmorro@gmail.com
GEO:25.770097;-80.134298
X-APPLE-STRUCTURED-LOCATION;VALUE=URI;X-ADDRESS=Prime Fish 100 Collins Ave Miami Beach FL 33139 United States;X-APPLE-RADIUS=500;X-TITLE=100 Collins Ave:geo:-80.134298,25.770097
END:VEVENT
END:VCALENDAR