BEGIN:VCALENDAR
VERSION:2.0
PRODID:-//Fordham Now - ECPv6.15.20//NONSGML v1.0//EN
CALSCALE:GREGORIAN
METHOD:PUBLISH
X-ORIGINAL-URL:https://newsuat.fordham.edu
X-WR-CALDESC:Events for Fordham Now
REFRESH-INTERVAL;VALUE=DURATION:PT1H
X-Robots-Tag:noindex
X-PUBLISHED-TTL:PT1H
BEGIN:VTIMEZONE
TZID:America/New_York
BEGIN:DAYLIGHT
TZOFFSETFROM:-0500
TZOFFSETTO:-0400
TZNAME:EDT
DTSTART:20210314T070000
END:DAYLIGHT
BEGIN:STANDARD
TZOFFSETFROM:-0400
TZOFFSETTO:-0500
TZNAME:EST
DTSTART:20211107T060000
END:STANDARD
BEGIN:DAYLIGHT
TZOFFSETFROM:-0500
TZOFFSETTO:-0400
TZNAME:EDT
DTSTART:20220313T070000
END:DAYLIGHT
BEGIN:STANDARD
TZOFFSETFROM:-0400
TZOFFSETTO:-0500
TZNAME:EST
DTSTART:20221106T060000
END:STANDARD
BEGIN:DAYLIGHT
TZOFFSETFROM:-0500
TZOFFSETTO:-0400
TZNAME:EDT
DTSTART:20230312T070000
END:DAYLIGHT
BEGIN:STANDARD
TZOFFSETFROM:-0400
TZOFFSETTO:-0500
TZNAME:EST
DTSTART:20231105T060000
END:STANDARD
END:VTIMEZONE
BEGIN:VEVENT
DTSTART;TZID=America/New_York:20220623T181500
DTEND;TZID=America/New_York:20220623T181500
DTSTAMP:20260421T001322
CREATED:20220517T181850Z
LAST-MODIFIED:20220517T181850Z
UID:10004745-1656008100-1656008100@newsuat.fordham.edu
SUMMARY:Alumni Chapter of San Diego: 2022 Baseball Outing
DESCRIPTION:Join the Alumni Chapter of San Diego for a Padres versus Phillies game at Petco Park! Come enjoy catching up with San Diego Rams in our group seating area\, The Point\, located in the outfield. \nGuests can move around the stadium freely to enjoy the atmosphere\, choose food and drinks of their liking\, and watch the game together at The Point. \nWe will meet at Basic Pizza directly outside of the stadium entrance to distribute tickets. Please arrive between 5:30 p.m. and 6:15 p.m. and we will enter the stadium together. \nRSVP by June 18. We hope to see you there!
URL:https://newsuat.fordham.edu/event/alumni-chapter-of-san-diego-2022-baseball-outing/
LOCATION:Petco Park\, 100 Park Boulevard\, San Diego\, CA\, 92101\, United States
CATEGORIES:Athletics,Receptions
ORGANIZER;CN="Alumni Chapter of San Diego":MAILTO:gotschall@fordham.edu
END:VEVENT
END:VCALENDAR