BEGIN:VCALENDAR
VERSION:2.0
PRODID:-//Fordham Now - ECPv6.15.20//NONSGML v1.0//EN
CALSCALE:GREGORIAN
METHOD:PUBLISH
X-WR-CALNAME:Fordham Now
X-ORIGINAL-URL:https://newsuat.fordham.edu
X-WR-CALDESC:Events for Fordham Now
REFRESH-INTERVAL;VALUE=DURATION:PT1H
X-Robots-Tag:noindex
X-PUBLISHED-TTL:PT1H
BEGIN:VTIMEZONE
TZID:America/New_York
BEGIN:DAYLIGHT
TZOFFSETFROM:-0500
TZOFFSETTO:-0400
TZNAME:EDT
DTSTART:20170312T070000
END:DAYLIGHT
BEGIN:STANDARD
TZOFFSETFROM:-0400
TZOFFSETTO:-0500
TZNAME:EST
DTSTART:20171105T060000
END:STANDARD
BEGIN:DAYLIGHT
TZOFFSETFROM:-0500
TZOFFSETTO:-0400
TZNAME:EDT
DTSTART:20180311T070000
END:DAYLIGHT
BEGIN:STANDARD
TZOFFSETFROM:-0400
TZOFFSETTO:-0500
TZNAME:EST
DTSTART:20181104T060000
END:STANDARD
BEGIN:DAYLIGHT
TZOFFSETFROM:-0500
TZOFFSETTO:-0400
TZNAME:EDT
DTSTART:20190310T070000
END:DAYLIGHT
BEGIN:STANDARD
TZOFFSETFROM:-0400
TZOFFSETTO:-0500
TZNAME:EST
DTSTART:20191103T060000
END:STANDARD
BEGIN:DAYLIGHT
TZOFFSETFROM:-0500
TZOFFSETTO:-0400
TZNAME:EDT
DTSTART:20200308T070000
END:DAYLIGHT
BEGIN:STANDARD
TZOFFSETFROM:-0400
TZOFFSETTO:-0500
TZNAME:EST
DTSTART:20201101T060000
END:STANDARD
BEGIN:DAYLIGHT
TZOFFSETFROM:-0500
TZOFFSETTO:-0400
TZNAME:EDT
DTSTART:20210314T070000
END:DAYLIGHT
BEGIN:STANDARD
TZOFFSETFROM:-0400
TZOFFSETTO:-0500
TZNAME:EST
DTSTART:20211107T060000
END:STANDARD
BEGIN:DAYLIGHT
TZOFFSETFROM:-0500
TZOFFSETTO:-0400
TZNAME:EDT
DTSTART:20220313T070000
END:DAYLIGHT
BEGIN:STANDARD
TZOFFSETFROM:-0400
TZOFFSETTO:-0500
TZNAME:EST
DTSTART:20221106T060000
END:STANDARD
END:VTIMEZONE
BEGIN:VEVENT
DTSTART;TZID=America/New_York:20210918T120000
DTEND;TZID=America/New_York:20210918T150000
DTSTAMP:20260423T172229
CREATED:20200302T170901Z
LAST-MODIFIED:20200302T170901Z
UID:10003934-1631966400-1631977200@newsuat.fordham.edu
SUMMARY:Alumni Chapter of Long Island: Beers by the Bay
DESCRIPTION:Alumni\, family\, and friends are invited to join fellow Long Island Rams for our alumni chapter’s seventh annual beer tasting at one of Long Island’s own breweries. \nThis event costs $36 per person and includes beer and wine for three hours. Sandwiches and chips will be provided by the Long Island Alumni Chapter.
URL:https://newsuat.fordham.edu/event/alumni-chapter-of-long-island-2020-beers-by-the-bay/
LOCATION:Oyster Bay Brewing Company\, 36 Audrey Ave.\, Oyster Bay\, NY\, 11771\, United States
CATEGORIES:Social
ORGANIZER;CN="Alumni Chapter of Long Island":MAILTO:phillipcicione@gmail.com
GEO:40.8732037;-73.5313905
X-APPLE-STRUCTURED-LOCATION;VALUE=URI;X-ADDRESS=Oyster Bay Brewing Company 36 Audrey Ave. Oyster Bay NY 11771 United States;X-APPLE-RADIUS=500;X-TITLE=36 Audrey Ave.:geo:-73.5313905,40.8732037
END:VEVENT
BEGIN:VEVENT
DTSTART;TZID=America/New_York:20190518T120000
DTEND;TZID=America/New_York:20190518T150000
DTSTAMP:20260423T172229
CREATED:20190307T195305Z
LAST-MODIFIED:20190307T195305Z
UID:10006974-1558180800-1558191600@newsuat.fordham.edu
SUMMARY:Alumni Chapter of Long Island: 2019 Beers by the Bay
DESCRIPTION:Alumni\, family\, and friends are invited to join fellow Long Island Rams for our alumni chapter’s sixth annual beer tasting at one of Long Island’s own breweries. The tasting will last three hours and food will be provided by the chapter. This event costs $36 per person. \nRSVP by May 16\, 2019.
URL:https://newsuat.fordham.edu/event/alumni-chapter-of-long-island-2019-beers-by-the-bay/
LOCATION:Oyster Bay Brewing Company\, 36 Audrey Ave.\, Oyster Bay\, NY\, 11771\, United States
CATEGORIES:Networking and Career,Social
ORGANIZER;CN="Alumni Chapter of Long Island":MAILTO:phillipcicione@gmail.com
GEO:40.8732037;-73.5313905
X-APPLE-STRUCTURED-LOCATION;VALUE=URI;X-ADDRESS=Oyster Bay Brewing Company 36 Audrey Ave. Oyster Bay NY 11771 United States;X-APPLE-RADIUS=500;X-TITLE=36 Audrey Ave.:geo:-73.5313905,40.8732037
END:VEVENT
BEGIN:VEVENT
DTSTART;TZID=America/New_York:20180421T120000
DTEND;TZID=America/New_York:20180421T150000
DTSTAMP:20260423T172229
CREATED:20180216T182444Z
LAST-MODIFIED:20180216T182444Z
UID:10006348-1524312000-1524322800@newsuat.fordham.edu
SUMMARY:Alumni Chapter of Long Island: 2018 Beers by the Bay
DESCRIPTION:Alumni\, family\, and friends are invited to join fellow Long Island Rams for our alumni chapter’s fifth annual beer tasting at one of Long Island’s own breweries. The tasting will last three hours and food will be provided by the chapter. This event costs $36 per person. \nRSVP by April 16\, 2018.
URL:https://newsuat.fordham.edu/event/alumni-chapter-long-island-2018-beers-bay/
LOCATION:Oyster Bay Brewing Company\, 36 Audrey Ave.\, Oyster Bay\, NY\, 11771\, United States
CATEGORIES:Social
ORGANIZER;CN="Ainsley Kelley":MAILTO:akelley6@fordham.edu
GEO:40.8732037;-73.5313905
X-APPLE-STRUCTURED-LOCATION;VALUE=URI;X-ADDRESS=Oyster Bay Brewing Company 36 Audrey Ave. Oyster Bay NY 11771 United States;X-APPLE-RADIUS=500;X-TITLE=36 Audrey Ave.:geo:-73.5313905,40.8732037
END:VEVENT
END:VCALENDAR