BEGIN:VCALENDAR
VERSION:2.0
PRODID:-//Fordham Now - ECPv6.15.20//NONSGML v1.0//EN
CALSCALE:GREGORIAN
METHOD:PUBLISH
X-ORIGINAL-URL:https://newsuat.fordham.edu
X-WR-CALDESC:Events for Fordham Now
REFRESH-INTERVAL;VALUE=DURATION:PT1H
X-Robots-Tag:noindex
X-PUBLISHED-TTL:PT1H
BEGIN:VTIMEZONE
TZID:America/Los_Angeles
BEGIN:DAYLIGHT
TZOFFSETFROM:-0800
TZOFFSETTO:-0700
TZNAME:PDT
DTSTART:20190310T100000
END:DAYLIGHT
BEGIN:STANDARD
TZOFFSETFROM:-0700
TZOFFSETTO:-0800
TZNAME:PST
DTSTART:20191103T090000
END:STANDARD
BEGIN:DAYLIGHT
TZOFFSETFROM:-0800
TZOFFSETTO:-0700
TZNAME:PDT
DTSTART:20200308T100000
END:DAYLIGHT
BEGIN:STANDARD
TZOFFSETFROM:-0700
TZOFFSETTO:-0800
TZNAME:PST
DTSTART:20201101T090000
END:STANDARD
BEGIN:DAYLIGHT
TZOFFSETFROM:-0800
TZOFFSETTO:-0700
TZNAME:PDT
DTSTART:20210314T100000
END:DAYLIGHT
BEGIN:STANDARD
TZOFFSETFROM:-0700
TZOFFSETTO:-0800
TZNAME:PST
DTSTART:20211107T090000
END:STANDARD
END:VTIMEZONE
BEGIN:VEVENT
DTSTART;TZID=America/Los_Angeles:20200402T183000
DTEND;TZID=America/Los_Angeles:20200402T203000
DTSTAMP:20260424T223527
CREATED:20200213T144138Z
LAST-MODIFIED:20200213T144138Z
UID:10003916-1585852200-1585859400@newsuat.fordham.edu
SUMMARY:POSTPONED: Alumni Chapter of Portland: Chapter Kick-Off Event
DESCRIPTION:Please join the Alumni Chapter of Portland for their inaugural event at McMenamins Ram’s Head. We are looking forward to building the Fordham network in Portland and discussing the future of the local chapter. Our group will meet in the lounge area. Family and friends are welcome to join. \nLight appetizers will be provided and a cash bar will be available.
URL:https://newsuat.fordham.edu/event/alumni-chapter-of-portland-chapter-kick-off-event/
LOCATION:McMenamin’s Ram’s Head\, 2822 N.W. Hoyt Street\, Portland\, OR\, 97210\, United States
CATEGORIES:Receptions,Social
ORGANIZER;CN="Alumni Chapter of Portland":MAILTO:drodriguez3182@yahoo.com
END:VEVENT
END:VCALENDAR