BEGIN:VCALENDAR
VERSION:2.0
PRODID:-//Fordham Now - ECPv6.15.20//NONSGML v1.0//EN
CALSCALE:GREGORIAN
METHOD:PUBLISH
X-WR-CALNAME:Fordham Now
X-ORIGINAL-URL:https://newsuat.fordham.edu
X-WR-CALDESC:Events for Fordham Now
REFRESH-INTERVAL;VALUE=DURATION:PT1H
X-Robots-Tag:noindex
X-PUBLISHED-TTL:PT1H
BEGIN:VTIMEZONE
TZID:America/New_York
BEGIN:DAYLIGHT
TZOFFSETFROM:-0500
TZOFFSETTO:-0400
TZNAME:EDT
DTSTART:20180311T070000
END:DAYLIGHT
BEGIN:STANDARD
TZOFFSETFROM:-0400
TZOFFSETTO:-0500
TZNAME:EST
DTSTART:20181104T060000
END:STANDARD
BEGIN:DAYLIGHT
TZOFFSETFROM:-0500
TZOFFSETTO:-0400
TZNAME:EDT
DTSTART:20190310T070000
END:DAYLIGHT
BEGIN:STANDARD
TZOFFSETFROM:-0400
TZOFFSETTO:-0500
TZNAME:EST
DTSTART:20191103T060000
END:STANDARD
BEGIN:DAYLIGHT
TZOFFSETFROM:-0500
TZOFFSETTO:-0400
TZNAME:EDT
DTSTART:20200308T070000
END:DAYLIGHT
BEGIN:STANDARD
TZOFFSETFROM:-0400
TZOFFSETTO:-0500
TZNAME:EST
DTSTART:20201101T060000
END:STANDARD
END:VTIMEZONE
BEGIN:VEVENT
DTSTART;TZID=America/New_York:20191020T130000
DTEND;TZID=America/New_York:20191020T160000
DTSTAMP:20260425T092642
CREATED:20190930T140913Z
LAST-MODIFIED:20190930T140913Z
UID:10007240-1571576400-1571587200@newsuat.fordham.edu
SUMMARY:Alumni Chapter of Hartford: Day at the Brewery at Maple View Farm
DESCRIPTION:Join us for a brewery and farm tour at the Maple View Farm\, owned by Kate Bogli\, FCRH ’94\, and Jason Bogli\, FCRH ’94. Their venue offers beer\, music\, and a full farm experience\, and this event will feature live music by Gracie Day starting at 3 p.m. This event is family friendly—bring your children of all ages\, including leashed four-legged friends! No outside alcohol is allowed\, but the farm stand will be open with plenty of snacks. \nPlease consider making a gift of $25 or more to support Fordham financial aid.
URL:https://newsuat.fordham.edu/event/alumni-chapter-of-hartford-day-at-the-brewery-at-maple-view-farm/
LOCATION:Maple View Farm\, 192/198R Salmon Brook Street\, Granby\, CT\, 06035\, United States
CATEGORIES:Social
ORGANIZER;CN="Alumni Chapter of Hartford":MAILTO:fordhamalumsct@gmail.com
GEO:41.942268;-72.788123
X-APPLE-STRUCTURED-LOCATION;VALUE=URI;X-ADDRESS=Maple View Farm 192/198R Salmon Brook Street Granby CT 06035 United States;X-APPLE-RADIUS=500;X-TITLE=192/198R Salmon Brook Street:geo:-72.788123,41.942268
END:VEVENT
END:VCALENDAR