BEGIN:VCALENDAR
VERSION:2.0
PRODID:-//Fordham Now - ECPv6.15.20//NONSGML v1.0//EN
CALSCALE:GREGORIAN
METHOD:PUBLISH
X-WR-CALNAME:Fordham Now
X-ORIGINAL-URL:https://newsuat.fordham.edu
X-WR-CALDESC:Events for Fordham Now
REFRESH-INTERVAL;VALUE=DURATION:PT1H
X-Robots-Tag:noindex
X-PUBLISHED-TTL:PT1H
BEGIN:VTIMEZONE
TZID:Asia/Shanghai
BEGIN:STANDARD
TZOFFSETFROM:+0800
TZOFFSETTO:+0800
TZNAME:CST
DTSTART:20180101T000000
END:STANDARD
END:VTIMEZONE
BEGIN:VEVENT
DTSTART;TZID=Asia/Shanghai:20191124T150000
DTEND;TZID=Asia/Shanghai:20191124T170000
DTSTAMP:20260425T064215
CREATED:20190828T193447Z
LAST-MODIFIED:20190828T193447Z
UID:10007162-1574607600-1574614800@newsuat.fordham.edu
SUMMARY:2019 Shanghai Regional Reception
DESCRIPTION:The Office of Alumni Relations and Dennis C. Jacobs\, Ph.D.\, university provost and senior vice president for academic affairs\, cordially invite you to a complimentary reception for alumni\, parents\, and friends. Meet fellow Shanghai-based alumni and learn about what’s new at Fordham University.
URL:https://newsuat.fordham.edu/event/2019-shanghai-regional-reception/
LOCATION:M Glam\, No. 5 on the Bund\, 7th Floor 20 Guangdong Rd\, Shanghai\, China
CATEGORIES:Receptions
ATTACH;FMTTYPE=image/jpeg:https://newsuat.fordham.edu/wp-content/uploads/2019/08/20-0122_AR_REGIONAL_EMAIL_BANNERS_V12-2.jpg
ORGANIZER;CN="Ainsley Kelley":MAILTO:akelley6@fordham.edu
GEO:31.2344527;121.4905596
X-APPLE-STRUCTURED-LOCATION;VALUE=URI;X-ADDRESS=M Glam No. 5 on the Bund 7th Floor 20 Guangdong Rd Shanghai China;X-APPLE-RADIUS=500;X-TITLE=No. 5 on the Bund\, 7th Floor 20 Guangdong Rd:geo:121.4905596,31.2344527
END:VEVENT
END:VCALENDAR