BEGIN:VCALENDAR
VERSION:2.0
PRODID:-//Fordham Now - ECPv6.15.20//NONSGML v1.0//EN
CALSCALE:GREGORIAN
METHOD:PUBLISH
X-ORIGINAL-URL:https://newsuat.fordham.edu
X-WR-CALDESC:Events for Fordham Now
REFRESH-INTERVAL;VALUE=DURATION:PT1H
X-Robots-Tag:noindex
X-PUBLISHED-TTL:PT1H
BEGIN:VTIMEZONE
TZID:America/New_York
BEGIN:DAYLIGHT
TZOFFSETFROM:-0500
TZOFFSETTO:-0400
TZNAME:EDT
DTSTART:20180311T070000
END:DAYLIGHT
BEGIN:STANDARD
TZOFFSETFROM:-0400
TZOFFSETTO:-0500
TZNAME:EST
DTSTART:20181104T060000
END:STANDARD
BEGIN:DAYLIGHT
TZOFFSETFROM:-0500
TZOFFSETTO:-0400
TZNAME:EDT
DTSTART:20190310T070000
END:DAYLIGHT
BEGIN:STANDARD
TZOFFSETFROM:-0400
TZOFFSETTO:-0500
TZNAME:EST
DTSTART:20191103T060000
END:STANDARD
BEGIN:DAYLIGHT
TZOFFSETFROM:-0500
TZOFFSETTO:-0400
TZNAME:EDT
DTSTART:20200308T070000
END:DAYLIGHT
BEGIN:STANDARD
TZOFFSETFROM:-0400
TZOFFSETTO:-0500
TZNAME:EST
DTSTART:20201101T060000
END:STANDARD
END:VTIMEZONE
BEGIN:VEVENT
DTSTART;TZID=America/New_York:20190913T170000
DTEND;TZID=America/New_York:20190915T120000
DTSTAMP:20260425T110950
CREATED:20190822T133441Z
LAST-MODIFIED:20190822T133441Z
UID:10007149-1568394000-1568548800@newsuat.fordham.edu
SUMMARY:Ignatian Spiritual Retreat
DESCRIPTION:In our increasingly plugged-in world\, taking time to unplug can have refreshing benefits for the body\, mind\, and spirit. Please join men and women from our Jesuit College Alumni/ae\, family\, and friends for a quiet listening retreat at Loyola Jesuit Center in Morristown\, New Jersey.
URL:https://newsuat.fordham.edu/event/ignatian-spiritual-retreat/
LOCATION:Loyola Jesuit Center in Morristown\, NJ\, 161 James St\, Moristown\, NJ\, 07960\, United States
CATEGORIES:Spiritual and Religious Events
ORGANIZER;CN="Father Daniel Gatti%2C S.J.":MAILTO:dgatti@fordham.edu
END:VEVENT
END:VCALENDAR