BEGIN:VCALENDAR
VERSION:2.0
PRODID:-//Fordham Now - ECPv6.15.20//NONSGML v1.0//EN
CALSCALE:GREGORIAN
METHOD:PUBLISH
X-ORIGINAL-URL:https://newsuat.fordham.edu
X-WR-CALDESC:Events for Fordham Now
REFRESH-INTERVAL;VALUE=DURATION:PT1H
X-Robots-Tag:noindex
X-PUBLISHED-TTL:PT1H
BEGIN:VTIMEZONE
TZID:America/New_York
BEGIN:DAYLIGHT
TZOFFSETFROM:-0500
TZOFFSETTO:-0400
TZNAME:EDT
DTSTART:20150308T070000
END:DAYLIGHT
BEGIN:STANDARD
TZOFFSETFROM:-0400
TZOFFSETTO:-0500
TZNAME:EST
DTSTART:20151101T060000
END:STANDARD
BEGIN:DAYLIGHT
TZOFFSETFROM:-0500
TZOFFSETTO:-0400
TZNAME:EDT
DTSTART:20160313T070000
END:DAYLIGHT
BEGIN:STANDARD
TZOFFSETFROM:-0400
TZOFFSETTO:-0500
TZNAME:EST
DTSTART:20161106T060000
END:STANDARD
BEGIN:DAYLIGHT
TZOFFSETFROM:-0500
TZOFFSETTO:-0400
TZNAME:EDT
DTSTART:20170312T070000
END:DAYLIGHT
BEGIN:STANDARD
TZOFFSETFROM:-0400
TZOFFSETTO:-0500
TZNAME:EST
DTSTART:20171105T060000
END:STANDARD
END:VTIMEZONE
BEGIN:VEVENT
DTSTART;TZID=America/New_York:20160125T140000
DTEND;TZID=America/New_York:20160125T160000
DTSTAMP:20260425T060136
CREATED:20160122T202715Z
LAST-MODIFIED:20160122T202715Z
UID:10005320-1453730400-1453737600@newsuat.fordham.edu
SUMMARY:Office of Research Training Session
DESCRIPTION:The Office of Research will provide an overview of research at Fordham and information about the internal and external award process.
URL:https://newsuat.fordham.edu/event/office-of-research-training-session/
LOCATION:Lowenstein 1017\, 113 West 60th Street\, New York\, NY\, 10023\, United States
ORGANIZER;CN="Office of Research":MAILTO:research@forhdam.edu
GEO:40.7708109;-73.9851512
X-APPLE-STRUCTURED-LOCATION;VALUE=URI;X-ADDRESS=Lowenstein 1017 113 West 60th Street New York NY 10023 United States;X-APPLE-RADIUS=500;X-TITLE=113 West 60th Street:geo:-73.9851512,40.7708109
END:VEVENT
END:VCALENDAR