BEGIN:VCALENDAR
VERSION:2.0
PRODID:-//Fordham Now - ECPv6.15.20//NONSGML v1.0//EN
CALSCALE:GREGORIAN
METHOD:PUBLISH
X-ORIGINAL-URL:https://newsuat.fordham.edu
X-WR-CALDESC:Events for Fordham Now
REFRESH-INTERVAL;VALUE=DURATION:PT1H
X-Robots-Tag:noindex
X-PUBLISHED-TTL:PT1H
BEGIN:VTIMEZONE
TZID:America/Los_Angeles
BEGIN:DAYLIGHT
TZOFFSETFROM:-0800
TZOFFSETTO:-0700
TZNAME:PDT
DTSTART:20220313T100000
END:DAYLIGHT
BEGIN:STANDARD
TZOFFSETFROM:-0700
TZOFFSETTO:-0800
TZNAME:PST
DTSTART:20221106T090000
END:STANDARD
BEGIN:DAYLIGHT
TZOFFSETFROM:-0800
TZOFFSETTO:-0700
TZNAME:PDT
DTSTART:20230312T100000
END:DAYLIGHT
BEGIN:STANDARD
TZOFFSETFROM:-0700
TZOFFSETTO:-0800
TZNAME:PST
DTSTART:20231105T090000
END:STANDARD
BEGIN:DAYLIGHT
TZOFFSETFROM:-0800
TZOFFSETTO:-0700
TZNAME:PDT
DTSTART:20240310T100000
END:DAYLIGHT
BEGIN:STANDARD
TZOFFSETFROM:-0700
TZOFFSETTO:-0800
TZNAME:PST
DTSTART:20241103T090000
END:STANDARD
END:VTIMEZONE
BEGIN:VEVENT
DTSTART;TZID=America/Los_Angeles:20230112T183000
DTEND;TZID=America/Los_Angeles:20230112T203000
DTSTAMP:20260417T193642
CREATED:20221201T162701Z
LAST-MODIFIED:20221201T162701Z
UID:10004898-1673548200-1673555400@newsuat.fordham.edu
SUMMARY:2023 Los Angeles Presidential Welcome Reception
DESCRIPTION:The Fordham Alumni Chapter of Los Angeles and the Office of Alumni Relations cordially invite you to a complimentary reception for alumni\, parents\, and friends. This event is hosted by Shelley McCarthy and Brian McCarthy\, LAW ’78\, Teresa Hicks-Nuzzi\, FCRH ’77\, PAR\, and Dominick Nuzzi\, FCRH ’76\, PAR. Please join us as we welcome Tania Tetlow as Fordham’s 33rd president—the first woman and layperson to serve as president in the University’s history. \nSpace is limited\, and advance registration is required. RSVP by December 29. \nAs the cost of this event is being generously covered by our hosts\, Shelley and Brian McCarthy and Terry and Dom Nuzzi\, please consider making a gift of $25 or more to support Cura Personalis | For Every Fordham Student.
URL:https://newsuat.fordham.edu/event/2023-los-angeles-presidential-welcome-reception/
LOCATION:Loews Santa Monica Beach Hotel\, 1700 Ocean Avenue\, Santa Monica\, CA\, 90401\, United States
CATEGORIES:Networking and Career,Receptions,Social
ORGANIZER;CN="Office of Alumni Relations":MAILTO:alumnioffice@fordham.edu
END:VEVENT
END:VCALENDAR