BEGIN:VCALENDAR
VERSION:2.0
PRODID:-//Fordham Now - ECPv6.15.20//NONSGML v1.0//EN
CALSCALE:GREGORIAN
METHOD:PUBLISH
X-WR-CALNAME:Fordham Now
X-ORIGINAL-URL:https://newsuat.fordham.edu
X-WR-CALDESC:Events for Fordham Now
REFRESH-INTERVAL;VALUE=DURATION:PT1H
X-Robots-Tag:noindex
X-PUBLISHED-TTL:PT1H
BEGIN:VTIMEZONE
TZID:America/New_York
BEGIN:DAYLIGHT
TZOFFSETFROM:-0500
TZOFFSETTO:-0400
TZNAME:EDT
DTSTART:20150308T070000
END:DAYLIGHT
BEGIN:STANDARD
TZOFFSETFROM:-0400
TZOFFSETTO:-0500
TZNAME:EST
DTSTART:20151101T060000
END:STANDARD
BEGIN:DAYLIGHT
TZOFFSETFROM:-0500
TZOFFSETTO:-0400
TZNAME:EDT
DTSTART:20160313T070000
END:DAYLIGHT
BEGIN:STANDARD
TZOFFSETFROM:-0400
TZOFFSETTO:-0500
TZNAME:EST
DTSTART:20161106T060000
END:STANDARD
BEGIN:DAYLIGHT
TZOFFSETFROM:-0500
TZOFFSETTO:-0400
TZNAME:EDT
DTSTART:20170312T070000
END:DAYLIGHT
BEGIN:STANDARD
TZOFFSETFROM:-0400
TZOFFSETTO:-0500
TZNAME:EST
DTSTART:20171105T060000
END:STANDARD
BEGIN:DAYLIGHT
TZOFFSETFROM:-0500
TZOFFSETTO:-0400
TZNAME:EDT
DTSTART:20180311T070000
END:DAYLIGHT
BEGIN:STANDARD
TZOFFSETFROM:-0400
TZOFFSETTO:-0500
TZNAME:EST
DTSTART:20181104T060000
END:STANDARD
BEGIN:DAYLIGHT
TZOFFSETFROM:-0500
TZOFFSETTO:-0400
TZNAME:EDT
DTSTART:20190310T070000
END:DAYLIGHT
BEGIN:STANDARD
TZOFFSETFROM:-0400
TZOFFSETTO:-0500
TZNAME:EST
DTSTART:20191103T060000
END:STANDARD
END:VTIMEZONE
BEGIN:VEVENT
DTSTART;TZID=America/New_York:20180421T093000
DTEND;TZID=America/New_York:20180421T170000
DTSTAMP:20260426T002945
CREATED:20180419T183354Z
LAST-MODIFIED:20180419T183354Z
UID:10006436-1524303000-1524330000@newsuat.fordham.edu
SUMMARY:The Advocacy/Journalism Conference
DESCRIPTION:Explore the relationship and tensions between social justice advocacy and journalism at Fordham’s Advocacy/Journalism Conference. This event is free for members of the Fordham community. \nAgenda\n9:30 – 10 a.m. Coffee Service \n10 – 10:25 a.m. Opening Remarks and Faculty Speed-Talks \n10:30 a.m. – 12 p.m. Intersectional Media for Social Change Panel\nCassady Fendlay\, Communications Strategist for Women’s March and Justice League NYC\nAgunda Okeyo\, Writer/Producer/Filmmaker/Activist\, Communications Chair for the March for Racial Justice\nSameer Rao\, Culture Reporter for Colorlines\nJulian Sanjivan\, NYC Pride March Director \n12 – 1 p.m. Lunch \n1:05 – 2 p.m. Breakout Session 1\n 2:05 – 3:05 p.m. Breakout Session 2\nWe’re happy to offer our attendees the opportunity to attend two of the breakout sessions in their entirety. Each session will occur twice\, first during Breakout Session 1 and then again during Breakout Session 2.\nWhat the Fact? Fact-Checking for Everybody\nFacilitator: Brooke Borel\, Journalist\, Author\, and Editor \n#METOOSOON? What’s so Funny about Sexual Misconduct?\nFacilitator: Bob Mankoff\, Cartoon and Humor Editor for Esquire\nStorytelling and Strategizing from the Margins\nFacilitator: Nayantara Sen\, Cultural Strategies Manager and Senior Trainer for Race Forward \n3:15 – 4:45 p.m. Data\, Technology\, and Justice Panel \nSamarth Bhaskar\, Editor of Digital Transition at The New York Times\nMyaisha Hayes\, National Organizer on Criminal Justice and Technology at the Center for Media Justice\nColin Schoenberger\, Associate Director for Audience Development at ‎WNET New York Public Media\nEvan Tachovsky\, Data Analyst for the Rockefeller Foundation\nKerry Paterson\, Advocacy and Communications Manager at Committee to Protect Journalists \n4:45 p.m. Closing Comments \nThe Advocacy/Journalism Conference is organized by the Master of Arts in Public Media program at Fordham University. Additional support is provided by the Communication and Media Studies Department and the McGannon Communication Research Center.  \nQuestions? Contact:\npmma@fordham.edu
URL:https://newsuat.fordham.edu/event/advocacy-journalism-conference/
LOCATION:Law 7-119\, 150 West 62nd Street\, Bronx\, NY\, 10023\, United States
CATEGORIES:Conferences and Symposia
ATTACH;FMTTYPE=image/png:https://newsuat.fordham.edu/wp-content/uploads/2018/04/cropped-conference-full-logo.png
ORGANIZER;CN="Garrett Broad":MAILTO:Gbroad@fordham.edu
GEO:40.7769059;-73.9800645
X-APPLE-STRUCTURED-LOCATION;VALUE=URI;X-ADDRESS=Law 7-119 150 West 62nd Street Bronx NY 10023 United States;X-APPLE-RADIUS=500;X-TITLE=150 West 62nd Street:geo:-73.9800645,40.7769059
END:VEVENT
BEGIN:VEVENT
DTSTART;TZID=America/New_York:20170907T080000
DTEND;TZID=America/New_York:20170907T170000
DTSTAMP:20260426T002945
CREATED:20170907T181706Z
LAST-MODIFIED:20170907T181706Z
UID:10006062-1504771200-1504803600@newsuat.fordham.edu
SUMMARY:Immigration Nation: Identity & Labor in American Politics
DESCRIPTION:The Maloney Library Behind the Book series brings together scholars to discuss their research on contemporary issues and the publishing experience. \nSPEAKERS: \nJennifer Gordon\, Professor of Law\, Fordham University School of Law\nChristina Greer\, Associate Professor\, Political Science\, Fordham University \nMODERATOR: \nVictor Essien\, International Law Librarian & Adjunct Professor of Law\, Maloney Library
URL:https://newsuat.fordham.edu/event/immigration-nation-identity-labor-american-politics/
LOCATION:Law 7-119\, 150 West 62nd Street\, Bronx\, NY\, 10023\, United States
CATEGORIES:Lectures
ORGANIZER;CN="Maloney Library%2C David J. Goodwin":MAILTO:dgoodwin@law.fordham.edu
GEO:40.7769059;-73.9800645
X-APPLE-STRUCTURED-LOCATION;VALUE=URI;X-ADDRESS=Law 7-119 150 West 62nd Street Bronx NY 10023 United States;X-APPLE-RADIUS=500;X-TITLE=150 West 62nd Street:geo:-73.9800645,40.7769059
END:VEVENT
BEGIN:VEVENT
DTSTART;TZID=America/New_York:20160506T160000
DTEND;TZID=America/New_York:20160506T180000
DTSTAMP:20260426T002945
CREATED:20160505T144731Z
LAST-MODIFIED:20160505T144731Z
UID:10005626-1462550400-1462557600@newsuat.fordham.edu
SUMMARY:A Conversation with Peter Quinn and Terry Golway
DESCRIPTION:Speakers: Award-winning author Peter Quinn and Terry Golway\, author and senior editor at POLITICO States. Sponsored by the Department of History and the Institute of Irish Studies.
URL:https://newsuat.fordham.edu/event/a-conversation-with-peter-quinn-and-terry-golway/
LOCATION:Law 7-119\, 150 West 62nd Street\, Bronx\, NY\, 10023\, United States
ORGANIZER;CN="Susan Perciasepe":MAILTO:perciasepe@fordham.edu
GEO:40.7769059;-73.9800645
X-APPLE-STRUCTURED-LOCATION;VALUE=URI;X-ADDRESS=Law 7-119 150 West 62nd Street Bronx NY 10023 United States;X-APPLE-RADIUS=500;X-TITLE=150 West 62nd Street:geo:-73.9800645,40.7769059
END:VEVENT
BEGIN:VEVENT
DTSTART;TZID=America/New_York:20160330T160000
DTEND;TZID=America/New_York:20160330T170000
DTSTAMP:20260426T002945
CREATED:20160329T145830Z
LAST-MODIFIED:20160329T145830Z
UID:10005485-1459353600-1459357200@newsuat.fordham.edu
SUMMARY:Lecture: A Model Law on Simplified Corporations: Expectations and Challenges
DESCRIPTION:Speaker: Francisco Reyes Villamizar\, chairman of the United Nations Commission on International Trade Law (UNCITRAL). Part of the Comparative Corporate Governance Distinguished Lecture Series. Co-sponsored by the Fordham Corporate Law Center and Fordham Law’s Office of International and Non-JD Programs.
URL:https://newsuat.fordham.edu/event/lecture-a-model-law-on-simplified-corporations-expectations-and-challenges/
LOCATION:Law 7-119\, 150 West 62nd Street\, Bronx\, NY\, 10023\, United States
ORGANIZER;CN="Vera Korzun":MAILTO:vkorzun@law.fordham.edu 
GEO:40.7769059;-73.9800645
X-APPLE-STRUCTURED-LOCATION;VALUE=URI;X-ADDRESS=Law 7-119 150 West 62nd Street Bronx NY 10023 United States;X-APPLE-RADIUS=500;X-TITLE=150 West 62nd Street:geo:-73.9800645,40.7769059
END:VEVENT
BEGIN:VEVENT
DTSTART;TZID=America/New_York:20160310T190000
DTEND;TZID=America/New_York:20160310T203000
DTSTAMP:20260426T002945
CREATED:20160309T153837Z
LAST-MODIFIED:20160309T153837Z
UID:10005452-1457636400-1457641800@newsuat.fordham.edu
SUMMARY:Book Discussion: Healing the Church: Some Systemic\, Cultural and Legal Considerations
DESCRIPTION:Speaker: Sr. Nuala Kenny\, MD\, will discuss her book\, Healing the Church: Diagnosing and Treating the Clergy Sexual Abuse Scandal (Novalis\, 2012)\, and the role of law and lawyers in bringing clergy sexual abuse to the forefront. Sponsored by the Institute on Religion\, Law\, and Lawyer’s Work.
URL:https://newsuat.fordham.edu/event/book-discussion-healing-the-church-some-systemic-cultural-and-legal-considerations/
LOCATION:Law 7-119\, 150 West 62nd Street\, Bronx\, NY\, 10023\, United States
ORGANIZER;CN="Institute on Religion%2C Law%2C and Lawyer's Work":MAILTO:lawreligion@law.fordham.edu
GEO:40.7769059;-73.9800645
X-APPLE-STRUCTURED-LOCATION;VALUE=URI;X-ADDRESS=Law 7-119 150 West 62nd Street Bronx NY 10023 United States;X-APPLE-RADIUS=500;X-TITLE=150 West 62nd Street:geo:-73.9800645,40.7769059
END:VEVENT
BEGIN:VEVENT
DTSTART;TZID=America/New_York:20160222T170000
DTEND;TZID=America/New_York:20160222T190000
DTSTAMP:20260426T002945
CREATED:20160219T161835Z
LAST-MODIFIED:20160219T161835Z
UID:10005379-1456160400-1456167600@newsuat.fordham.edu
SUMMARY:Lecture: The Volkswagen Case: A Trigger for Changes in Corporate Governance and Directors’ Liability?
DESCRIPTION:Speaker: Markus Roth\, PhD\, chair for civil law\, employment law\, and German and European business law at Philipps University of Marburg in Germany\, will discuss the legal aspects of the Volkswagen case. Sponsored by the Fordham Corporate Law Center.
URL:https://newsuat.fordham.edu/event/lecture-the-volkswagen-case-a-trigger-for-changes-in-corporate-governance-and-directors-liability/
LOCATION:Law 7-119\, 150 West 62nd Street\, Bronx\, NY\, 10023\, United States
ORGANIZER;CN="Fordham Corporate Law Center":MAILTO:corporatecenter@law.fordham.edu 
GEO:40.7769059;-73.9800645
X-APPLE-STRUCTURED-LOCATION;VALUE=URI;X-ADDRESS=Law 7-119 150 West 62nd Street Bronx NY 10023 United States;X-APPLE-RADIUS=500;X-TITLE=150 West 62nd Street:geo:-73.9800645,40.7769059
END:VEVENT
BEGIN:VEVENT
DTSTART;TZID=America/New_York:20160204T170000
DTEND;TZID=America/New_York:20160204T190000
DTSTAMP:20260426T002945
CREATED:20160203T183738Z
LAST-MODIFIED:20160203T183738Z
UID:10005351-1454605200-1454612400@newsuat.fordham.edu
SUMMARY:Lecture: A Queer Method? Samuel Delany’s Empiricism and the Uses of the Literary
DESCRIPTION:Speaker: Heather Love\, PhD\, associate professor of English at the University of Pennsylvania\, will examine twentieth-century literature and culture from the intersections of discourses including queer theory\, affect theory\, sociology\, disability studies\, and film theory. Sponsored by the Fordham LGBTQ Graduate Group and GSAS Futures.
URL:https://newsuat.fordham.edu/event/lecture-a-queer-method-samuel-delanys-empiricism-and-the-uses-of-the-literary/
LOCATION:Law 7-119\, 150 West 62nd Street\, Bronx\, NY\, 10023\, United States
ORGANIZER;CN="GSAS Futures":MAILTO:studentgsas@fordham.edu
GEO:40.7769059;-73.9800645
X-APPLE-STRUCTURED-LOCATION;VALUE=URI;X-ADDRESS=Law 7-119 150 West 62nd Street Bronx NY 10023 United States;X-APPLE-RADIUS=500;X-TITLE=150 West 62nd Street:geo:-73.9800645,40.7769059
END:VEVENT
END:VCALENDAR