BEGIN:VCALENDAR
VERSION:2.0
PRODID:-//Fordham Now - ECPv6.15.20//NONSGML v1.0//EN
CALSCALE:GREGORIAN
METHOD:PUBLISH
X-ORIGINAL-URL:https://newsuat.fordham.edu
X-WR-CALDESC:Events for Fordham Now
REFRESH-INTERVAL;VALUE=DURATION:PT1H
X-Robots-Tag:noindex
X-PUBLISHED-TTL:PT1H
BEGIN:VTIMEZONE
TZID:America/New_York
BEGIN:DAYLIGHT
TZOFFSETFROM:-0500
TZOFFSETTO:-0400
TZNAME:EDT
DTSTART:20150308T070000
END:DAYLIGHT
BEGIN:STANDARD
TZOFFSETFROM:-0400
TZOFFSETTO:-0500
TZNAME:EST
DTSTART:20151101T060000
END:STANDARD
BEGIN:DAYLIGHT
TZOFFSETFROM:-0500
TZOFFSETTO:-0400
TZNAME:EDT
DTSTART:20160313T070000
END:DAYLIGHT
BEGIN:STANDARD
TZOFFSETFROM:-0400
TZOFFSETTO:-0500
TZNAME:EST
DTSTART:20161106T060000
END:STANDARD
BEGIN:DAYLIGHT
TZOFFSETFROM:-0500
TZOFFSETTO:-0400
TZNAME:EDT
DTSTART:20170312T070000
END:DAYLIGHT
BEGIN:STANDARD
TZOFFSETFROM:-0400
TZOFFSETTO:-0500
TZNAME:EST
DTSTART:20171105T060000
END:STANDARD
BEGIN:DAYLIGHT
TZOFFSETFROM:-0500
TZOFFSETTO:-0400
TZNAME:EDT
DTSTART:20180311T070000
END:DAYLIGHT
BEGIN:STANDARD
TZOFFSETFROM:-0400
TZOFFSETTO:-0500
TZNAME:EST
DTSTART:20181104T060000
END:STANDARD
BEGIN:DAYLIGHT
TZOFFSETFROM:-0500
TZOFFSETTO:-0400
TZNAME:EDT
DTSTART:20190310T070000
END:DAYLIGHT
BEGIN:STANDARD
TZOFFSETFROM:-0400
TZOFFSETTO:-0500
TZNAME:EST
DTSTART:20191103T060000
END:STANDARD
BEGIN:DAYLIGHT
TZOFFSETFROM:-0500
TZOFFSETTO:-0400
TZNAME:EDT
DTSTART:20200308T070000
END:DAYLIGHT
BEGIN:STANDARD
TZOFFSETFROM:-0400
TZOFFSETTO:-0500
TZNAME:EST
DTSTART:20201101T060000
END:STANDARD
BEGIN:DAYLIGHT
TZOFFSETFROM:-0500
TZOFFSETTO:-0400
TZNAME:EDT
DTSTART:20210314T070000
END:DAYLIGHT
BEGIN:STANDARD
TZOFFSETFROM:-0400
TZOFFSETTO:-0500
TZNAME:EST
DTSTART:20211107T060000
END:STANDARD
BEGIN:DAYLIGHT
TZOFFSETFROM:-0500
TZOFFSETTO:-0400
TZNAME:EDT
DTSTART:20220313T070000
END:DAYLIGHT
BEGIN:STANDARD
TZOFFSETFROM:-0400
TZOFFSETTO:-0500
TZNAME:EST
DTSTART:20221106T060000
END:STANDARD
BEGIN:DAYLIGHT
TZOFFSETFROM:-0500
TZOFFSETTO:-0400
TZNAME:EDT
DTSTART:20230312T070000
END:DAYLIGHT
BEGIN:STANDARD
TZOFFSETFROM:-0400
TZOFFSETTO:-0500
TZNAME:EST
DTSTART:20231105T060000
END:STANDARD
BEGIN:DAYLIGHT
TZOFFSETFROM:-0500
TZOFFSETTO:-0400
TZNAME:EDT
DTSTART:20240310T070000
END:DAYLIGHT
BEGIN:STANDARD
TZOFFSETFROM:-0400
TZOFFSETTO:-0500
TZNAME:EST
DTSTART:20241103T060000
END:STANDARD
END:VTIMEZONE
BEGIN:VEVENT
DTSTART;TZID=America/New_York:20230420T180000
DTEND;TZID=America/New_York:20230420T190000
DTSTAMP:20260419T071108
CREATED:20230112T200332Z
LAST-MODIFIED:20230112T200332Z
UID:10004933-1682013600-1682017200@newsuat.fordham.edu
SUMMARY:David Myers and Nomi Stolzenberg on American Shtetl: The Making of Kiryas Joel\, a Hasidic Village in Upstate New York
DESCRIPTION:Join us for a hybrid book talk in conversation with Abner Green. \nPublic attention in recent months has focused on the large Hasidic community in the New York area and the interplay of politics\, state funding\, and educational standards. This talk will focus on one of the largest and most interesting examples\, Kiryas Joel\, a legally recognized municipality in suburban New York made up exclusively of Satmar Hasidic Jews. How did the community come into being? How\, and why\, did it secure recognition as a municipality? What part has education played in its history? And where is this rapidly growing community heading? \nAbout the Speakers\nNomi M. Stolzenberg holds the Nathan and Lilly Shapell Chair at the University of Southern California Gould School of Law. She is a legal scholar whose research spans a range of interdisciplinary interests\, including law and religion\, law and liberalism\, law and feminism\, law and psychoanalysis\, and law and literature. After getting her J.D. at Harvard Law School in 1987 and clerking for the Honorable John Gibbons\, chief judge of the Third Circuit Court of Appeals\, she joined the faculty at the USC Gould School in 1988. There\, she helped establish the USC Center for Law\, History\, and Culture\, one of the preeminent centers for the study of law and the humanities. She is the co-author with David N. Myers of American Shtetl: The Making of Kiryas Joel\, a Hasidic Village in Upstate New York (Princeton\, 2022) and the author of numerous articles on law and religion\, including the widely cited “He Drew a Circle That Shut Me Out: Assimilation\, Indoctrination\, and the Paradox of a Liberal Education\,” published in the Harvard Law Review; “Righting the Relationship Between Race and Religion in Law;” and “The Return of Religion: Legal Secularism’s Rise and Fall and Possible Resurrection.” She is spending the 2022-2023 academic year as a visiting professor at the University of Pennsylvania Law School and as a fellow at the Katz Center for Advanced Judaic Studies at the University of Pennsylvania\, where she will be working on a new project on religious exemptions and the theory of “faith-based discrimination.” \nDavid N. Myers is a distinguished professor of history and holds the Sady and Ludwig Kahn Chair in Jewish History at UCLA\, where he serves as the director of the UCLA Luskin Center for History and Policy. He also directs the new UCLA Initiative to Study Hate. He is the author or editor of more than 15 books in the field of Jewish history\, including American Shtetl: The Making of Kiryas Joel\, a Hasidic Village in Upstate New York (Princeton\, 2022) with Nomi Stolzenberg. Myers also serves as president of the New Israel Fund. \nAbner Greene is the Leonard F. Manning Professor of Law. He specializes in administrative and regulatory law\, constitutional law\, freedom of speech and the press\, law and philosophy\, religion and the law\, and the U.S. Supreme Court. \nThis event is co-sponsored with Fordham Law School. \n(For 30% off American Shtetl from the Princeton University Press website\, use code “SHTL” before June 20.)
URL:https://newsuat.fordham.edu/event/david-myers-and-nomi-stolzenberg-american-shtetl-the-case-of-kirya-joel-new-york/
LOCATION:Law 4-02\, 150 West 62nd Street\, New York\, NY\, 10023\, United States
CATEGORIES:Lectures
GEO:40.7716809;-73.984777
X-APPLE-STRUCTURED-LOCATION;VALUE=URI;X-ADDRESS=Law 4-02 150 West 62nd Street New York NY 10023 United States;X-APPLE-RADIUS=500;X-TITLE=150 West 62nd Street:geo:-73.984777,40.7716809
END:VEVENT
BEGIN:VEVENT
DTSTART;TZID=America/New_York:20170913T080000
DTEND;TZID=America/New_York:20170913T170000
DTSTAMP:20260419T071108
CREATED:20170915T141731Z
LAST-MODIFIED:20170915T141731Z
UID:10006080-1505289600-1505322000@newsuat.fordham.edu
SUMMARY:U.S. and Brazil – a Discussion of Issues in Compliance
DESCRIPTION:Join us for a discussion of anti-bribery/corruption and other topics related to corporate compliance in which experts from Brazil and the US will share some of the common themes\, lessons learned and areas of focus coming out of investigations\, enforcement and legislation in these two jurisdictions and globally.
URL:https://newsuat.fordham.edu/event/u-s-brazil-discussion-issues-compliance/
LOCATION:Law 4-02\, 150 West 62nd Street\, New York\, NY\, 10023\, United States
ORGANIZER;CN="Non-JD and International Programs":MAILTO:abrightsky@fordham.edu
GEO:40.7716809;-73.984777
X-APPLE-STRUCTURED-LOCATION;VALUE=URI;X-ADDRESS=Law 4-02 150 West 62nd Street New York NY 10023 United States;X-APPLE-RADIUS=500;X-TITLE=150 West 62nd Street:geo:-73.984777,40.7716809
END:VEVENT
BEGIN:VEVENT
DTSTART;TZID=America/New_York:20160414T160000
DTEND;TZID=America/New_York:20160414T170000
DTSTAMP:20260419T071108
CREATED:20160413T160758Z
LAST-MODIFIED:20160413T160758Z
UID:10005562-1460649600-1460653200@newsuat.fordham.edu
SUMMARY:Masterclass with Vincent Lindon
DESCRIPTION:Award-winning French actor Vincent Lindon will lead a masterclass in both English and French. Co-sponsored by the Department of Modern Languages and Literatures and Unifrance.
URL:https://newsuat.fordham.edu/event/masterclass-with-vincent-lindon/
LOCATION:Law 4-02\, 150 West 62nd Street\, New York\, NY\, 10023\, United States
ORGANIZER;CN="Audrey Evrard":MAILTO:aevrard@fordham.edu
GEO:40.7716809;-73.984777
X-APPLE-STRUCTURED-LOCATION;VALUE=URI;X-ADDRESS=Law 4-02 150 West 62nd Street New York NY 10023 United States;X-APPLE-RADIUS=500;X-TITLE=150 West 62nd Street:geo:-73.984777,40.7716809
END:VEVENT
END:VCALENDAR