BEGIN:VCALENDAR
VERSION:2.0
PRODID:-//Fordham Now - ECPv6.15.20//NONSGML v1.0//EN
CALSCALE:GREGORIAN
METHOD:PUBLISH
X-ORIGINAL-URL:https://newsuat.fordham.edu
X-WR-CALDESC:Events for Fordham Now
REFRESH-INTERVAL;VALUE=DURATION:PT1H
X-Robots-Tag:noindex
X-PUBLISHED-TTL:PT1H
BEGIN:VTIMEZONE
TZID:America/New_York
BEGIN:DAYLIGHT
TZOFFSETFROM:-0500
TZOFFSETTO:-0400
TZNAME:EDT
DTSTART:20180311T070000
END:DAYLIGHT
BEGIN:STANDARD
TZOFFSETFROM:-0400
TZOFFSETTO:-0500
TZNAME:EST
DTSTART:20181104T060000
END:STANDARD
BEGIN:DAYLIGHT
TZOFFSETFROM:-0500
TZOFFSETTO:-0400
TZNAME:EDT
DTSTART:20190310T070000
END:DAYLIGHT
BEGIN:STANDARD
TZOFFSETFROM:-0400
TZOFFSETTO:-0500
TZNAME:EST
DTSTART:20191103T060000
END:STANDARD
BEGIN:DAYLIGHT
TZOFFSETFROM:-0500
TZOFFSETTO:-0400
TZNAME:EDT
DTSTART:20200308T070000
END:DAYLIGHT
BEGIN:STANDARD
TZOFFSETFROM:-0400
TZOFFSETTO:-0500
TZNAME:EST
DTSTART:20201101T060000
END:STANDARD
END:VTIMEZONE
BEGIN:VEVENT
DTSTART;TZID=America/New_York:20190517T160000
DTEND;TZID=America/New_York:20190517T180000
DTSTAMP:20260425T155937
CREATED:20190402T124004Z
LAST-MODIFIED:20190402T124004Z
UID:10007024-1558108800-1558116000@newsuat.fordham.edu
SUMMARY:Alumni Chapter of the Jersey Shore: 2019 Spring Social
DESCRIPTION:Join the Fordham Alumni Chapter of the Jersey Shore for our first event—a spring social! Connect with fellow alumni from your beloved Jesuit alma mater. Share appetizers\, drinks\, stories\, and memories as we celebrate what makes each of us Fordham. \nThis event will feature a cash bar; the Office of Alumni Relations will provide appetizers. \nPlease RSVP by Friday\, May 3\, so we know how many appetizers to order.
URL:https://newsuat.fordham.edu/event/alumni-chapter-of-the-jersey-shore-2019-spring-social/
LOCATION:Langosta Lounge\, 1000 Ocean Avenue\, Asbury Park\, NJ\, 07712\, United States
CATEGORIES:Receptions,Social
ORGANIZER;CN="Alumni Chapter of the Jersey Shore":MAILTO:dawnlwright@gmail.com
END:VEVENT
END:VCALENDAR