BEGIN:VCALENDAR
VERSION:2.0
PRODID:-//Fordham Now - ECPv6.15.20//NONSGML v1.0//EN
CALSCALE:GREGORIAN
METHOD:PUBLISH
X-ORIGINAL-URL:https://newsuat.fordham.edu
X-WR-CALDESC:Events for Fordham Now
REFRESH-INTERVAL;VALUE=DURATION:PT1H
X-Robots-Tag:noindex
X-PUBLISHED-TTL:PT1H
BEGIN:VTIMEZONE
TZID:America/New_York
BEGIN:DAYLIGHT
TZOFFSETFROM:-0500
TZOFFSETTO:-0400
TZNAME:EDT
DTSTART:20170312T070000
END:DAYLIGHT
BEGIN:STANDARD
TZOFFSETFROM:-0400
TZOFFSETTO:-0500
TZNAME:EST
DTSTART:20171105T060000
END:STANDARD
BEGIN:DAYLIGHT
TZOFFSETFROM:-0500
TZOFFSETTO:-0400
TZNAME:EDT
DTSTART:20180311T070000
END:DAYLIGHT
BEGIN:STANDARD
TZOFFSETFROM:-0400
TZOFFSETTO:-0500
TZNAME:EST
DTSTART:20181104T060000
END:STANDARD
BEGIN:DAYLIGHT
TZOFFSETFROM:-0500
TZOFFSETTO:-0400
TZNAME:EDT
DTSTART:20190310T070000
END:DAYLIGHT
BEGIN:STANDARD
TZOFFSETFROM:-0400
TZOFFSETTO:-0500
TZNAME:EST
DTSTART:20191103T060000
END:STANDARD
END:VTIMEZONE
BEGIN:VEVENT
DTSTART;TZID=America/New_York:20180901T153000
DTEND;TZID=America/New_York:20180901T173000
DTSTAMP:20260424T151035
CREATED:20180731T191906Z
LAST-MODIFIED:20180731T191906Z
UID:10006499-1535815800-1535823000@newsuat.fordham.edu
SUMMARY:Alumni Chapter of Charlotte: Fordham at UNC Charlotte Pregame Tailgate
DESCRIPTION:Join fellow alumni and Ram fans for a pregame tailgate before Fordham takes on UNC Charlotte in their first game of the season! Our tailgate will take place in the Orange CRI Deck\, the parking deck located closest to the stadium. ​If you plan to drive to the game\, you must purchase a parking pass by visiting uncc.clickandpark.com (available the first week of August). UNCC’s stadium is also accessible via LYNX Light Rail. \nThe tailgate costs $10 per person and includes sandwiches\, snacks\, and refreshments. Please feel free to BYOB. RSVP for the tailgate by Friday\, August 24. \nPlease note: Game tickets must be purchased separately through the UNC Charlotte ticket office. Tickets for the Fordham group cost $20 each and are located in Section 128.
URL:https://newsuat.fordham.edu/event/alumni-chapter-of-charlotte-fordham-at-unc-charlotte-pregame-tailgate/
LOCATION:Jerry Richardson Stadium\, 8701 Phillips Road\, Charlotte\, NC\, 28223\, United States
CATEGORIES:Athletics,Social
END:VEVENT
END:VCALENDAR