BEGIN:VCALENDAR
VERSION:2.0
PRODID:-//Fordham Now - ECPv6.15.20//NONSGML v1.0//EN
CALSCALE:GREGORIAN
METHOD:PUBLISH
X-WR-CALNAME:Fordham Now
X-ORIGINAL-URL:https://newsuat.fordham.edu
X-WR-CALDESC:Events for Fordham Now
REFRESH-INTERVAL;VALUE=DURATION:PT1H
X-Robots-Tag:noindex
X-PUBLISHED-TTL:PT1H
BEGIN:VTIMEZONE
TZID:America/New_York
BEGIN:DAYLIGHT
TZOFFSETFROM:-0500
TZOFFSETTO:-0400
TZNAME:EDT
DTSTART:20210314T070000
END:DAYLIGHT
BEGIN:STANDARD
TZOFFSETFROM:-0400
TZOFFSETTO:-0500
TZNAME:EST
DTSTART:20211107T060000
END:STANDARD
BEGIN:DAYLIGHT
TZOFFSETFROM:-0500
TZOFFSETTO:-0400
TZNAME:EDT
DTSTART:20220313T070000
END:DAYLIGHT
BEGIN:STANDARD
TZOFFSETFROM:-0400
TZOFFSETTO:-0500
TZNAME:EST
DTSTART:20221106T060000
END:STANDARD
BEGIN:DAYLIGHT
TZOFFSETFROM:-0500
TZOFFSETTO:-0400
TZNAME:EDT
DTSTART:20230312T070000
END:DAYLIGHT
BEGIN:STANDARD
TZOFFSETFROM:-0400
TZOFFSETTO:-0500
TZNAME:EST
DTSTART:20231105T060000
END:STANDARD
END:VTIMEZONE
BEGIN:VEVENT
DTSTART;TZID=America/New_York:20221214T190000
DTEND;TZID=America/New_York:20221214T210000
DTSTAMP:20260418T073543
CREATED:20221201T175424Z
LAST-MODIFIED:20221201T175424Z
UID:10004899-1671044400-1671051600@newsuat.fordham.edu
SUMMARY:NYC Winter All-Jesuit Happy Hour 2022
DESCRIPTION:Feel that chill in the air? Get out of the cold and enjoy a festive happy hour! Fordham University’s Young Alumni Committee invites alumni and friends of all Jesuit colleges and universities to join us for the winter edition of the NYC All-Jesuit Happy Hour. Reconnect with classmates and meet fellow #JesuitEducated alumni! \nYour ticket includes a two-hour open bar and light appetizers. \nIn the spirit of the season\, we will be partnering with the Pajama Program\, founded by Genevieve Piturro\, FCRH ’83\, to host a pajama and book drive for children in need. This organization works to promote and support a comforting bedtime routine and healthy sleep for children. Bring a donation of new\, unwrapped pajamas or new\, unused books!
URL:https://newsuat.fordham.edu/event/nyc-winter-all-jesuit-happy-hour-2022/
LOCATION:Jake’s Dilemma\, 430 Amsterdam Avenue\, New York\, NY\, 10024\, United States
CATEGORIES:Receptions,Social
ORGANIZER;CN="Office of Alumni Relations":MAILTO:alumnioffice@fordham.edu
END:VEVENT
END:VCALENDAR