BEGIN:VCALENDAR
VERSION:2.0
PRODID:-//Fordham Now - ECPv6.15.20//NONSGML v1.0//EN
CALSCALE:GREGORIAN
METHOD:PUBLISH
X-ORIGINAL-URL:https://newsuat.fordham.edu
X-WR-CALDESC:Events for Fordham Now
REFRESH-INTERVAL;VALUE=DURATION:PT1H
X-Robots-Tag:noindex
X-PUBLISHED-TTL:PT1H
BEGIN:VTIMEZONE
TZID:America/New_York
BEGIN:DAYLIGHT
TZOFFSETFROM:-0500
TZOFFSETTO:-0400
TZNAME:EDT
DTSTART:20180311T070000
END:DAYLIGHT
BEGIN:STANDARD
TZOFFSETFROM:-0400
TZOFFSETTO:-0500
TZNAME:EST
DTSTART:20181104T060000
END:STANDARD
BEGIN:DAYLIGHT
TZOFFSETFROM:-0500
TZOFFSETTO:-0400
TZNAME:EDT
DTSTART:20190310T070000
END:DAYLIGHT
BEGIN:STANDARD
TZOFFSETFROM:-0400
TZOFFSETTO:-0500
TZNAME:EST
DTSTART:20191103T060000
END:STANDARD
BEGIN:DAYLIGHT
TZOFFSETFROM:-0500
TZOFFSETTO:-0400
TZNAME:EDT
DTSTART:20200308T070000
END:DAYLIGHT
BEGIN:STANDARD
TZOFFSETFROM:-0400
TZOFFSETTO:-0500
TZNAME:EST
DTSTART:20201101T060000
END:STANDARD
END:VTIMEZONE
BEGIN:VEVENT
DTSTART;TZID=America/New_York:20190223T153000
DTEND;TZID=America/New_York:20190223T180000
DTSTAMP:20260424T064146
CREATED:20190201T194105Z
LAST-MODIFIED:20190201T194105Z
UID:10006891-1550935800-1550944800@newsuat.fordham.edu
SUMMARY:Alumni Chapter of Dallas: Men's Basketball Watch Party
DESCRIPTION:Join the Alumni Chapter of Dallas to watch our Fordham Rams take on St. Bonaventure in men’s basketball. Snacks will be provided\, and you are welcome to order dinner and drinks on your own. Friends and family are welcome! \nPlease register by Wednesday\, February 20\, so we know how many appetizers to order.
URL:https://newsuat.fordham.edu/event/alumni-chapter-of-dallas-mens-basketball-watch-party/
LOCATION:Jake’s Burgers and Beer Uptown Dallas\, 2702 McKinney Ave.\, Ste. 101\, Dallas\, TX\, 75204\, United States
CATEGORIES:Athletics,Social
ORGANIZER;CN="Alumni Chapter of Dallas":MAILTO:tanner@hartnettlawfirm.com
END:VEVENT
END:VCALENDAR