BEGIN:VCALENDAR
VERSION:2.0
PRODID:-//Fordham Now - ECPv6.15.20//NONSGML v1.0//EN
CALSCALE:GREGORIAN
METHOD:PUBLISH
X-WR-CALNAME:Fordham Now
X-ORIGINAL-URL:https://newsuat.fordham.edu
X-WR-CALDESC:Events for Fordham Now
REFRESH-INTERVAL;VALUE=DURATION:PT1H
X-Robots-Tag:noindex
X-PUBLISHED-TTL:PT1H
BEGIN:VTIMEZONE
TZID:America/New_York
BEGIN:DAYLIGHT
TZOFFSETFROM:-0500
TZOFFSETTO:-0400
TZNAME:EDT
DTSTART:20180311T070000
END:DAYLIGHT
BEGIN:STANDARD
TZOFFSETFROM:-0400
TZOFFSETTO:-0500
TZNAME:EST
DTSTART:20181104T060000
END:STANDARD
BEGIN:DAYLIGHT
TZOFFSETFROM:-0500
TZOFFSETTO:-0400
TZNAME:EDT
DTSTART:20190310T070000
END:DAYLIGHT
BEGIN:STANDARD
TZOFFSETFROM:-0400
TZOFFSETTO:-0500
TZNAME:EST
DTSTART:20191103T060000
END:STANDARD
BEGIN:DAYLIGHT
TZOFFSETFROM:-0500
TZOFFSETTO:-0400
TZNAME:EDT
DTSTART:20200308T070000
END:DAYLIGHT
BEGIN:STANDARD
TZOFFSETFROM:-0400
TZOFFSETTO:-0500
TZNAME:EST
DTSTART:20201101T060000
END:STANDARD
END:VTIMEZONE
BEGIN:VEVENT
DTSTART;TZID=America/New_York:20191116T110000
DTEND;TZID=America/New_York:20191116T150000
DTSTAMP:20260423T131423
CREATED:20191015T145500Z
LAST-MODIFIED:20191015T145500Z
UID:10007294-1573902000-1573916400@newsuat.fordham.edu
SUMMARY:Alumni Chapter of Phoenix: 2019 Homecoming Viewing Party
DESCRIPTION:Experience Homecoming from afar with fellow Rams! Join fellow alumni at Iron Chef to cheer on the Fordham Rams as they play the Holy Cross Crusaders at their homecoming game. Enjoy appetizers\, order a drink\, and relax with fellow alumni. \nPlease consider making a gift of $25 or more to support Fordham financial aid.
URL:https://newsuat.fordham.edu/event/alumni-chapter-of-phoenix-2019-homecoming-viewing-party/
LOCATION:Iron Chef\, 10810 North Tatum Blvd\, Phoenix\, AZ\, 85028\, United States
CATEGORIES:Athletics,Receptions,Social
ORGANIZER;CN="Alumni Chapter of Phoenix":MAILTO:natalie@arizonamediation.com
GEO:33.5839155;-111.9786036
X-APPLE-STRUCTURED-LOCATION;VALUE=URI;X-ADDRESS=Iron Chef 10810 North Tatum Blvd Phoenix AZ 85028 United States;X-APPLE-RADIUS=500;X-TITLE=10810 North Tatum Blvd:geo:-111.9786036,33.5839155
END:VEVENT
END:VCALENDAR