BEGIN:VCALENDAR
VERSION:2.0
PRODID:-//Fordham Now - ECPv6.15.20//NONSGML v1.0//EN
CALSCALE:GREGORIAN
METHOD:PUBLISH
X-ORIGINAL-URL:https://newsuat.fordham.edu
X-WR-CALDESC:Events for Fordham Now
REFRESH-INTERVAL;VALUE=DURATION:PT1H
X-Robots-Tag:noindex
X-PUBLISHED-TTL:PT1H
BEGIN:VTIMEZONE
TZID:America/New_York
BEGIN:DAYLIGHT
TZOFFSETFROM:-0500
TZOFFSETTO:-0400
TZNAME:EDT
DTSTART:20180311T070000
END:DAYLIGHT
BEGIN:STANDARD
TZOFFSETFROM:-0400
TZOFFSETTO:-0500
TZNAME:EST
DTSTART:20181104T060000
END:STANDARD
BEGIN:DAYLIGHT
TZOFFSETFROM:-0500
TZOFFSETTO:-0400
TZNAME:EDT
DTSTART:20190310T070000
END:DAYLIGHT
BEGIN:STANDARD
TZOFFSETFROM:-0400
TZOFFSETTO:-0500
TZNAME:EST
DTSTART:20191103T060000
END:STANDARD
BEGIN:DAYLIGHT
TZOFFSETFROM:-0500
TZOFFSETTO:-0400
TZNAME:EDT
DTSTART:20200308T070000
END:DAYLIGHT
BEGIN:STANDARD
TZOFFSETFROM:-0400
TZOFFSETTO:-0500
TZNAME:EST
DTSTART:20201101T060000
END:STANDARD
BEGIN:DAYLIGHT
TZOFFSETFROM:-0500
TZOFFSETTO:-0400
TZNAME:EDT
DTSTART:20210314T070000
END:DAYLIGHT
BEGIN:STANDARD
TZOFFSETFROM:-0400
TZOFFSETTO:-0500
TZNAME:EST
DTSTART:20211107T060000
END:STANDARD
BEGIN:DAYLIGHT
TZOFFSETFROM:-0500
TZOFFSETTO:-0400
TZNAME:EDT
DTSTART:20220313T070000
END:DAYLIGHT
BEGIN:STANDARD
TZOFFSETFROM:-0400
TZOFFSETTO:-0500
TZNAME:EST
DTSTART:20221106T060000
END:STANDARD
END:VTIMEZONE
BEGIN:VEVENT
DTSTART;TZID=America/New_York:20211214T183000
DTEND;TZID=America/New_York:20211214T203000
DTSTAMP:20260423T074113
CREATED:20211021T150909Z
LAST-MODIFIED:20211021T150909Z
UID:10004466-1639506600-1639513800@newsuat.fordham.edu
SUMMARY:2021 Fairfield Presidential Reception
DESCRIPTION:Carolyn Dursi Cunniffe\, Ph.D.\, GSAS ’71\, and Mo Cunniffe\, FCRH ’54; the Fordham Alumni Chapter of Fairfield County; and Joseph M. McShane\, S.J.\, president of Fordham University\, cordially invite you to a complimentary reception for alumni\, parents\, and friends. We hope you’ll join us in wishing Father McShane a fond farewell as he prepares to step down as president at the end of this academic year. \nSpace is limited and advance registration is required. Please note: Due to venue capacity\, walk-ins cannot be accommodated. \nAs the cost of the reception is being generously covered by our hosts\, Carolyn Dursi Cunniffe and Mo Cunniffe\, please consider making a gift of $25 or more to support Fordham financial aid.
URL:https://newsuat.fordham.edu/event/2021-fairfield-presidential-reception/
LOCATION:Indian Harbor Yacht Club\, 710 Steamboat Road\, Greenwich\, CT\, 06830\, United States
CATEGORIES:Receptions
ORGANIZER;CN="Office of Alumni Relations":MAILTO:alumnioffice@fordham.edu
GEO:41.0113803;-73.6226676
X-APPLE-STRUCTURED-LOCATION;VALUE=URI;X-ADDRESS=Indian Harbor Yacht Club 710 Steamboat Road Greenwich CT 06830 United States;X-APPLE-RADIUS=500;X-TITLE=710 Steamboat Road:geo:-73.6226676,41.0113803
END:VEVENT
BEGIN:VEVENT
DTSTART;TZID=America/New_York:20191217T183000
DTEND;TZID=America/New_York:20191217T203000
DTSTAMP:20260423T074113
CREATED:20190930T143846Z
LAST-MODIFIED:20190930T143846Z
UID:10007253-1576607400-1576614600@newsuat.fordham.edu
SUMMARY:2019 Fairfield Presidential Reception
DESCRIPTION:Carolyn Dursi Cunniffe\, Ph.D.\, GSAS ’71\, and Mo Cunniffe\, FCRH ’54; the Fordham Alumni Chapter of Fairfield County; and Joseph M. McShane\, S.J.\, president of Fordham University\, cordially invite you to a complimentary reception for alumni\, parents\, and friends. \nAs the cost of the reception is being generously covered by our hosts\, Carolyn Dursi Cunniffe and Mo Cunniffe\, please consider making a gift of $25 or more to support Fordham financial aid.
URL:https://newsuat.fordham.edu/event/2019-fairfield-presidential-reception/
LOCATION:Indian Harbor Yacht Club\, 710 Steamboat Road\, Greenwich\, CT\, 06830\, United States
CATEGORIES:Receptions
ATTACH;FMTTYPE=image/jpeg:https://newsuat.fordham.edu/wp-content/uploads/2019/09/20-0122_AR_REGIONAL_EMAIL_BANNERS_Fairfield.jpg
ORGANIZER;CN="Office of Alumni Relations":MAILTO:alumnioffice@fordham.edu
GEO:41.0113803;-73.6226676
X-APPLE-STRUCTURED-LOCATION;VALUE=URI;X-ADDRESS=Indian Harbor Yacht Club 710 Steamboat Road Greenwich CT 06830 United States;X-APPLE-RADIUS=500;X-TITLE=710 Steamboat Road:geo:-73.6226676,41.0113803
END:VEVENT
END:VCALENDAR