BEGIN:VCALENDAR
VERSION:2.0
PRODID:-//Fordham Now - ECPv6.15.20//NONSGML v1.0//EN
CALSCALE:GREGORIAN
METHOD:PUBLISH
X-ORIGINAL-URL:https://newsuat.fordham.edu
X-WR-CALDESC:Events for Fordham Now
REFRESH-INTERVAL;VALUE=DURATION:PT1H
X-Robots-Tag:noindex
X-PUBLISHED-TTL:PT1H
BEGIN:VTIMEZONE
TZID:America/New_York
BEGIN:DAYLIGHT
TZOFFSETFROM:-0500
TZOFFSETTO:-0400
TZNAME:EDT
DTSTART:20150308T070000
END:DAYLIGHT
BEGIN:STANDARD
TZOFFSETFROM:-0400
TZOFFSETTO:-0500
TZNAME:EST
DTSTART:20151101T060000
END:STANDARD
BEGIN:DAYLIGHT
TZOFFSETFROM:-0500
TZOFFSETTO:-0400
TZNAME:EDT
DTSTART:20160313T070000
END:DAYLIGHT
BEGIN:STANDARD
TZOFFSETFROM:-0400
TZOFFSETTO:-0500
TZNAME:EST
DTSTART:20161106T060000
END:STANDARD
BEGIN:DAYLIGHT
TZOFFSETFROM:-0500
TZOFFSETTO:-0400
TZNAME:EDT
DTSTART:20170312T070000
END:DAYLIGHT
BEGIN:STANDARD
TZOFFSETFROM:-0400
TZOFFSETTO:-0500
TZNAME:EST
DTSTART:20171105T060000
END:STANDARD
BEGIN:DAYLIGHT
TZOFFSETFROM:-0500
TZOFFSETTO:-0400
TZNAME:EDT
DTSTART:20180311T070000
END:DAYLIGHT
BEGIN:STANDARD
TZOFFSETFROM:-0400
TZOFFSETTO:-0500
TZNAME:EST
DTSTART:20181104T060000
END:STANDARD
BEGIN:DAYLIGHT
TZOFFSETFROM:-0500
TZOFFSETTO:-0400
TZNAME:EDT
DTSTART:20190310T070000
END:DAYLIGHT
BEGIN:STANDARD
TZOFFSETFROM:-0400
TZOFFSETTO:-0500
TZNAME:EST
DTSTART:20191103T060000
END:STANDARD
BEGIN:DAYLIGHT
TZOFFSETFROM:-0500
TZOFFSETTO:-0400
TZNAME:EDT
DTSTART:20200308T070000
END:DAYLIGHT
BEGIN:STANDARD
TZOFFSETFROM:-0400
TZOFFSETTO:-0500
TZNAME:EST
DTSTART:20201101T060000
END:STANDARD
BEGIN:DAYLIGHT
TZOFFSETFROM:-0500
TZOFFSETTO:-0400
TZNAME:EDT
DTSTART:20210314T070000
END:DAYLIGHT
BEGIN:STANDARD
TZOFFSETFROM:-0400
TZOFFSETTO:-0500
TZNAME:EST
DTSTART:20211107T060000
END:STANDARD
END:VTIMEZONE
BEGIN:VEVENT
DTSTART;TZID=America/New_York:20200415T110000
DTEND;TZID=America/New_York:20200415T130000
DTSTAMP:20260424T232207
CREATED:20200225T143847Z
LAST-MODIFIED:20200225T143847Z
UID:10003931-1586948400-1586955600@newsuat.fordham.edu
SUMMARY:CANCELED: PFF Workshop: Digital Methods and Learning Goals
DESCRIPTION:This two-hour workshop will encourage GSAS students to reflect on how digital pedagogy can be most effectively utilized to meet the learning objectives of their classes. \nThe workshop will be led by Katherina Fostano\, visual resources curator in the art history department. Fostano will discuss different digital methodologies with students\, lead them to reflect on what learning objectives they want their students to achieve in their classes\, and help them match their learning objectives to the best digital method. This workshop requires no previous knowledge on digital pedagogy or digital humanities. All are welcome. \nThis workshop will satisfy part of Core Competency 4 (Digital Pedagogy) for the Preparing Future Faculty certificate.
URL:https://newsuat.fordham.edu/event/pff-workshop-digital-methods-and-learning-goals/
LOCATION:Hughes 313\, 441 East Fordham Road\, Bronx\, NY\, 10458\, United States
CATEGORIES:Lectures
ORGANIZER;CN="Preparing Future Faculty Program":MAILTO:pff@fordham.edu
GEO:40.8612275;-73.8892354
X-APPLE-STRUCTURED-LOCATION;VALUE=URI;X-ADDRESS=Hughes 313 441 East Fordham Road Bronx NY 10458 United States;X-APPLE-RADIUS=500;X-TITLE=441 East Fordham Road:geo:-73.8892354,40.8612275
END:VEVENT
BEGIN:VEVENT
DTSTART;TZID=America/New_York:20200327T120000
DTEND;TZID=America/New_York:20200327T140000
DTSTAMP:20260424T232207
CREATED:20200225T143424Z
LAST-MODIFIED:20200225T143424Z
UID:10003930-1585310400-1585317600@newsuat.fordham.edu
SUMMARY:CANCELED: PFF Workshop: Navigating Instructor Identity
DESCRIPTION:This two-hour workshop will enable GSAS students to reflect on their identity and the role they play as instructor when dealing with issues of diversity in the classroom. \nThe workshop will be led by Margo Jackson\, Ph.D.\, professor of counseling and counseling psychology in Fordham’s Graduate School of Education. Jackson’s research focuses on the hidden biases and strengths of counselors\, educators\, and leaders. She will guide students through the difficulties of grappling with one’s identity while trying to teach a class\, which often involves dealing with tense and contentious issues surrounding diversity in the classroom. You do not currently need to be teaching to participate in this seminar. All are welcome. \nThis workshop will satisfy part of Core Competency 5 (Diversity in the Classroom) for the Preparing Future Faculty certificate.
URL:https://newsuat.fordham.edu/event/pff-workshop-navigating-instructor-identity/
LOCATION:Hughes 313\, 441 East Fordham Road\, Bronx\, NY\, 10458\, United States
CATEGORIES:Lectures
ORGANIZER;CN="Preparing Future Faculty Program":MAILTO:pff@fordham.edu
GEO:40.8612275;-73.8892354
X-APPLE-STRUCTURED-LOCATION;VALUE=URI;X-ADDRESS=Hughes 313 441 East Fordham Road Bronx NY 10458 United States;X-APPLE-RADIUS=500;X-TITLE=441 East Fordham Road:geo:-73.8892354,40.8612275
END:VEVENT
BEGIN:VEVENT
DTSTART;TZID=America/New_York:20191114T100000
DTEND;TZID=America/New_York:20191114T120000
DTSTAMP:20260424T232207
CREATED:20191022T133545Z
LAST-MODIFIED:20191022T133545Z
UID:10007320-1573725600-1573732800@newsuat.fordham.edu
SUMMARY:GSAS Workshop: Designing Effective Assessment
DESCRIPTION:This two-hour workshop will enable Graduate School of Arts and Sciences students to design thoughtful assignments in their courses that effectively target the learning objectives. \nThe workshop will be led by Anne Fernald\, Ph.D.\, professor of English and special adviser to the provost for faculty development. Fernald will guide students through the many levels involved in designing effective assessment including developing thoughtful and reasonable course objectives; choosing assignments that actually assess those objectives; balancing the number of assignments with the weight of each\, in a way that is sensitive to the diversity of student backgrounds in the class; and designing effective and fair extra credit assignments. \nThis workshop will satisfy part of Core Competency 5—Diversity in the Classroom for the Preparing Future Faculty certificate.
URL:https://newsuat.fordham.edu/event/gsas-workshop-designing-effective-assessment/
LOCATION:Hughes 313\, 441 East Fordham Road\, Bronx\, NY\, 10458\, United States
CATEGORIES:Lectures
ORGANIZER;CN="Graduate School of Arts and Sciences":MAILTO:gsasdean@fordham.edu
GEO:40.8612275;-73.8892354
X-APPLE-STRUCTURED-LOCATION;VALUE=URI;X-ADDRESS=Hughes 313 441 East Fordham Road Bronx NY 10458 United States;X-APPLE-RADIUS=500;X-TITLE=441 East Fordham Road:geo:-73.8892354,40.8612275
END:VEVENT
BEGIN:VEVENT
DTSTART;TZID=America/New_York:20181010T120000
DTEND;TZID=America/New_York:20181010T133000
DTSTAMP:20260424T232207
CREATED:20181002T133456Z
LAST-MODIFIED:20181002T133456Z
UID:10006597-1539172800-1539178200@newsuat.fordham.edu
SUMMARY:What Defines a Good Proposal?: A Workshop on Capturing Reviewers’ Attention and Addressing Their Expectations
DESCRIPTION:The Office of Sponsored Programs’ first 2018–2019 grant workshop will be led by James Trostle\, Ph.D.\, M.P.H.\, professor of anthropology at Trinity College in Hartford\, Connecticut\, and professor of public health at the University of Chile\, Santiago. \nThis workshop will be devoted to discussing what proposal reviewers expect\, with special attention paid to what makes a convincing interdisciplinary project. We will discuss the big picture—how to write a convincing proposal—and the smaller picture—the role of attention-grabbing titles and abstracts. \nTrostle has worked to improve proposal-writing through workshops and collaborative consultations in more than 15 countries. He has received research funding from numerous organizations—including the NSF\, the NIH\, the Kellogg Foundation\, the Ford Foundation\, the World Health Organization\, and USAID—and has received fellowships from the Fulbright Program and the School for Advanced Research in Santa Fe. \nFood will be provided. RSVP to David Heston at dheston@fordham.edu by October 3 if you are interested in attending.
URL:https://newsuat.fordham.edu/event/what-defines-a-good-proposal-a-workshop-on-capturing-reviewers-attention-and-addressing-their-expectations/
LOCATION:Hughes 313\, 441 East Fordham Road\, Bronx\, NY\, 10458\, United States
CATEGORIES:Lectures
ORGANIZER;CN="Office of Sponsored Programs":MAILTO:btorres14@fordham.edu
GEO:40.8612275;-73.8892354
X-APPLE-STRUCTURED-LOCATION;VALUE=URI;X-ADDRESS=Hughes 313 441 East Fordham Road Bronx NY 10458 United States;X-APPLE-RADIUS=500;X-TITLE=441 East Fordham Road:geo:-73.8892354,40.8612275
END:VEVENT
BEGIN:VEVENT
DTSTART;TZID=America/New_York:20171004T123000
DTEND;TZID=America/New_York:20171004T134500
DTSTAMP:20260424T232207
CREATED:20170926T143045Z
LAST-MODIFIED:20170926T143045Z
UID:10006094-1507120200-1507124700@newsuat.fordham.edu
SUMMARY:Book Talk: Disability\, Health and Human Development
DESCRIPTION:Abstract: This book introduces the human development model to define disability and map its links with health and wellbeing. The model is applied using internationally comparable panel survey data for Ethiopia\, Malawi\, Tanzania and Uganda. \nSpeaker: Sophie Mitra is Professor of Economics at Fordham University. She is a Fellow of the Human Development and Capability Association and Senior Research Associate at the Center for International Policy Studies at Fordham. \nThis is part of Fordham University’s Department of Economics Seminar series and the Seminar onDisability Research across Disciplines\, a seminar series organized by the Faculty Working Group on Disability and funded by the Provost Office.
URL:https://newsuat.fordham.edu/event/book-talk-disability-health-human-development/
LOCATION:Hughes 313\, 441 East Fordham Road\, Bronx\, NY\, 10458\, United States
ATTACH;FMTTYPE=image/png:https://newsuat.fordham.edu/wp-content/uploads/2017/09/Book-cover.png
ORGANIZER;CN="Sophie Mitra":MAILTO:mitra@fordham.edu
GEO:40.8612275;-73.8892354
X-APPLE-STRUCTURED-LOCATION;VALUE=URI;X-ADDRESS=Hughes 313 441 East Fordham Road Bronx NY 10458 United States;X-APPLE-RADIUS=500;X-TITLE=441 East Fordham Road:geo:-73.8892354,40.8612275
END:VEVENT
BEGIN:VEVENT
DTSTART;TZID=America/New_York:20161101T140000
DTEND;TZID=America/New_York:20161101T150000
DTSTAMP:20260424T232207
CREATED:20161025T202614Z
LAST-MODIFIED:20161025T202614Z
UID:10005798-1478008800-1478012400@newsuat.fordham.edu
SUMMARY:Unprecedented Politics: Business and Ethics in the 2016 Election
DESCRIPTION:Join members of the Gabelli School of Business faculty and administration for an in-depth conversation on the 2016 election and it’s impact on business and ethics. Ignatian Week event.\nFor more information contact Marisa Totino (mtotino@fordham.edu)
URL:https://newsuat.fordham.edu/event/unprecedented-politics-business-ethics-in-the-2016-election/
LOCATION:Hughes 313\, 441 East Fordham Road\, Bronx\, NY\, 10458\, United States
ATTACH;FMTTYPE=image/png:https://newsuat.fordham.edu/wp-content/uploads/2016/10/Screen-Shot-2016-10-25-at-3.56.04-PM.png
ORGANIZER;CN="Campus Ministry":MAILTO:cm@fordham.edu
GEO:40.8612275;-73.8892354
X-APPLE-STRUCTURED-LOCATION;VALUE=URI;X-ADDRESS=Hughes 313 441 East Fordham Road Bronx NY 10458 United States;X-APPLE-RADIUS=500;X-TITLE=441 East Fordham Road:geo:-73.8892354,40.8612275
END:VEVENT
BEGIN:VEVENT
DTSTART;TZID=America/New_York:20160414T130000
DTEND;TZID=America/New_York:20160414T141500
DTSTAMP:20260424T232207
CREATED:20160413T160341Z
LAST-MODIFIED:20160413T160341Z
UID:10005559-1460638800-1460643300@newsuat.fordham.edu
SUMMARY:Gabelli School of Business Faculty Research Seminar
DESCRIPTION:Speaker: Nicholas Georgantzas\, PhD\, professor of management\, will present his paper “Firefighting Societal Human-System Ignorance at B-Schools.” Lunch will be served\, so please RSVP.
URL:https://newsuat.fordham.edu/event/gabelli-school-of-business-faculty-research-seminar-3/
LOCATION:Hughes 313\, 441 East Fordham Road\, Bronx\, NY\, 10458\, United States
ORGANIZER;CN="Elizabeth Cardiello":MAILTO:ecardiello@fordham.edu 
GEO:40.8612275;-73.8892354
X-APPLE-STRUCTURED-LOCATION;VALUE=URI;X-ADDRESS=Hughes 313 441 East Fordham Road Bronx NY 10458 United States;X-APPLE-RADIUS=500;X-TITLE=441 East Fordham Road:geo:-73.8892354,40.8612275
END:VEVENT
BEGIN:VEVENT
DTSTART;TZID=America/New_York:20160331T130000
DTEND;TZID=America/New_York:20160331T141500
DTSTAMP:20260424T232207
CREATED:20160330T150217Z
LAST-MODIFIED:20160330T150217Z
UID:10005490-1459429200-1459433700@newsuat.fordham.edu
SUMMARY:Gabelli School of Business Faculty Research Seminar
DESCRIPTION:Speaker: Mohammad G. Nejad\, PhD\, assistant professor of marketing\, will present his paper “Financial Literacy\, Opinion Leadership\, and the Adoption of Financial Innovations.” Lunch will be served\, so please RSVP.
URL:https://newsuat.fordham.edu/event/gabelli-school-of-business-faculty-research-seminar-2/
LOCATION:Hughes 313\, 441 East Fordham Road\, Bronx\, NY\, 10458\, United States
ORGANIZER;CN="Elizabeth Cardiello":MAILTO:ecardiello@fordham.edu 
GEO:40.8612275;-73.8892354
X-APPLE-STRUCTURED-LOCATION;VALUE=URI;X-ADDRESS=Hughes 313 441 East Fordham Road Bronx NY 10458 United States;X-APPLE-RADIUS=500;X-TITLE=441 East Fordham Road:geo:-73.8892354,40.8612275
END:VEVENT
BEGIN:VEVENT
DTSTART;TZID=America/New_York:20160125T173000
DTEND;TZID=America/New_York:20160125T193000
DTSTAMP:20260424T232207
CREATED:20160122T202940Z
LAST-MODIFIED:20160122T202940Z
UID:10005321-1453743000-1453750200@newsuat.fordham.edu
SUMMARY:Lecture: More Than Auxiliary: Caribbean Immigrant Social Organizations\, 1890-1940
DESCRIPTION:Speaker: Tyesha Maddox\, African and African Diaspora Studies Dissertation Fellow at Boston College. Sponsored by the Department of African and African-American Studies.
URL:https://newsuat.fordham.edu/event/lecture-more-than-auxiliary-caribbean-immigrant-social-organizations-1890-1940/
LOCATION:Hughes 313\, 441 East Fordham Road\, Bronx\, NY\, 10458\, United States
ORGANIZER;CN="Department of African and African-American Studies":MAILTO:aaas@fordham.edu
GEO:40.8612275;-73.8892354
X-APPLE-STRUCTURED-LOCATION;VALUE=URI;X-ADDRESS=Hughes 313 441 East Fordham Road Bronx NY 10458 United States;X-APPLE-RADIUS=500;X-TITLE=441 East Fordham Road:geo:-73.8892354,40.8612275
END:VEVENT
BEGIN:VEVENT
DTSTART;TZID=America/New_York:20160121T130000
DTEND;TZID=America/New_York:20160121T141500
DTSTAMP:20260424T232207
CREATED:20160120T155154Z
LAST-MODIFIED:20160120T155154Z
UID:10005317-1453381200-1453385700@newsuat.fordham.edu
SUMMARY:Gabelli School of Business Faculty Research Seminar
DESCRIPTION:An Yan\, PhD\, professor of finance and associate dean of research and faculty development\, will present his paper “Firm Social Connection and Security Issuances.” Lunch will be served\, so please RSVP.
URL:https://newsuat.fordham.edu/event/gabelli-school-of-business-faculty-research-seminar/
LOCATION:Hughes 313\, 441 East Fordham Road\, Bronx\, NY\, 10458\, United States
ORGANIZER;CN="Elizabeth Cardiello":MAILTO:ecardiello@fordham.edu 
GEO:40.8612275;-73.8892354
X-APPLE-STRUCTURED-LOCATION;VALUE=URI;X-ADDRESS=Hughes 313 441 East Fordham Road Bronx NY 10458 United States;X-APPLE-RADIUS=500;X-TITLE=441 East Fordham Road:geo:-73.8892354,40.8612275
END:VEVENT
END:VCALENDAR