BEGIN:VCALENDAR
VERSION:2.0
PRODID:-//Fordham Now - ECPv6.15.20//NONSGML v1.0//EN
CALSCALE:GREGORIAN
METHOD:PUBLISH
X-WR-CALNAME:Fordham Now
X-ORIGINAL-URL:https://newsuat.fordham.edu
X-WR-CALDESC:Events for Fordham Now
REFRESH-INTERVAL;VALUE=DURATION:PT1H
X-Robots-Tag:noindex
X-PUBLISHED-TTL:PT1H
BEGIN:VTIMEZONE
TZID:America/New_York
BEGIN:DAYLIGHT
TZOFFSETFROM:-0500
TZOFFSETTO:-0400
TZNAME:EDT
DTSTART:20210314T070000
END:DAYLIGHT
BEGIN:STANDARD
TZOFFSETFROM:-0400
TZOFFSETTO:-0500
TZNAME:EST
DTSTART:20211107T060000
END:STANDARD
BEGIN:DAYLIGHT
TZOFFSETFROM:-0500
TZOFFSETTO:-0400
TZNAME:EDT
DTSTART:20220313T070000
END:DAYLIGHT
BEGIN:STANDARD
TZOFFSETFROM:-0400
TZOFFSETTO:-0500
TZNAME:EST
DTSTART:20221106T060000
END:STANDARD
BEGIN:DAYLIGHT
TZOFFSETFROM:-0500
TZOFFSETTO:-0400
TZNAME:EDT
DTSTART:20230312T070000
END:DAYLIGHT
BEGIN:STANDARD
TZOFFSETFROM:-0400
TZOFFSETTO:-0500
TZNAME:EST
DTSTART:20231105T060000
END:STANDARD
END:VTIMEZONE
BEGIN:VEVENT
DTSTART;TZID=America/New_York:20220625T120000
DTEND;TZID=America/New_York:20220625T140000
DTSTAMP:20260422T202348
CREATED:20220517T181105Z
LAST-MODIFIED:20220517T181105Z
UID:10004744-1656158400-1656165600@newsuat.fordham.edu
SUMMARY:Alumni Chapter of Boston: 2022 Harpoon Brewery Event
DESCRIPTION:The Alumni Chapter of Boston welcomes alumni\, family\, and friends of Fordham for a fun afternoon at Harpoon Brewery. We have reserved a full-service table with beverages and snacks. \nThe ticket cost includes an assortment of beers and pretzels\, valued at $25. Space is limited. RSVP by June 18. \nWe hope to see you there!
URL:https://newsuat.fordham.edu/event/alumni-chapter-of-boston-2022-harpoon-brewery-event/
LOCATION:Harpoon Brewery\, 306 Northern Ave\, Boston\, 02210\, United States
CATEGORIES:Receptions
ORGANIZER;CN="Alumni Chapter of Boston":MAILTO:raballin13@msn.com
END:VEVENT
END:VCALENDAR