BEGIN:VCALENDAR
VERSION:2.0
PRODID:-//Fordham Now - ECPv6.15.20//NONSGML v1.0//EN
CALSCALE:GREGORIAN
METHOD:PUBLISH
X-ORIGINAL-URL:https://newsuat.fordham.edu
X-WR-CALDESC:Events for Fordham Now
REFRESH-INTERVAL;VALUE=DURATION:PT1H
X-Robots-Tag:noindex
X-PUBLISHED-TTL:PT1H
BEGIN:VTIMEZONE
TZID:America/New_York
BEGIN:DAYLIGHT
TZOFFSETFROM:-0500
TZOFFSETTO:-0400
TZNAME:EDT
DTSTART:20200308T070000
END:DAYLIGHT
BEGIN:STANDARD
TZOFFSETFROM:-0400
TZOFFSETTO:-0500
TZNAME:EST
DTSTART:20201101T060000
END:STANDARD
BEGIN:DAYLIGHT
TZOFFSETFROM:-0500
TZOFFSETTO:-0400
TZNAME:EDT
DTSTART:20210314T070000
END:DAYLIGHT
BEGIN:STANDARD
TZOFFSETFROM:-0400
TZOFFSETTO:-0500
TZNAME:EST
DTSTART:20211107T060000
END:STANDARD
BEGIN:DAYLIGHT
TZOFFSETFROM:-0500
TZOFFSETTO:-0400
TZNAME:EDT
DTSTART:20220313T070000
END:DAYLIGHT
BEGIN:STANDARD
TZOFFSETFROM:-0400
TZOFFSETTO:-0500
TZNAME:EST
DTSTART:20221106T060000
END:STANDARD
END:VTIMEZONE
BEGIN:VEVENT
DTSTART;TZID=America/New_York:20210513T173000
DTEND;TZID=America/New_York:20210513T193000
DTSTAMP:20260423T221343
CREATED:20210421T162424Z
LAST-MODIFIED:20210421T162424Z
UID:10004319-1620927000-1620934200@newsuat.fordham.edu
SUMMARY:Virtual Alumni Career Fair 2021
DESCRIPTION:Alumni\, we invite you to join our fourth annual Alumni Career Fair\, hosted by the Fordham University Alumni Association (FUAA). We are excited to host this event virtually through the Handshake platform in collaboration with the Office of Career Services. Fordham alumni are invited to meet hiring managers and learn about open positions at a variety of organizations both locally and nationally. \nPlease register to save your spot. After registering\, you will receive a confirmation email from the Fordham Alumni Relations team indicating your interest in attending the event. You must have an active Handshake account to participate. In the coming weeks\, you will receive an email from Handshake inviting you to create one. If you already have a Handshake profile\, please log in: fordham.joinhandshake.com. If you do not have a Handshake account\, or if you have questions regarding your Handshake account or career services for alumni\, please contact Jorimel Zaldivar\, career counselor\, at jzaldivar1@fordham.edu. \nThis event is only for Fordham Alumni from the following schools: \n\nUndergraduate Fordham College at Rose Hill\nUndergraduate Fordham College at Lincoln Center\nUndergraduate Gabelli School of Business\nSchool of Professional and Continuing Studies (Undergraduate and Graduate)\nGraduate School of Arts and Sciences\nGraduate School of Education\nGraduate School of Religion and Religious Education\n\nIf you are an employer or hiring manager interested in participating\, please email Kassi Montenegro\, program manager for Alumni Relations.
URL:https://newsuat.fordham.edu/event/virtual-alumni-career-fair-2021/
LOCATION:Handshake
CATEGORIES:Networking and Career
ORGANIZER;CN="Office of Alumni Relations":MAILTO:alumnioffice@fordham.edu
END:VEVENT
END:VCALENDAR