BEGIN:VCALENDAR
VERSION:2.0
PRODID:-//Fordham Now - ECPv6.15.20//NONSGML v1.0//EN
CALSCALE:GREGORIAN
METHOD:PUBLISH
X-ORIGINAL-URL:https://newsuat.fordham.edu
X-WR-CALDESC:Events for Fordham Now
REFRESH-INTERVAL;VALUE=DURATION:PT1H
X-Robots-Tag:noindex
X-PUBLISHED-TTL:PT1H
BEGIN:VTIMEZONE
TZID:America/Los_Angeles
BEGIN:DAYLIGHT
TZOFFSETFROM:-0800
TZOFFSETTO:-0700
TZNAME:PDT
DTSTART:20180311T100000
END:DAYLIGHT
BEGIN:STANDARD
TZOFFSETFROM:-0700
TZOFFSETTO:-0800
TZNAME:PST
DTSTART:20181104T090000
END:STANDARD
BEGIN:DAYLIGHT
TZOFFSETFROM:-0800
TZOFFSETTO:-0700
TZNAME:PDT
DTSTART:20190310T100000
END:DAYLIGHT
BEGIN:STANDARD
TZOFFSETFROM:-0700
TZOFFSETTO:-0800
TZNAME:PST
DTSTART:20191103T090000
END:STANDARD
BEGIN:DAYLIGHT
TZOFFSETFROM:-0800
TZOFFSETTO:-0700
TZNAME:PDT
DTSTART:20200308T100000
END:DAYLIGHT
BEGIN:STANDARD
TZOFFSETFROM:-0700
TZOFFSETTO:-0800
TZNAME:PST
DTSTART:20201101T090000
END:STANDARD
END:VTIMEZONE
BEGIN:VTIMEZONE
TZID:America/New_York
BEGIN:DAYLIGHT
TZOFFSETFROM:-0500
TZOFFSETTO:-0400
TZNAME:EDT
DTSTART:20180311T070000
END:DAYLIGHT
BEGIN:STANDARD
TZOFFSETFROM:-0400
TZOFFSETTO:-0500
TZNAME:EST
DTSTART:20181104T060000
END:STANDARD
BEGIN:DAYLIGHT
TZOFFSETFROM:-0500
TZOFFSETTO:-0400
TZNAME:EDT
DTSTART:20190310T070000
END:DAYLIGHT
BEGIN:STANDARD
TZOFFSETFROM:-0400
TZOFFSETTO:-0500
TZNAME:EST
DTSTART:20191103T060000
END:STANDARD
BEGIN:DAYLIGHT
TZOFFSETFROM:-0500
TZOFFSETTO:-0400
TZNAME:EDT
DTSTART:20200308T070000
END:DAYLIGHT
BEGIN:STANDARD
TZOFFSETFROM:-0400
TZOFFSETTO:-0500
TZNAME:EST
DTSTART:20201101T060000
END:STANDARD
END:VTIMEZONE
BEGIN:VEVENT
DTSTART;TZID=America/Los_Angeles:20190917T190000
DTEND;TZID=America/Los_Angeles:20190917T210000
DTSTAMP:20260425T124227
CREATED:20190905T150903Z
LAST-MODIFIED:20190905T150903Z
UID:10007174-1568746800-1568754000@newsuat.fordham.edu
SUMMARY:Alumni Chapter of San Diego: Solidarity on Tap
DESCRIPTION:Solidarity on Tap—a Jesuit\, interfaith\, inter-generational gathering for socializing and social justice—will present Dr. Bill Jenkins\, founder and president of Safe Harbors Network\, to share his reflections on “Welcoming Strangers\,” his ministry to immigrants\, refugees\, and asylum seekers.
URL:https://newsuat.fordham.edu/event/alumni-chapter-of-san-diego-solidarity-on-tap/
LOCATION:Green Flash Brewing Company\, 6550 Mira Mesa Blvd\, San Diego\, CA\, 92121\, United States
CATEGORIES:Lectures,Spiritual and Service
ORGANIZER;CN="Alumni Chapter of Palm Beach":MAILTO:alumnioffice@fordham.edu
END:VEVENT
BEGIN:VEVENT
DTSTART;TZID=America/Los_Angeles:20190521T190000
DTEND;TZID=America/Los_Angeles:20190521T190000
DTSTAMP:20260425T124227
CREATED:20190515T212416Z
LAST-MODIFIED:20190515T212416Z
UID:10007080-1558465200-1558465200@newsuat.fordham.edu
SUMMARY:Solidarity on Tap in San Diego:  “Cry of Creation: Our Time to Act”
DESCRIPTION:Solidarity on Tap is a simple gathering for socializing and social justice. The Ignatian Solidarity Network\, Jesuit Volunteer Corps\, Jesuit Volunteer Corps Northwest\, Jesuit School of Theology of Santa Clara University\, Boston College School of Theology and Ministry\, Jesuitical\, along with Our Lady of Guadalupe Parish and other local partners\, welcome all to Solidarity on Tap | San Diego. \nFood and beverages (alcoholic and non-alcoholic) will be available for purchase. All are welcome (21 and over). \nAround 7:30 p.m.\, we will have a reflection titled “Cry of Creation: Our Time to Act\,” by the Rev. Jeanette Bragunier and Philip Petrie\, founding members of SanDiego350. \nWhat does it mean to be a good steward of God’s creation? Might our current ecological crisis be an opportunity to create a more sustainable and more spiritual civilization? How might each of us do more to move our culture in that direction? This talk will address these questions through the lens of our presenters’ activism with an emphasis on solutions both individual and collective. \nThe Rev. Jeanette Bragunier grew up in a small desert mining community in Arizona\, where she experienced the importance of community life\, something that has never left her. This core value of nurturing healthy community led to her passion of building a healthier and more sustainable planet. Her second vocation as a pastor has empowered her call to work through the theological lens that all life is sacred. She believes that as people of faith\, we are to work on behalf of creation in solidarity with people most affected by the ecological and economic damage posed by climate change. Jeanette is a United Methodist pastor currently serving as associate pastor at Mission Hills UMC\, and also serves as the coordinator for the Interfaith Coalition for Earth Justice. Her climate activism has involved developing a children’s group of Jane Goodall’s Roots and Shoots\, an adult Earthcare group. A co-founder and volunteer at SanDiego350\, she recently participated in “Engaging the Climate Crisis\,” a faith-based training experience. She has a bachelor’s degree in public relations from Northern Arizona University and a master’s in Christian leadership from Fuller Theological Seminary. Married to Charlie\, they have two young adult children\, Bella and Austin\, and their dog\, Coconut. They love to camp\, travel\, and serve together. \nPhilip Petrie is a founding member of SanDiego350\, an all-volunteer organization committed to action on climate change. As a member of SanDiego350’s Community Presentation Team\, he gives presentations on climate to diverse organizations around the San Diego area. Phil also attends St. Paul’s Episcopal Cathedral\, where he co-founded Simpler Living\, a creation care ministry. He is an artist\, working primarily in oils\, and has lived and exhibited in New York\, Chicago\, and Indiana. He currently lives in San Diego with his wife\, Mary Doak\, and daughter\, Sara. His foci on Christian spirituality\, the environment\, and the visual arts often intersect\, and invariably make his life richer.
URL:https://newsuat.fordham.edu/event/solidarity-on-tap-in-san-diego-cry-of-creation-our-time-to-act/
LOCATION:Green Flash Brewing Company\, 6550 Mira Mesa Blvd\, San Diego\, CA\, 92121\, United States
CATEGORIES:Lectures,Networking and Career,Spiritual and Religious Events
ORGANIZER;CN="Ignatian Solidarity Network":MAILTO:info@ignatiansolidarity.net
END:VEVENT
BEGIN:VEVENT
DTSTART;TZID=America/New_York:20190327T190000
DTEND;TZID=America/New_York:20190327T210000
DTSTAMP:20260425T124227
CREATED:20190320T130927Z
LAST-MODIFIED:20190320T130927Z
UID:10006989-1553713200-1553720400@newsuat.fordham.edu
SUMMARY:Solidarity on Tap: "No One Stands Alone: Responding To and Standing With Immigrants in San Diego"
DESCRIPTION:Solidarity on Tap—a Jesuit\, interfaith\, inter-generational gathering for socializing and social justice—will present “No One Stands Alone: Responding To and Standing With Immigrants in San Diego” with Kevin Malone\, executive director of the San Diego Organizing Project (www.sdop.net). \nLearn about the increasing number of desperate migrant families who are waiting at our border or temporarily living in a downtown San Diego shelter and what you can do to assist them via the San Diego Rapid Response Network (http://www.rapidresponsesd.org/). \nAll are welcome to this free event. Alcoholic and non-alcoholic drinks are available along with a Green Flash food truck on site.
URL:https://newsuat.fordham.edu/event/solidarity-on-tap-no-one-stands-alone-responding-to-and-standing-with-immigrants-in-san-diego/
LOCATION:Green Flash Brewing Company\, 6550 Mira Mesa Blvd\, San Diego\, CA\, 92121\, United States
CATEGORIES:Lectures,Social
ORGANIZER;CN="Ignatian Solidarity Network":MAILTO:info@ignatiansolidarity.net
END:VEVENT
END:VCALENDAR