BEGIN:VCALENDAR
VERSION:2.0
PRODID:-//Fordham Now - ECPv6.15.20//NONSGML v1.0//EN
CALSCALE:GREGORIAN
METHOD:PUBLISH
X-ORIGINAL-URL:https://newsuat.fordham.edu
X-WR-CALDESC:Events for Fordham Now
REFRESH-INTERVAL;VALUE=DURATION:PT1H
X-Robots-Tag:noindex
X-PUBLISHED-TTL:PT1H
BEGIN:VTIMEZONE
TZID:America/New_York
BEGIN:DAYLIGHT
TZOFFSETFROM:-0500
TZOFFSETTO:-0400
TZNAME:EDT
DTSTART:20180311T070000
END:DAYLIGHT
BEGIN:STANDARD
TZOFFSETFROM:-0400
TZOFFSETTO:-0500
TZNAME:EST
DTSTART:20181104T060000
END:STANDARD
BEGIN:DAYLIGHT
TZOFFSETFROM:-0500
TZOFFSETTO:-0400
TZNAME:EDT
DTSTART:20190310T070000
END:DAYLIGHT
BEGIN:STANDARD
TZOFFSETFROM:-0400
TZOFFSETTO:-0500
TZNAME:EST
DTSTART:20191103T060000
END:STANDARD
BEGIN:DAYLIGHT
TZOFFSETFROM:-0500
TZOFFSETTO:-0400
TZNAME:EDT
DTSTART:20200308T070000
END:DAYLIGHT
BEGIN:STANDARD
TZOFFSETFROM:-0400
TZOFFSETTO:-0500
TZNAME:EST
DTSTART:20201101T060000
END:STANDARD
END:VTIMEZONE
BEGIN:VEVENT
DTSTART;TZID=America/New_York:20190529T190000
DTEND;TZID=America/New_York:20190529T210000
DTSTAMP:20260425T155937
CREATED:20190325T160540Z
LAST-MODIFIED:20190325T160540Z
UID:10006997-1559156400-1559163600@newsuat.fordham.edu
SUMMARY:Alumni Chapter of Charleston: 2019 Spoleto
DESCRIPTION:Hear Latin jazz at the Gaillard Center during Spoleto this year! Latin Grammy nominee Dafnis Prieto will perform their Grammy Award-winning jazz music with up to 15 awesome musicians. Don’t miss it! Parking will be available in the city lot right next door. \nOur group will gather at Saffron before the show—details forthcoming!
URL:https://newsuat.fordham.edu/event/alumni-chapter-of-charleston-2019-spoleto/
LOCATION:Gaillard Center\, 95 Calhoun Street\, Charleston\, SC\, 29401\, United States
CATEGORIES:Social
ORGANIZER;CN="Alumni Chapter of Charleston":MAILTO:allison@farinalaw.com
END:VEVENT
END:VCALENDAR