BEGIN:VCALENDAR
VERSION:2.0
PRODID:-//Fordham Now - ECPv6.15.20//NONSGML v1.0//EN
CALSCALE:GREGORIAN
METHOD:PUBLISH
X-WR-CALNAME:Fordham Now
X-ORIGINAL-URL:https://newsuat.fordham.edu
X-WR-CALDESC:Events for Fordham Now
REFRESH-INTERVAL;VALUE=DURATION:PT1H
X-Robots-Tag:noindex
X-PUBLISHED-TTL:PT1H
BEGIN:VTIMEZONE
TZID:America/New_York
BEGIN:DAYLIGHT
TZOFFSETFROM:-0500
TZOFFSETTO:-0400
TZNAME:EDT
DTSTART:20170312T070000
END:DAYLIGHT
BEGIN:STANDARD
TZOFFSETFROM:-0400
TZOFFSETTO:-0500
TZNAME:EST
DTSTART:20171105T060000
END:STANDARD
BEGIN:DAYLIGHT
TZOFFSETFROM:-0500
TZOFFSETTO:-0400
TZNAME:EDT
DTSTART:20180311T070000
END:DAYLIGHT
BEGIN:STANDARD
TZOFFSETFROM:-0400
TZOFFSETTO:-0500
TZNAME:EST
DTSTART:20181104T060000
END:STANDARD
BEGIN:DAYLIGHT
TZOFFSETFROM:-0500
TZOFFSETTO:-0400
TZNAME:EDT
DTSTART:20190310T070000
END:DAYLIGHT
BEGIN:STANDARD
TZOFFSETFROM:-0400
TZOFFSETTO:-0500
TZNAME:EST
DTSTART:20191103T060000
END:STANDARD
BEGIN:DAYLIGHT
TZOFFSETFROM:-0500
TZOFFSETTO:-0400
TZNAME:EDT
DTSTART:20200308T070000
END:DAYLIGHT
BEGIN:STANDARD
TZOFFSETFROM:-0400
TZOFFSETTO:-0500
TZNAME:EST
DTSTART:20201101T060000
END:STANDARD
BEGIN:DAYLIGHT
TZOFFSETFROM:-0500
TZOFFSETTO:-0400
TZNAME:EDT
DTSTART:20210314T070000
END:DAYLIGHT
BEGIN:STANDARD
TZOFFSETFROM:-0400
TZOFFSETTO:-0500
TZNAME:EST
DTSTART:20211107T060000
END:STANDARD
END:VTIMEZONE
BEGIN:VEVENT
DTSTART;TZID=America/New_York:20200314T100000
DTEND;TZID=America/New_York:20200314T130000
DTSTAMP:20260424T143927
CREATED:20200228T153246Z
LAST-MODIFIED:20200228T153246Z
UID:10003932-1584180000-1584190800@newsuat.fordham.edu
SUMMARY:CANCELED: Global Impact on Gender Inequality
DESCRIPTION:Fordham Institute of Women and Girls invites you to attend our event—“Global Impact on Gender Inequality.” \nJoin us for a day of discussion on gender inequality across the globe\, as well as the health\, rights\, and well-being of girls and women. \nHosted by Fordham Institute of Women and Girls and IHAN.
URL:https://newsuat.fordham.edu/event/global-impact-on-gender-inequality/
LOCATION:Fordham Law School\, Room 3-04\, 150 West 62nd Street\, New York\, NY\, 10023\, United States
CATEGORIES:Lectures
ATTACH;FMTTYPE=image/png:https://newsuat.fordham.edu/wp-content/uploads/2020/02/Untitled-design-1.png
END:VEVENT
BEGIN:VEVENT
DTSTART;TZID=America/New_York:20190316T093000
DTEND;TZID=America/New_York:20190316T133000
DTSTAMP:20260424T143927
CREATED:20181220T211557Z
LAST-MODIFIED:20181220T211557Z
UID:10006791-1552728600-1552743000@newsuat.fordham.edu
SUMMARY:Women on the Move
DESCRIPTION:Join us for this conference on the local and international status of migrant women and girls. This conference will present some of the local and international solutions to the hardships\, abuse\, and legal issues migrants are facing in the United States and other countries.
URL:https://newsuat.fordham.edu/event/women-on-the-move/
LOCATION:Fordham Law School\, Room 3-04\, 150 West 62nd Street\, New York\, NY\, 10023\, United States
CATEGORIES:Conferences and Symposia,Lectures
ATTACH;FMTTYPE=image/jpeg:https://newsuat.fordham.edu/wp-content/uploads/2018/12/Fordham-LC-1028x516.jpg
END:VEVENT
BEGIN:VEVENT
DTSTART;TZID=America/New_York:20181027T093000
DTEND;TZID=America/New_York:20181027T143000
DTSTAMP:20260424T143927
CREATED:20180626T123808Z
LAST-MODIFIED:20180626T123808Z
UID:10006484-1540632600-1540650600@newsuat.fordham.edu
SUMMARY:The Impact of Violence on Health and Education
DESCRIPTION:About the Conference\nThis conference will examine the multifaceted effects of violence throughout the human lifespan and present proactive measures to mitigate adverse outcomes. The conference will focus particularly on gun violence\, school violence\, and sexual and gender-based violence. \nConference Submissions\nIn preparation for this forum\, the Fordham University Graduate School of Social Service Institute for Women & Girls and the International Health Awareness Network (IHAN) will open a call for student policy papers and research posters that will contribute to the multigenerational dialogue surrounding the impact of violence on health and education. A panel of faculty and community leaders will review each submission. The three top papers will be presented at the conference.
URL:https://newsuat.fordham.edu/event/the-impact-of-violence-on-health-and-education/
LOCATION:Fordham Law School\, Room 3-04\, 150 West 62nd Street\, New York\, NY\, 10023\, United States
CATEGORIES:Conferences and Symposia
ATTACH;FMTTYPE=image/jpeg:https://newsuat.fordham.edu/wp-content/uploads/2018/06/The-Impact-of-Violence-on-Health-and-Education-3.jpg
END:VEVENT
END:VCALENDAR