BEGIN:VCALENDAR
VERSION:2.0
PRODID:-//Fordham Now - ECPv6.15.20//NONSGML v1.0//EN
CALSCALE:GREGORIAN
METHOD:PUBLISH
X-WR-CALNAME:Fordham Now
X-ORIGINAL-URL:https://newsuat.fordham.edu
X-WR-CALDESC:Events for Fordham Now
REFRESH-INTERVAL;VALUE=DURATION:PT1H
X-Robots-Tag:noindex
X-PUBLISHED-TTL:PT1H
BEGIN:VTIMEZONE
TZID:America/New_York
BEGIN:DAYLIGHT
TZOFFSETFROM:-0500
TZOFFSETTO:-0400
TZNAME:EDT
DTSTART:20180311T070000
END:DAYLIGHT
BEGIN:STANDARD
TZOFFSETFROM:-0400
TZOFFSETTO:-0500
TZNAME:EST
DTSTART:20181104T060000
END:STANDARD
BEGIN:DAYLIGHT
TZOFFSETFROM:-0500
TZOFFSETTO:-0400
TZNAME:EDT
DTSTART:20190310T070000
END:DAYLIGHT
BEGIN:STANDARD
TZOFFSETFROM:-0400
TZOFFSETTO:-0500
TZNAME:EST
DTSTART:20191103T060000
END:STANDARD
BEGIN:DAYLIGHT
TZOFFSETFROM:-0500
TZOFFSETTO:-0400
TZNAME:EDT
DTSTART:20200308T070000
END:DAYLIGHT
BEGIN:STANDARD
TZOFFSETFROM:-0400
TZOFFSETTO:-0500
TZNAME:EST
DTSTART:20201101T060000
END:STANDARD
END:VTIMEZONE
BEGIN:VEVENT
DTSTART;TZID=America/New_York:20190608T120000
DTEND;TZID=America/New_York:20190608T160000
DTSTAMP:20260425T155835
CREATED:20190301T143910Z
LAST-MODIFIED:20190301T143910Z
UID:10006964-1559995200-1560009600@newsuat.fordham.edu
SUMMARY:Alumni Chapter of Long Island: 2019 Kayaking and Lunch
DESCRIPTION:Alumni\, family\, and friends are invited to paddle out of Empire Kayaks into Middle Bay on Long Island’s South Shore. After kayaking\, our group will walk down the block to Peter’s Clam Bar (600 Long Beach Road\, Island Park\, New York) for a seafood lunch. \nPlease note: All rentals must be paid in cash to Empire Kayaks on the day of the event. The cost of kayak rentals is $20 for a single per hour\, $25 for a performance kayak per hour\, or $30 for a double per hour. Please specify your preference in your registration. We will meet at noon and hit the water from 12:30 to 2 p.m. \nFood and refreshments can be purchased directly from Peter’s Clam Bar (the cost of lunch depends on how hungry you are!). \nSpace is limited. RSVP by June 6\, 2019.
URL:https://newsuat.fordham.edu/event/alumni-chapter-of-long-island-2019-kayaking-and-lunch/
LOCATION:Empire Kayaks\, 4 Empire Boulevard\, Island Park\, NY\, 11558\, United States
CATEGORIES:Social
ORGANIZER;CN="Phil Cicione":MAILTO:phillipcicione@gmail.com
END:VEVENT
END:VCALENDAR