BEGIN:VCALENDAR
VERSION:2.0
PRODID:-//Fordham Now - ECPv6.15.20//NONSGML v1.0//EN
CALSCALE:GREGORIAN
METHOD:PUBLISH
X-ORIGINAL-URL:https://newsuat.fordham.edu
X-WR-CALDESC:Events for Fordham Now
REFRESH-INTERVAL;VALUE=DURATION:PT1H
X-Robots-Tag:noindex
X-PUBLISHED-TTL:PT1H
BEGIN:VTIMEZONE
TZID:America/Phoenix
BEGIN:STANDARD
TZOFFSETFROM:-0700
TZOFFSETTO:-0700
TZNAME:MST
DTSTART:20220101T000000
END:STANDARD
END:VTIMEZONE
BEGIN:VTIMEZONE
TZID:America/New_York
BEGIN:DAYLIGHT
TZOFFSETFROM:-0500
TZOFFSETTO:-0400
TZNAME:EDT
DTSTART:20180311T070000
END:DAYLIGHT
BEGIN:STANDARD
TZOFFSETFROM:-0400
TZOFFSETTO:-0500
TZNAME:EST
DTSTART:20181104T060000
END:STANDARD
BEGIN:DAYLIGHT
TZOFFSETFROM:-0500
TZOFFSETTO:-0400
TZNAME:EDT
DTSTART:20190310T070000
END:DAYLIGHT
BEGIN:STANDARD
TZOFFSETFROM:-0400
TZOFFSETTO:-0500
TZNAME:EST
DTSTART:20191103T060000
END:STANDARD
BEGIN:DAYLIGHT
TZOFFSETFROM:-0500
TZOFFSETTO:-0400
TZNAME:EDT
DTSTART:20200308T070000
END:DAYLIGHT
BEGIN:STANDARD
TZOFFSETFROM:-0400
TZOFFSETTO:-0500
TZNAME:EST
DTSTART:20201101T060000
END:STANDARD
BEGIN:DAYLIGHT
TZOFFSETFROM:-0500
TZOFFSETTO:-0400
TZNAME:EDT
DTSTART:20210314T070000
END:DAYLIGHT
BEGIN:STANDARD
TZOFFSETFROM:-0400
TZOFFSETTO:-0500
TZNAME:EST
DTSTART:20211107T060000
END:STANDARD
END:VTIMEZONE
BEGIN:VEVENT
DTSTART;TZID=America/Phoenix:20230418T183000
DTEND;TZID=America/Phoenix:20230418T203000
DTSTAMP:20260422T002353
CREATED:20230209T215006Z
LAST-MODIFIED:20230209T215006Z
UID:10004981-1681842600-1681849800@newsuat.fordham.edu
SUMMARY:2023 Phoenix Presidential Welcome Reception
DESCRIPTION:Barbara Ennis\, PAR\, and Tom Ennis\, FCRH ’88\, PAR\, and the Fordham Alumni Chapter of Phoenix cordially invite you to a complimentary reception for alumni\, parents\, and friends. Please join us as we welcome Tania Tetlow as Fordham’s 33rd president—the first woman and layperson to serve as president in the University’s history. \nSpace is limited\, and advance registration is required. RSVP by April 11. \nAs the cost of this event is being generously covered by our hosts\, Barbara and Tom Ennis\, please consider making a gift of $25 or more to support Cura Personalis | For Every Fordham Student.
URL:https://newsuat.fordham.edu/event/2023-phoenix-presidential-welcome-reception/
LOCATION:El Chorro\, 5550 East Lincoln Drive\, Paradise Valley\, AZ\, 85253\, United States
CATEGORIES:Receptions
ORGANIZER;CN="Ainsley Woakes":MAILTO:awoakes@fordham.edu
END:VEVENT
BEGIN:VEVENT
DTSTART;TZID=America/New_York:20200309T183000
DTEND;TZID=America/New_York:20200309T203000
DTSTAMP:20260422T002353
CREATED:20200122T155928Z
LAST-MODIFIED:20200122T155928Z
UID:10003852-1583778600-1583785800@newsuat.fordham.edu
SUMMARY:2020 Phoenix Regional Reception
DESCRIPTION:Barbara Ennis\, PAR\, Tom Ennis\, FCRH ’88\, PAR\, and the Alumni Chapter of Phoenix cordially invite you to a complimentary reception for alumni\, parents\, and friends. Guests will hear from Michael C. McCarthy\, S.J.\, vice president for mission integration and planning. \nAs the cost of this reception is being generously covered by our hosts\, Barbara and Tom Ennis\, please consider making a gift of $25 or more to support Fordham.
URL:https://newsuat.fordham.edu/event/2020-phoenix-regional-reception/
LOCATION:El Chorro\, 5550 East Lincoln Drive\, Paradise Valley\, AZ\, 85253\, United States
CATEGORIES:Receptions
ATTACH;FMTTYPE=image/jpeg:https://newsuat.fordham.edu/wp-content/uploads/2020/01/20-0122_AR_REGIONAL_EMAIL_BANNERS_Phoenixv2.jpg
ORGANIZER;CN="Office of Alumni Relations":MAILTO:alumnioffice@fordham.edu
END:VEVENT
BEGIN:VEVENT
DTSTART;TZID=America/New_York:20190403T183000
DTEND;TZID=America/New_York:20190403T203000
DTSTAMP:20260422T002353
CREATED:20190401T202343Z
LAST-MODIFIED:20190401T202343Z
UID:10007021-1554316200-1554323400@newsuat.fordham.edu
SUMMARY:2019 Phoenix Presidential Reception
DESCRIPTION:The Alumni Chapter of Phoenix and Joseph M. McShane\, S.J.\, president of Fordham University\, cordially invite you to a reception for alumni\, parents\, and friends. \nThis event costs $30 per person and includes heavy hors d’oeuvres\, beer\, and wine.
URL:https://newsuat.fordham.edu/event/2019-phoenix-presidential-reception/
LOCATION:El Chorro\, 5550 East Lincoln Drive\, Paradise Valley\, AZ\, 85253\, United States
CATEGORIES:Receptions
ATTACH;FMTTYPE=image/jpeg:https://newsuat.fordham.edu/wp-content/uploads/2019/03/Pres_Phoenix-1.jpg
ORGANIZER;CN="Ainsley Kelley":MAILTO:akelley6@fordham.edu
END:VEVENT
END:VCALENDAR