BEGIN:VCALENDAR
VERSION:2.0
PRODID:-//Fordham Now - ECPv6.15.20//NONSGML v1.0//EN
CALSCALE:GREGORIAN
METHOD:PUBLISH
X-WR-CALNAME:Fordham Now
X-ORIGINAL-URL:https://newsuat.fordham.edu
X-WR-CALDESC:Events for Fordham Now
REFRESH-INTERVAL;VALUE=DURATION:PT1H
X-Robots-Tag:noindex
X-PUBLISHED-TTL:PT1H
BEGIN:VTIMEZONE
TZID:America/New_York
BEGIN:DAYLIGHT
TZOFFSETFROM:-0500
TZOFFSETTO:-0400
TZNAME:EDT
DTSTART:20170312T070000
END:DAYLIGHT
BEGIN:STANDARD
TZOFFSETFROM:-0400
TZOFFSETTO:-0500
TZNAME:EST
DTSTART:20171105T060000
END:STANDARD
BEGIN:DAYLIGHT
TZOFFSETFROM:-0500
TZOFFSETTO:-0400
TZNAME:EDT
DTSTART:20180311T070000
END:DAYLIGHT
BEGIN:STANDARD
TZOFFSETFROM:-0400
TZOFFSETTO:-0500
TZNAME:EST
DTSTART:20181104T060000
END:STANDARD
BEGIN:DAYLIGHT
TZOFFSETFROM:-0500
TZOFFSETTO:-0400
TZNAME:EDT
DTSTART:20190310T070000
END:DAYLIGHT
BEGIN:STANDARD
TZOFFSETFROM:-0400
TZOFFSETTO:-0500
TZNAME:EST
DTSTART:20191103T060000
END:STANDARD
BEGIN:DAYLIGHT
TZOFFSETFROM:-0500
TZOFFSETTO:-0400
TZNAME:EDT
DTSTART:20200308T070000
END:DAYLIGHT
BEGIN:STANDARD
TZOFFSETFROM:-0400
TZOFFSETTO:-0500
TZNAME:EST
DTSTART:20201101T060000
END:STANDARD
END:VTIMEZONE
BEGIN:VEVENT
DTSTART;TZID=America/New_York:20190502T180000
DTEND;TZID=America/New_York:20190502T210000
DTSTAMP:20260425T155942
CREATED:20190313T163753Z
LAST-MODIFIED:20190313T163753Z
UID:10006983-1556820000-1556830800@newsuat.fordham.edu
SUMMARY:Alumni Chapter of Northern New Jersey: 2019 Spring Reception
DESCRIPTION:Reconnect with local Fordham alumni and friends from the Alumni Chapter of Northern New Jersey at this evening reception. This event will feature a talk by Fordham’s director of online learning. In “These Kids Today Are Different: Teaching and Learning in the Digital Age\,” Steven D’Agustino\, Ph.D.\, will discuss how technology and online education are changing the way today’s students learn. \nThis event costs $35 per person and includes hors d’oeuvres\, a buffet dinner\, dessert\, soft drinks\, and coffee. A cash bar will be available. Please note: Echo Lake does not accept credit cards and there is no ATM on-site; bring cash if you would like to purchase beer\, wine\, or cocktails. \nAdvance registration is required. Space is limited and this event will likely sell out. \nRSVP by April 25\, 2019.
URL:https://newsuat.fordham.edu/event/alumni-chapter-of-northern-new-jersey-2019-spring-reception/
LOCATION:Echo Lake Country Club\, 515 Springfield Avenue\, Westfield\, NJ\, United States
CATEGORIES:Receptions
ORGANIZER;CN="Alumni Chapter of Northern NJ":MAILTO:seanmccooe@gmail.com
GEO:40.6766386;-74.3313131
X-APPLE-STRUCTURED-LOCATION;VALUE=URI;X-ADDRESS=Echo Lake Country Club 515 Springfield Avenue Westfield NJ United States;X-APPLE-RADIUS=500;X-TITLE=515 Springfield Avenue:geo:-74.3313131,40.6766386
END:VEVENT
BEGIN:VEVENT
DTSTART;TZID=America/New_York:20180309T180000
DTEND;TZID=America/New_York:20180309T210000
DTSTAMP:20260425T155942
CREATED:20180214T192955Z
LAST-MODIFIED:20180214T192955Z
UID:10006345-1520618400-1520629200@newsuat.fordham.edu
SUMMARY:Alumni Chapter of Northern New Jersey: 2018 St. Patrick's Celebration Dinner
DESCRIPTION:Join the Alumni Chapter of Northern New Jersey for an evening reception celebrating St. Patrick’s Day. Enjoy dinner and cocktails with local Fordham alumni and friends. This event costs $35 per person. \nPlease note: Space is limited for this event; advance registration is required. \nRSVP by March 2\, 2018.
URL:https://newsuat.fordham.edu/event/alumni-chapter-northern-new-jersey-2018-st-patricks-celebration-dinner/
LOCATION:Echo Lake Country Club\, 515 Springfield Avenue\, Westfield\, NJ\, United States
CATEGORIES:Receptions
ORGANIZER;CN="Ainsley Kelley":MAILTO:akelley6@fordham.edu
GEO:40.6766386;-74.3313131
X-APPLE-STRUCTURED-LOCATION;VALUE=URI;X-ADDRESS=Echo Lake Country Club 515 Springfield Avenue Westfield NJ United States;X-APPLE-RADIUS=500;X-TITLE=515 Springfield Avenue:geo:-74.3313131,40.6766386
END:VEVENT
END:VCALENDAR