BEGIN:VCALENDAR
VERSION:2.0
PRODID:-//Fordham Now - ECPv6.15.20//NONSGML v1.0//EN
CALSCALE:GREGORIAN
METHOD:PUBLISH
X-ORIGINAL-URL:https://newsuat.fordham.edu
X-WR-CALDESC:Events for Fordham Now
REFRESH-INTERVAL;VALUE=DURATION:PT1H
X-Robots-Tag:noindex
X-PUBLISHED-TTL:PT1H
BEGIN:VTIMEZONE
TZID:America/New_York
BEGIN:DAYLIGHT
TZOFFSETFROM:-0500
TZOFFSETTO:-0400
TZNAME:EDT
DTSTART:20220313T070000
END:DAYLIGHT
BEGIN:STANDARD
TZOFFSETFROM:-0400
TZOFFSETTO:-0500
TZNAME:EST
DTSTART:20221106T060000
END:STANDARD
BEGIN:DAYLIGHT
TZOFFSETFROM:-0500
TZOFFSETTO:-0400
TZNAME:EDT
DTSTART:20230312T070000
END:DAYLIGHT
BEGIN:STANDARD
TZOFFSETFROM:-0400
TZOFFSETTO:-0500
TZNAME:EST
DTSTART:20231105T060000
END:STANDARD
BEGIN:DAYLIGHT
TZOFFSETFROM:-0500
TZOFFSETTO:-0400
TZNAME:EDT
DTSTART:20240310T070000
END:DAYLIGHT
BEGIN:STANDARD
TZOFFSETFROM:-0400
TZOFFSETTO:-0500
TZNAME:EST
DTSTART:20241103T060000
END:STANDARD
END:VTIMEZONE
BEGIN:VEVENT
DTSTART;TZID=America/New_York:20230503T180000
DTEND;TZID=America/New_York:20230503T200000
DTSTAMP:20260424T224433
CREATED:20230411T141632Z
LAST-MODIFIED:20230411T141632Z
UID:10005087-1683136800-1683144000@newsuat.fordham.edu
SUMMARY:Alumni Chapter of Washington\, D.C.: 2023 Book Talk and Signing
DESCRIPTION:In his new memoir\, The Fall of the FBI: How a Once Great Agency Became a Threat to Democracy\, Tom Baker\, FCRH ’65\, shares highlights from his decades-long career in the FBI and his hopes for the future of the bureau. Join the Fordham Alumni Chapter of Washington\, D.C.\, to hear Baker discuss his memoir and sign copies for guests; you won’t want to miss it!\nSpace is limited\, and advance registration is required. RSVP by May 1. \nPlease note: The book talk will begin promptly at 6 p.m. Please come as early as 5:30 p.m. to reserve a seat. A limited number of copies of the author’s memoir will also be available to purchase for a special discounted price of $20 for Fordham alumni and friends on site (cash or check only). Those who have already purchased their copies are welcome to bring them to be signed by the author.
URL:https://newsuat.fordham.edu/event/alumni-chapter-of-washington-d-c-2023-book-talk-and-signing/
LOCATION:Cleveland Park Neighborhood Library\, 3310 Connecticut Ave NW\, Washington\, D.C.\, DC\, 20008\, United States
CATEGORIES:Social
ORGANIZER;CN="Deanna Howes Spiro":MAILTO:fordham.club.dc@gmail.com
END:VEVENT
END:VCALENDAR