BEGIN:VCALENDAR
VERSION:2.0
PRODID:-//Fordham Now - ECPv6.15.20//NONSGML v1.0//EN
CALSCALE:GREGORIAN
METHOD:PUBLISH
X-WR-CALNAME:Fordham Now
X-ORIGINAL-URL:https://newsuat.fordham.edu
X-WR-CALDESC:Events for Fordham Now
REFRESH-INTERVAL;VALUE=DURATION:PT1H
X-Robots-Tag:noindex
X-PUBLISHED-TTL:PT1H
BEGIN:VTIMEZONE
TZID:America/New_York
BEGIN:DAYLIGHT
TZOFFSETFROM:-0500
TZOFFSETTO:-0400
TZNAME:EDT
DTSTART:20200308T070000
END:DAYLIGHT
BEGIN:STANDARD
TZOFFSETFROM:-0400
TZOFFSETTO:-0500
TZNAME:EST
DTSTART:20201101T060000
END:STANDARD
BEGIN:DAYLIGHT
TZOFFSETFROM:-0500
TZOFFSETTO:-0400
TZNAME:EDT
DTSTART:20210314T070000
END:DAYLIGHT
BEGIN:STANDARD
TZOFFSETFROM:-0400
TZOFFSETTO:-0500
TZNAME:EST
DTSTART:20211107T060000
END:STANDARD
BEGIN:DAYLIGHT
TZOFFSETFROM:-0500
TZOFFSETTO:-0400
TZNAME:EDT
DTSTART:20220313T070000
END:DAYLIGHT
BEGIN:STANDARD
TZOFFSETFROM:-0400
TZOFFSETTO:-0500
TZNAME:EST
DTSTART:20221106T060000
END:STANDARD
END:VTIMEZONE
BEGIN:VEVENT
DTSTART;TZID=America/New_York:20211215T183000
DTEND;TZID=America/New_York:20211215T203000
DTSTAMP:20260423T073607
CREATED:20211021T150921Z
LAST-MODIFIED:20211021T150921Z
UID:10004468-1639593000-1639600200@newsuat.fordham.edu
SUMMARY:2021 Hartford Presidential Reception
DESCRIPTION:The Fordham Alumni Chapter of Hartford and Joseph M. McShane\, S.J.\, president of Fordham University\, cordially invite you to a reception for alumni\, parents\, and friends. We hope you’ll join us in wishing Father McShane a fond farewell as he prepares to step down as president at the end of this academic year. \nThis event costs $30 per person and includes heavy hors d’oeuvres\, beer\, and wine. \nPlease consider making a gift of $25 or more to support Fordham.
URL:https://newsuat.fordham.edu/event/2021-hartford-presidential-reception/
LOCATION:Bond Ballroom\, 338 Asylum Street\, Hartford\, CT\, 06103\, United States
CATEGORIES:Receptions
ORGANIZER;CN="Office of Alumni Relations":MAILTO:alumnioffice@fordham.edu
END:VEVENT
END:VCALENDAR