BEGIN:VCALENDAR
VERSION:2.0
PRODID:-//Fordham Now - ECPv6.15.20//NONSGML v1.0//EN
CALSCALE:GREGORIAN
METHOD:PUBLISH
X-ORIGINAL-URL:https://newsuat.fordham.edu
X-WR-CALDESC:Events for Fordham Now
REFRESH-INTERVAL;VALUE=DURATION:PT1H
X-Robots-Tag:noindex
X-PUBLISHED-TTL:PT1H
BEGIN:VTIMEZONE
TZID:America/New_York
BEGIN:DAYLIGHT
TZOFFSETFROM:-0500
TZOFFSETTO:-0400
TZNAME:EDT
DTSTART:20180311T070000
END:DAYLIGHT
BEGIN:STANDARD
TZOFFSETFROM:-0400
TZOFFSETTO:-0500
TZNAME:EST
DTSTART:20181104T060000
END:STANDARD
BEGIN:DAYLIGHT
TZOFFSETFROM:-0500
TZOFFSETTO:-0400
TZNAME:EDT
DTSTART:20190310T070000
END:DAYLIGHT
BEGIN:STANDARD
TZOFFSETFROM:-0400
TZOFFSETTO:-0500
TZNAME:EST
DTSTART:20191103T060000
END:STANDARD
BEGIN:DAYLIGHT
TZOFFSETFROM:-0500
TZOFFSETTO:-0400
TZNAME:EDT
DTSTART:20200308T070000
END:DAYLIGHT
BEGIN:STANDARD
TZOFFSETFROM:-0400
TZOFFSETTO:-0500
TZNAME:EST
DTSTART:20201101T060000
END:STANDARD
END:VTIMEZONE
BEGIN:VEVENT
DTSTART;TZID=America/New_York:20190515T170000
DTEND;TZID=America/New_York:20190515T183000
DTSTAMP:20260425T173620
CREATED:20190415T190608Z
LAST-MODIFIED:20190415T190608Z
UID:10007047-1557939600-1557945000@newsuat.fordham.edu
SUMMARY:Spring Happy Hour with John Skelton
DESCRIPTION:Please join us for drinks and appetizers and meet Fordham alumnus John Skelton. Skelton played football as a quarterback at Fordham and was drafted by the Arizona Cardinals in the fifth round of the 2010 NFL Draft. He was also a member of the Cincinnati Bengals\, San Francisco 49ers\, Tennessee Titans\, and Montreal Alouettes.
URL:https://newsuat.fordham.edu/event/spring-happy-hour-with-john-skelton/
LOCATION:Bluewater Grill Seafood\, 1720 East Camelback Road\, Phoenix\, AZ\, 85016\, United States
CATEGORIES:Social
ORGANIZER;CN="Natalie Gerity":MAILTO:Natalie@arizonamediation.com
END:VEVENT
END:VCALENDAR