BEGIN:VCALENDAR
VERSION:2.0
PRODID:-//Fordham Now - ECPv6.15.20//NONSGML v1.0//EN
CALSCALE:GREGORIAN
METHOD:PUBLISH
X-ORIGINAL-URL:https://newsuat.fordham.edu
X-WR-CALDESC:Events for Fordham Now
REFRESH-INTERVAL;VALUE=DURATION:PT1H
X-Robots-Tag:noindex
X-PUBLISHED-TTL:PT1H
BEGIN:VTIMEZONE
TZID:America/New_York
BEGIN:DAYLIGHT
TZOFFSETFROM:-0500
TZOFFSETTO:-0400
TZNAME:EDT
DTSTART:20200308T070000
END:DAYLIGHT
BEGIN:STANDARD
TZOFFSETFROM:-0400
TZOFFSETTO:-0500
TZNAME:EST
DTSTART:20201101T060000
END:STANDARD
BEGIN:DAYLIGHT
TZOFFSETFROM:-0500
TZOFFSETTO:-0400
TZNAME:EDT
DTSTART:20210314T070000
END:DAYLIGHT
BEGIN:STANDARD
TZOFFSETFROM:-0400
TZOFFSETTO:-0500
TZNAME:EST
DTSTART:20211107T060000
END:STANDARD
BEGIN:DAYLIGHT
TZOFFSETFROM:-0500
TZOFFSETTO:-0400
TZNAME:EDT
DTSTART:20220313T070000
END:DAYLIGHT
BEGIN:STANDARD
TZOFFSETFROM:-0400
TZOFFSETTO:-0500
TZNAME:EST
DTSTART:20221106T060000
END:STANDARD
END:VTIMEZONE
BEGIN:VEVENT
DTSTART;TZID=America/New_York:20211110T180000
DTEND;TZID=America/New_York:20211110T200000
DTSTAMP:20260425T131952
CREATED:20211006T142715Z
LAST-MODIFIED:20211006T142715Z
UID:10004458-1636567200-1636574400@newsuat.fordham.edu
SUMMARY:Alumni Chapter of Northern California: Welcome to the Neighborhood
DESCRIPTION:Calling all recent graduates! Have you recently graduated from Fordham or just moved to the area? Join the Fordham Alumni Chapter of Northern California as we welcome new alumni to the neighborhood at Black Magic Voodoo Lounge. Whether you are looking to network or just make some friendly Fordham connections\, we hope you’ll join us for a fun evening with fellow Rams! \nAll Fordham alumni\, parents\, and friends are welcome to attend the event. Attendees will receive one complimentary drink.
URL:https://newsuat.fordham.edu/event/alumni-chapter-of-northern-california-welcome-to-the-neighborhood/
LOCATION:Black Magic Voodoo Lounge\, 1400 Lombard St.\, San Francisco\, 94123\, United States
CATEGORIES:Networking and Career,Social
ORGANIZER;CN="Alumni Chapter of Northern California":MAILTO:markadigiorgio@att.net
END:VEVENT
END:VCALENDAR